{"text_format":"1","workbook":"xlsx","n_sheets":4,"sheets":["ORARIO","TOT ORE","DATI","ANNO"],"not_rendered":{"charts":0,"images":1,"macros":1,"external_links":0,"defined_names":1,"comments":0,"pivot_tables":0},"unopened":[],"bounds":{"document_bytes":16777216,"sheet_cells":100000,"rows_first":2000,"rows_last":500,"rows_between":2000,"halvings":0,"cell_chars":16384,"cell_head_chars":4096},"cells_cut":0,"cells_raw":0,"read":"whole","date_system":"1900"}

{"sheet":"ORARIO","index":0,"n_rows":33,"n_cols":55,"rows_kept":33,"cut":false,"hidden":false,"merged":[[32,32,32,54],[4,53,4,54],[5,53,5,54],[6,53,6,54],[15,2,15,24],[20,26,20,27],[21,26,21,27],[22,26,22,27],[23,26,23,27],[29,30,32,30],[13,53,13,54],[30,26,30,27],[31,26,31,27],[32,26,32,27],[24,26,24,27],[25,26,25,27],[1,53,2,54],[17,26,17,27],[19,26,19,27],[7,53,7,54],[8,53,8,54],[9,53,9,54],[10,53,10,54],[11,53,11,54],[12,53,12,54],[15,30,15,54],[1,38,1,40],[1,44,1,46],[26,26,26,27],[27,26,27,27],[28,26,28,27],[29,26,29,27],[1,2,1,11],[1,12,1,17]]}
[]
[null,null,"PROGRAMMA SETTIMANALE",null,null,null,null,null,null,null,null,null,"n° settimana",null,null,null,null,null,{"$f":"_xlfn.ISOWEEKNUM(TODAY())","v":44},null,null,null,null,null,null,null,null,null,null,null,null,null,null,null,null,null,"dal",null,{"$f":"VLOOKUP($S$2,ANNO!$B$5:$D$56,2,0)","v":"2019-10-28"},null,null,null,"al",null,{"$f":"VLOOKUP($S$2,ANNO!$B$5:$D$56,3,0)","v":"2019-11-01"},null,null,null,null,null,null,null,null,"%\nCLASSI\nORA"]
[null,null,"LUNEDÌ",null,null,null,null,null,null,null,null,null,"MARTEDÌ",null,null,null,null,null,null,null,null,null,"MERCOLEDÌ",null,null,null,null,null,null,null,null,null,"GIOVEDÌ",null,null,null,null,null,null,null,null,null,"VENERDÌ"]
[null,"ORA","1. C.",null,"2. C.",null,"3. C.",null,"4. C.",null,"5. C.",null,"1. C.",null,"2. C.",null,"3. C.",null,"4. C.",null,"5. C.",null,"1. C.",null,"2. C.",null,"3. C.",null,"4. C.",null,"5. C.",null,"1. C.",null,"2. C.",null,"3. C.",null,"4. C.",null,"5. C.",null,"1. C.",null,"2. C.",null,"3. C.",null,"4. C.",null,"5. C."]
[null,1,"A SLO",null,null,null,"A slo",null,null,null,null,null,null,null,null,null,"A nar",null,null,null,null,null,"F ang",null,null,null,null,null,null,null,null,null,"F ver",null,null,null,null,null,null,null,null,null,null,null,"A ita",null,null,null,null,null,"A ita",null,null,{"$f":"COUNTA($C5:$AZ5)/25","v":0.28000000000000003}]
[null,2,"F geo",null,null,null,null,null,null,null,null,null,"A GLA",null,null,null,null,null,null,null,null,null,null,null,null,null,null,null,null,null,null,null,null,null,null,null,null,null,null,null,null,null,null,null,null,null,null,null,null,null,null,null,null,{"$f":"COUNTA($C6:$AZ6)/25","v":0.08}]
[null,3,"C geo",null,null,null,null,null,null,null,null,null,"A VER",null,null,null,null,null,null,null,null,null,null,null,"B ZGO",null,null,null,null,null,"F gla",null,null,null,null,null,null,null,null,null,null,null,null,null,"E zgo",null,null,null,null,null,null,null,null,0.2]
[null,null,null,null,null,null,null,null,null,null,null,null,null,null,null,null,null,null,null,null,null,null,null,null,null,null,null,null,null,null,null,null,null,null,null,null,null,null,null,null,null,null,null,null,null,null,null,null,null,null,null,null,null,0]
[null,4,"C mat",null,null,null,null,null,null,null,null,null,null,null,null,null,"E ita",null,null,null,null,null,"A ang",null,null,null,null,null,null,null,"A ang",null,null,null,null,null,null,null,null,null,null,null,null,null,null,null,null,null,null,null,"F slo",null,null,0.2]
[null,5,"F ita",null,null,null,null,null,"G ver",null,null,null,null,null,null,null,null,null,null,null,null,null,null,null,null,null,null,null,null,null,null,null,null,null,null,null,null,null,null,null,null,null,null,null,null,null,null,null,null,null,null,null,null,0.08]
[null,null,null,null,null,null,null,null,null,null,null,null,null,null,null,null,null,null,null,null,null,null,null,null,null,null,null,null,null,null,null,null,null,null,null,null,null,null,null,null,null,null,null,null,null,null,null,null,null,null,null,null,null,0]
[null,6,"B mat",null,null,null,null,null,null,null,null,null,null,null,null,null,null,null,null,null,null,null,"F ver",null,null,null,null,null,null,null,null,null,null,null,null,null,null,null,null,null,null,null,null,null,null,null,null,null,null,null,null,null,null,0.08]
[null,7,"A slo",null,null,null,null,null,null,null,null,null,null,null,null,null,null,null,null,null,null,null,null,null,null,null,null,null,null,null,null,null,null,null,null,null,null,null,null,null,null,null,null,null,null,null,null,null,null,null,"A ang",null,null,0.08]
[null,8,"A mat",null,null,null,null,null,null,null,null,null,null,null,null,null,null,null,null,null,null,null,null,null,null,null,null,null,null,null,null,null,null,null,null,null,null,null,null,null,null,null,null,null,null,null,null,null,null,null,null,null,null,0.04]
[]
[null,null,"ORE PER INSEGNANTI",null,null,null,null,null,null,null,null,null,null,null,null,null,null,null,null,null,null,null,null,null,null,null,null,null,null,null,"ORE PER CLASSE"]
[]
[null,null,"SLO",null,"ITA",null,"ANG",null,"MAT",null,"NAR",null,"ZGO",null,"GEO",null,"LIK",null,"GLA",null,"TEL",null,"VER",null,"SOP",null,"TOTALE",null,null,null,null,null,"SLO",null,"ITA",null,"ANG",null,"MAT",null,"NAR",null,"ZGO",null,"GEO",null,"LIK",null,"GLA",null,"TEL",null,"VER",null,"SOP"]
[null,"Insegnante"]
[null,"A",{"$f":"SUMPRODUCT(--('TOT ORE'!$C$4:$AT$87>0)*('TOT ORE'!$B$4:$B$87=$B20&\" \"&C$18))","v":2},{"$f":"SUMPRODUCT(--('TOT ORE'!$C$4:$AT$87>0)*('TOT ORE'!$B$4:$B$87=$B20&\" \"&D$18))","v":0},{"$f":"SUMPRODUCT(--('TOT ORE'!$C$4:$AT$87>0)*('TOT ORE'!$B$4:$B$87=$B20&\" \"&E$18))","v":0},{"$f":"SUMPRODUCT(--('TOT ORE'!$C$4:$AT$87>0)*('TOT ORE'!$B$4:$B$87=$B20&\" \"&F$18))","v":0},{"$f":"SUMPRODUCT(--('TOT ORE'!$C$4:$AT$87>0)*('TOT ORE'!$B$4:$B$87=$B20&\" \"&G$18))","v":1},{"$f":"SUMPRODUCT(--('TOT ORE'!$C$4:$AT$87>0)*('TOT ORE'!$B$4:$B$87=$B20&\" \"&H$18))","v":0},{"$f":"SUMPRODUCT(--('TOT ORE'!$C$4:$AT$87>0)*('TOT ORE'!$B$4:$B$87=$B20&\" \"&I$18))","v":1},{"$f":"SUMPRODUCT(--('TOT ORE'!$C$4:$AT$87>0)*('TOT ORE'!$B$4:$B$87=$B20&\" \"&J$18))","v":0},{"$f":"SUMPRODUCT(--('TOT ORE'!$C$4:$AT$87>0)*('TOT ORE'!$B$4:$B$87=$B20&\" \"&K$18))","v":1},{"$f":"SUMPRODUCT(--('TOT ORE'!$C$4:$AT$87>0)*('TOT ORE'!$B$4:$B$87=$B20&\" \"&L$18))","v":0},{"$f":"SUMPRODUCT(--('TOT ORE'!$C$4:$AT$87>0)*('TOT ORE'!$B$4:$B$87=$B20&\" \"&M$18))","v":0},{"$f":"SUMPRODUCT(--('TOT ORE'!$C$4:$AT$87>0)*('TOT ORE'!$B$4:$B$87=$B20&\" \"&N$18))","v":0},{"$f":"SUMPRODUCT(--('TOT ORE'!$C$4:$AT$87>0)*('TOT ORE'!$B$4:$B$87=$B20&\" \"&O$18))","v":0},{"$f":"SUMPRODUCT(--('TOT ORE'!$C$4:$AT$87>0)*('TOT ORE'!$B$4:$B$87=$B20&\" \"&P$18))","v":0},{"$f":"SUMPRODUCT(--('TOT ORE'!$C$4:$AT$87>0)*('TOT ORE'!$B$4:$B$87=$B20&\" \"&Q$18))","v":0},{"$f":"SUMPRODUCT(--('TOT ORE'!$C$4:$AT$87>0)*('TOT ORE'!$B$4:$B$87=$B20&\" \"&R$18))","v":0},{"$f":"SUMPRODUCT(--('TOT ORE'!$C$4:$AT$87>0)*('TOT ORE'!$B$4:$B$87=$B20&\" \"&S$18))","v":1},{"$f":"SUMPRODUCT(--('TOT ORE'!$C$4:$AT$87>0)*('TOT ORE'!$B$4:$B$87=$B20&\" \"&T$18))","v":0},{"$f":"SUMPRODUCT(--('TOT ORE'!$C$4:$AT$87>0)*('TOT ORE'!$B$4:$B$87=$B20&\" \"&U$18))","v":0},{"$f":"SUMPRODUCT(--('TOT ORE'!$C$4:$AT$87>0)*('TOT ORE'!$B$4:$B$87=$B20&\" \"&V$18))","v":0},{"$f":"SUMPRODUCT(--('TOT ORE'!$C$4:$AT$87>0)*('TOT ORE'!$B$4:$B$87=$B20&\" \"&W$18))","v":1},{"$f":"SUMPRODUCT(--('TOT ORE'!$C$4:$AT$87>0)*('TOT ORE'!$B$4:$B$87=$B20&\" \"&X$18))","v":0},{"$f":"SUMPRODUCT(--('TOT ORE'!$C$4:$AT$87>0)*('TOT ORE'!$B$4:$B$87=$B20&\" \"&Y$18))","v":0},null,{"$f":"SUM($C20:$Y20)","v":7},null,null,null,"1. C.",null,{"$f":"IFERROR(SUMPRODUCT(($C$4:$AY$4=$AE20)*(RIGHT($C$5:$AY$14,3)=AG$18)*($C$5:$AY$14<>\"\")),\"\")","v":2},0,1,0,2,0,3,0,0,0,{"$f":"IFERROR(SUMPRODUCT(($C$4:$AY$4=$AE20)*(RIGHT($C$5:$AY$14,3)=AQ$18)*($C$5:$AY$14<>\"\")),\"\")","v":0},0,2,0,0,0,1,0,0,0,3,0,0]
[null,"B",{"$f":"SUMPRODUCT(--('TOT ORE'!$C$4:$AT$87>0)*('TOT ORE'!$B$4:$B$87=$B21&\" \"&C$18))","v":0},{"$f":"SUMPRODUCT(--('TOT ORE'!$C$4:$AT$87>0)*('TOT ORE'!$B$4:$B$87=$B21&\" \"&D$18))","v":0},{"$f":"SUMPRODUCT(--('TOT ORE'!$C$4:$AT$87>0)*('TOT ORE'!$B$4:$B$87=$B21&\" \"&E$18))","v":0},{"$f":"SUMPRODUCT(--('TOT ORE'!$C$4:$AT$87>0)*('TOT ORE'!$B$4:$B$87=$B21&\" \"&F$18))","v":0},{"$f":"SUMPRODUCT(--('TOT ORE'!$C$4:$AT$87>0)*('TOT ORE'!$B$4:$B$87=$B21&\" \"&G$18))","v":0},{"$f":"SUMPRODUCT(--('TOT ORE'!$C$4:$AT$87>0)*('TOT ORE'!$B$4:$B$87=$B21&\" \"&H$18))","v":0},{"$f":"SUMPRODUCT(--('TOT ORE'!$C$4:$AT$87>0)*('TOT ORE'!$B$4:$B$87=$B21&\" \"&I$18))","v":1},{"$f":"SUMPRODUCT(--('TOT ORE'!$C$4:$AT$87>0)*('TOT ORE'!$B$4:$B$87=$B21&\" \"&J$18))","v":0},{"$f":"SUMPRODUCT(--('TOT ORE'!$C$4:$AT$87>0)*('TOT ORE'!$B$4:$B$87=$B21&\" \"&K$18))","v":0},{"$f":"SUMPRODUCT(--('TOT ORE'!$C$4:$AT$87>0)*('TOT ORE'!$B$4:$B$87=$B21&\" \"&L$18))","v":0},{"$f":"SUMPRODUCT(--('TOT ORE'!$C$4:$AT$87>0)*('TOT ORE'!$B$4:$B$87=$B21&\" \"&M$18))","v":1},{"$f":"SUMPRODUCT(--('TOT ORE'!$C$4:$AT$87>0)*('TOT ORE'!$B$4:$B$87=$B21&\" \"&N$18))","v":0},{"$f":"SUMPRODUCT(--('TOT ORE'!$C$4:$AT$87>0)*('TOT ORE'!$B$4:$B$87=$B21&\" \"&O$18))","v":0},{"$f":"SUMPRODUCT(--('TOT ORE'!$C$4:$AT$87>0)*('TOT ORE'!$B$4:$B$87=$B21&\" \"&P$18))","v":0},{"$f":"SUMPRODUCT(--('TOT ORE'!$C$4:$AT$87>0)*('TOT ORE'!$B$4:$B$87=$B21&\" \"&Q$18))","v":0},{"$f":"SUMPRODUCT(--('TOT ORE'!$C$4:$AT$87>0)*('TOT ORE'!$B$4:$B$87=$B21&\" \"&R$18))","v":0},{"$f":"SUMPRODUCT(--('TOT ORE'!$C$4:$AT$87>0)*('TOT ORE'!$B$4:$B$87=$B21&\" \"&S$18))","v":0},{"$f":"SUMPRODUCT(--('TOT ORE'!$C$4:$AT$87>0)*('TOT ORE'!$B$4:$B$87=$B21&\" \"&T$18))","v":0},{"$f":"SUMPRODUCT(--('TOT ORE'!$C$4:$AT$87>0)*('TOT ORE'!$B$4:$B$87=$B21&\" \"&U$18))","v":0},{"$f":"SUMPRODUCT(--('TOT ORE'!$C$4:$AT$87>0)*('TOT ORE'!$B$4:$B$87=$B21&\" \"&V$18))","v":0},{"$f":"SUMPRODUCT(--('TOT ORE'!$C$4:$AT$87>0)*('TOT ORE'!$B$4:$B$87=$B21&\" \"&W$18))","v":0},{"$f":"SUMPRODUCT(--('TOT ORE'!$C$4:$AT$87>0)*('TOT ORE'!$B$4:$B$87=$B21&\" \"&X$18))","v":0},{"$f":"SUMPRODUCT(--('TOT ORE'!$C$4:$AT$87>0)*('TOT ORE'!$B$4:$B$87=$B21&\" \"&Y$18))","v":0},null,{"$f":"SUM($C21:$Y21)","v":2},null,null,null,"2. C.",null,0,0,1,0,0,0,0,0,0,0,2,0,0,0,0,0,0,0,0,0,0,0,0]
[null,"C",{"$f":"SUMPRODUCT(--('TOT ORE'!$C$4:$AT$87>0)*('TOT ORE'!$B$4:$B$87=$B22&\" \"&C$18))","v":0},{"$f":"SUMPRODUCT(--('TOT ORE'!$C$4:$AT$87>0)*('TOT ORE'!$B$4:$B$87=$B22&\" \"&D$18))","v":0},{"$f":"SUMPRODUCT(--('TOT ORE'!$C$4:$AT$87>0)*('TOT ORE'!$B$4:$B$87=$B22&\" \"&E$18))","v":0},{"$f":"SUMPRODUCT(--('TOT ORE'!$C$4:$AT$87>0)*('TOT ORE'!$B$4:$B$87=$B22&\" \"&F$18))","v":0},{"$f":"SUMPRODUCT(--('TOT ORE'!$C$4:$AT$87>0)*('TOT ORE'!$B$4:$B$87=$B22&\" \"&G$18))","v":0},{"$f":"SUMPRODUCT(--('TOT ORE'!$C$4:$AT$87>0)*('TOT ORE'!$B$4:$B$87=$B22&\" \"&H$18))","v":0},{"$f":"SUMPRODUCT(--('TOT ORE'!$C$4:$AT$87>0)*('TOT ORE'!$B$4:$B$87=$B22&\" \"&I$18))","v":1},{"$f":"SUMPRODUCT(--('TOT ORE'!$C$4:$AT$87>0)*('TOT ORE'!$B$4:$B$87=$B22&\" \"&J$18))","v":0},{"$f":"SUMPRODUCT(--('TOT ORE'!$C$4:$AT$87>0)*('TOT ORE'!$B$4:$B$87=$B22&\" \"&K$18))","v":0},{"$f":"SUMPRODUCT(--('TOT ORE'!$C$4:$AT$87>0)*('TOT ORE'!$B$4:$B$87=$B22&\" \"&L$18))","v":0},{"$f":"SUMPRODUCT(--('TOT ORE'!$C$4:$AT$87>0)*('TOT ORE'!$B$4:$B$87=$B22&\" \"&M$18))","v":0},{"$f":"SUMPRODUCT(--('TOT ORE'!$C$4:$AT$87>0)*('TOT ORE'!$B$4:$B$87=$B22&\" \"&N$18))","v":0},{"$f":"SUMPRODUCT(--('TOT ORE'!$C$4:$AT$87>0)*('TOT ORE'!$B$4:$B$87=$B22&\" \"&O$18))","v":1},{"$f":"SUMPRODUCT(--('TOT ORE'!$C$4:$AT$87>0)*('TOT ORE'!$B$4:$B$87=$B22&\" \"&P$18))","v":0},{"$f":"SUMPRODUCT(--('TOT ORE'!$C$4:$AT$87>0)*('TOT ORE'!$B$4:$B$87=$B22&\" \"&Q$18))","v":0},{"$f":"SUMPRODUCT(--('TOT ORE'!$C$4:$AT$87>0)*('TOT ORE'!$B$4:$B$87=$B22&\" \"&R$18))","v":0},{"$f":"SUMPRODUCT(--('TOT ORE'!$C$4:$AT$87>0)*('TOT ORE'!$B$4:$B$87=$B22&\" \"&S$18))","v":0},{"$f":"SUMPRODUCT(--('TOT ORE'!$C$4:$AT$87>0)*('TOT ORE'!$B$4:$B$87=$B22&\" \"&T$18))","v":0},{"$f":"SUMPRODUCT(--('TOT ORE'!$C$4:$AT$87>0)*('TOT ORE'!$B$4:$B$87=$B22&\" \"&U$18))","v":0},{"$f":"SUMPRODUCT(--('TOT ORE'!$C$4:$AT$87>0)*('TOT ORE'!$B$4:$B$87=$B22&\" \"&V$18))","v":0},{"$f":"SUMPRODUCT(--('TOT ORE'!$C$4:$AT$87>0)*('TOT ORE'!$B$4:$B$87=$B22&\" \"&W$18))","v":0},{"$f":"SUMPRODUCT(--('TOT ORE'!$C$4:$AT$87>0)*('TOT ORE'!$B$4:$B$87=$B22&\" \"&X$18))","v":0},{"$f":"SUMPRODUCT(--('TOT ORE'!$C$4:$AT$87>0)*('TOT ORE'!$B$4:$B$87=$B22&\" \"&Y$18))","v":0},null,2,null,null,null,"3. C.",null,1,0,1,0,0,0,0,0,1,0,0,0,0,0,0,0,0,0,0,0,0,0,0]
[null,"D",{"$f":"SUMPRODUCT(--('TOT ORE'!$C$4:$AT$87>0)*('TOT ORE'!$B$4:$B$87=$B23&\" \"&C$18))","v":0},{"$f":"SUMPRODUCT(--('TOT ORE'!$C$4:$AT$87>0)*('TOT ORE'!$B$4:$B$87=$B23&\" \"&D$18))","v":0},{"$f":"SUMPRODUCT(--('TOT ORE'!$C$4:$AT$87>0)*('TOT ORE'!$B$4:$B$87=$B23&\" \"&E$18))","v":0},{"$f":"SUMPRODUCT(--('TOT ORE'!$C$4:$AT$87>0)*('TOT ORE'!$B$4:$B$87=$B23&\" \"&F$18))","v":0},{"$f":"SUMPRODUCT(--('TOT ORE'!$C$4:$AT$87>0)*('TOT ORE'!$B$4:$B$87=$B23&\" \"&G$18))","v":0},{"$f":"SUMPRODUCT(--('TOT ORE'!$C$4:$AT$87>0)*('TOT ORE'!$B$4:$B$87=$B23&\" \"&H$18))","v":0},{"$f":"SUMPRODUCT(--('TOT ORE'!$C$4:$AT$87>0)*('TOT ORE'!$B$4:$B$87=$B23&\" \"&I$18))","v":0},{"$f":"SUMPRODUCT(--('TOT ORE'!$C$4:$AT$87>0)*('TOT ORE'!$B$4:$B$87=$B23&\" \"&J$18))","v":0},{"$f":"SUMPRODUCT(--('TOT ORE'!$C$4:$AT$87>0)*('TOT ORE'!$B$4:$B$87=$B23&\" \"&K$18))","v":0},{"$f":"SUMPRODUCT(--('TOT ORE'!$C$4:$AT$87>0)*('TOT ORE'!$B$4:$B$87=$B23&\" \"&L$18))","v":0},{"$f":"SUMPRODUCT(--('TOT ORE'!$C$4:$AT$87>0)*('TOT ORE'!$B$4:$B$87=$B23&\" \"&M$18))","v":0},{"$f":"SUMPRODUCT(--('TOT ORE'!$C$4:$AT$87>0)*('TOT ORE'!$B$4:$B$87=$B23&\" \"&N$18))","v":0},{"$f":"SUMPRODUCT(--('TOT ORE'!$C$4:$AT$87>0)*('TOT ORE'!$B$4:$B$87=$B23&\" \"&O$18))","v":0},{"$f":"SUMPRODUCT(--('TOT ORE'!$C$4:$AT$87>0)*('TOT ORE'!$B$4:$B$87=$B23&\" \"&P$18))","v":0},{"$f":"SUMPRODUCT(--('TOT ORE'!$C$4:$AT$87>0)*('TOT ORE'!$B$4:$B$87=$B23&\" \"&Q$18))","v":0},{"$f":"SUMPRODUCT(--('TOT ORE'!$C$4:$AT$87>0)*('TOT ORE'!$B$4:$B$87=$B23&\" \"&R$18))","v":0},{"$f":"SUMPRODUCT(--('TOT ORE'!$C$4:$AT$87>0)*('TOT ORE'!$B$4:$B$87=$B23&\" \"&S$18))","v":0},{"$f":"SUMPRODUCT(--('TOT ORE'!$C$4:$AT$87>0)*('TOT ORE'!$B$4:$B$87=$B23&\" \"&T$18))","v":0},{"$f":"SUMPRODUCT(--('TOT ORE'!$C$4:$AT$87>0)*('TOT ORE'!$B$4:$B$87=$B23&\" \"&U$18))","v":0},{"$f":"SUMPRODUCT(--('TOT ORE'!$C$4:$AT$87>0)*('TOT ORE'!$B$4:$B$87=$B23&\" \"&V$18))","v":0},{"$f":"SUMPRODUCT(--('TOT ORE'!$C$4:$AT$87>0)*('TOT ORE'!$B$4:$B$87=$B23&\" \"&W$18))","v":0},{"$f":"SUMPRODUCT(--('TOT ORE'!$C$4:$AT$87>0)*('TOT ORE'!$B$4:$B$87=$B23&\" \"&X$18))","v":0},{"$f":"SUMPRODUCT(--('TOT ORE'!$C$4:$AT$87>0)*('TOT ORE'!$B$4:$B$87=$B23&\" \"&Y$18))","v":0},null,0,null,null,null,"4. C.",null,0,0,0,0,0,0,0,0,0,0,0,0,0,0,0,0,0,0,0,0,1,0,0]
[null,"E",{"$f":"SUMPRODUCT(--('TOT ORE'!$C$4:$AT$87>0)*('TOT ORE'!$B$4:$B$87=$B24&\" \"&C$18))","v":0},{"$f":"SUMPRODUCT(--('TOT ORE'!$C$4:$AT$87>0)*('TOT ORE'!$B$4:$B$87=$B24&\" \"&D$18))","v":0},{"$f":"SUMPRODUCT(--('TOT ORE'!$C$4:$AT$87>0)*('TOT ORE'!$B$4:$B$87=$B24&\" \"&E$18))","v":1},{"$f":"SUMPRODUCT(--('TOT ORE'!$C$4:$AT$87>0)*('TOT ORE'!$B$4:$B$87=$B24&\" \"&F$18))","v":0},{"$f":"SUMPRODUCT(--('TOT ORE'!$C$4:$AT$87>0)*('TOT ORE'!$B$4:$B$87=$B24&\" \"&G$18))","v":0},{"$f":"SUMPRODUCT(--('TOT ORE'!$C$4:$AT$87>0)*('TOT ORE'!$B$4:$B$87=$B24&\" \"&H$18))","v":0},{"$f":"SUMPRODUCT(--('TOT ORE'!$C$4:$AT$87>0)*('TOT ORE'!$B$4:$B$87=$B24&\" \"&I$18))","v":0},{"$f":"SUMPRODUCT(--('TOT ORE'!$C$4:$AT$87>0)*('TOT ORE'!$B$4:$B$87=$B24&\" \"&J$18))","v":0},{"$f":"SUMPRODUCT(--('TOT ORE'!$C$4:$AT$87>0)*('TOT ORE'!$B$4:$B$87=$B24&\" \"&K$18))","v":0},{"$f":"SUMPRODUCT(--('TOT ORE'!$C$4:$AT$87>0)*('TOT ORE'!$B$4:$B$87=$B24&\" \"&L$18))","v":0},{"$f":"SUMPRODUCT(--('TOT ORE'!$C$4:$AT$87>0)*('TOT ORE'!$B$4:$B$87=$B24&\" \"&M$18))","v":0},{"$f":"SUMPRODUCT(--('TOT ORE'!$C$4:$AT$87>0)*('TOT ORE'!$B$4:$B$87=$B24&\" \"&N$18))","v":0},{"$f":"SUMPRODUCT(--('TOT ORE'!$C$4:$AT$87>0)*('TOT ORE'!$B$4:$B$87=$B24&\" \"&O$18))","v":0},{"$f":"SUMPRODUCT(--('TOT ORE'!$C$4:$AT$87>0)*('TOT ORE'!$B$4:$B$87=$B24&\" \"&P$18))","v":0},{"$f":"SUMPRODUCT(--('TOT ORE'!$C$4:$AT$87>0)*('TOT ORE'!$B$4:$B$87=$B24&\" \"&Q$18))","v":0},{"$f":"SUMPRODUCT(--('TOT ORE'!$C$4:$AT$87>0)*('TOT ORE'!$B$4:$B$87=$B24&\" \"&R$18))","v":0},{"$f":"SUMPRODUCT(--('TOT ORE'!$C$4:$AT$87>0)*('TOT ORE'!$B$4:$B$87=$B24&\" \"&S$18))","v":0},{"$f":"SUMPRODUCT(--('TOT ORE'!$C$4:$AT$87>0)*('TOT ORE'!$B$4:$B$87=$B24&\" \"&T$18))","v":0},{"$f":"SUMPRODUCT(--('TOT ORE'!$C$4:$AT$87>0)*('TOT ORE'!$B$4:$B$87=$B24&\" \"&U$18))","v":0},{"$f":"SUMPRODUCT(--('TOT ORE'!$C$4:$AT$87>0)*('TOT ORE'!$B$4:$B$87=$B24&\" \"&V$18))","v":0},{"$f":"SUMPRODUCT(--('TOT ORE'!$C$4:$AT$87>0)*('TOT ORE'!$B$4:$B$87=$B24&\" \"&W$18))","v":0},{"$f":"SUMPRODUCT(--('TOT ORE'!$C$4:$AT$87>0)*('TOT ORE'!$B$4:$B$87=$B24&\" \"&X$18))","v":0},{"$f":"SUMPRODUCT(--('TOT ORE'!$C$4:$AT$87>0)*('TOT ORE'!$B$4:$B$87=$B24&\" \"&Y$18))","v":0},null,1,null,null,null,"5. C.",null,1,0,1,0,2,0,0,0,0,0,0,0,0,0,0,0,1,0,0,0,0,0,0]
[null,"F",{"$f":"SUMPRODUCT(--('TOT ORE'!$C$4:$AT$87>0)*('TOT ORE'!$B$4:$B$87=$B25&\" \"&C$18))","v":0},{"$f":"SUMPRODUCT(--('TOT ORE'!$C$4:$AT$87>0)*('TOT ORE'!$B$4:$B$87=$B25&\" \"&D$18))","v":0},{"$f":"SUMPRODUCT(--('TOT ORE'!$C$4:$AT$87>0)*('TOT ORE'!$B$4:$B$87=$B25&\" \"&E$18))","v":1},{"$f":"SUMPRODUCT(--('TOT ORE'!$C$4:$AT$87>0)*('TOT ORE'!$B$4:$B$87=$B25&\" \"&F$18))","v":0},{"$f":"SUMPRODUCT(--('TOT ORE'!$C$4:$AT$87>0)*('TOT ORE'!$B$4:$B$87=$B25&\" \"&G$18))","v":1},{"$f":"SUMPRODUCT(--('TOT ORE'!$C$4:$AT$87>0)*('TOT ORE'!$B$4:$B$87=$B25&\" \"&H$18))","v":0},{"$f":"SUMPRODUCT(--('TOT ORE'!$C$4:$AT$87>0)*('TOT ORE'!$B$4:$B$87=$B25&\" \"&I$18))","v":0},{"$f":"SUMPRODUCT(--('TOT ORE'!$C$4:$AT$87>0)*('TOT ORE'!$B$4:$B$87=$B25&\" \"&J$18))","v":0},{"$f":"SUMPRODUCT(--('TOT ORE'!$C$4:$AT$87>0)*('TOT ORE'!$B$4:$B$87=$B25&\" \"&K$18))","v":0},{"$f":"SUMPRODUCT(--('TOT ORE'!$C$4:$AT$87>0)*('TOT ORE'!$B$4:$B$87=$B25&\" \"&L$18))","v":0},{"$f":"SUMPRODUCT(--('TOT ORE'!$C$4:$AT$87>0)*('TOT ORE'!$B$4:$B$87=$B25&\" \"&M$18))","v":0},{"$f":"SUMPRODUCT(--('TOT ORE'!$C$4:$AT$87>0)*('TOT ORE'!$B$4:$B$87=$B25&\" \"&N$18))","v":0},{"$f":"SUMPRODUCT(--('TOT ORE'!$C$4:$AT$87>0)*('TOT ORE'!$B$4:$B$87=$B25&\" \"&O$18))","v":1},{"$f":"SUMPRODUCT(--('TOT ORE'!$C$4:$AT$87>0)*('TOT ORE'!$B$4:$B$87=$B25&\" \"&P$18))","v":0},{"$f":"SUMPRODUCT(--('TOT ORE'!$C$4:$AT$87>0)*('TOT ORE'!$B$4:$B$87=$B25&\" \"&Q$18))","v":0},{"$f":"SUMPRODUCT(--('TOT ORE'!$C$4:$AT$87>0)*('TOT ORE'!$B$4:$B$87=$B25&\" \"&R$18))","v":0},{"$f":"SUMPRODUCT(--('TOT ORE'!$C$4:$AT$87>0)*('TOT ORE'!$B$4:$B$87=$B25&\" \"&S$18))","v":0},{"$f":"SUMPRODUCT(--('TOT ORE'!$C$4:$AT$87>0)*('TOT ORE'!$B$4:$B$87=$B25&\" \"&T$18))","v":0},{"$f":"SUMPRODUCT(--('TOT ORE'!$C$4:$AT$87>0)*('TOT ORE'!$B$4:$B$87=$B25&\" \"&U$18))","v":0},{"$f":"SUMPRODUCT(--('TOT ORE'!$C$4:$AT$87>0)*('TOT ORE'!$B$4:$B$87=$B25&\" \"&V$18))","v":0},{"$f":"SUMPRODUCT(--('TOT ORE'!$C$4:$AT$87>0)*('TOT ORE'!$B$4:$B$87=$B25&\" \"&W$18))","v":1},{"$f":"SUMPRODUCT(--('TOT ORE'!$C$4:$AT$87>0)*('TOT ORE'!$B$4:$B$87=$B25&\" \"&X$18))","v":0},{"$f":"SUMPRODUCT(--('TOT ORE'!$C$4:$AT$87>0)*('TOT ORE'!$B$4:$B$87=$B25&\" \"&Y$18))","v":0},null,4]
[null,"G",{"$f":"SUMPRODUCT(--('TOT ORE'!$C$4:$AT$87>0)*('TOT ORE'!$B$4:$B$87=$B26&\" \"&C$18))","v":0},{"$f":"SUMPRODUCT(--('TOT ORE'!$C$4:$AT$87>0)*('TOT ORE'!$B$4:$B$87=$B26&\" \"&D$18))","v":0},{"$f":"SUMPRODUCT(--('TOT ORE'!$C$4:$AT$87>0)*('TOT ORE'!$B$4:$B$87=$B26&\" \"&E$18))","v":0},{"$f":"SUMPRODUCT(--('TOT ORE'!$C$4:$AT$87>0)*('TOT ORE'!$B$4:$B$87=$B26&\" \"&F$18))","v":0},{"$f":"SUMPRODUCT(--('TOT ORE'!$C$4:$AT$87>0)*('TOT ORE'!$B$4:$B$87=$B26&\" \"&G$18))","v":0},{"$f":"SUMPRODUCT(--('TOT ORE'!$C$4:$AT$87>0)*('TOT ORE'!$B$4:$B$87=$B26&\" \"&H$18))","v":0},{"$f":"SUMPRODUCT(--('TOT ORE'!$C$4:$AT$87>0)*('TOT ORE'!$B$4:$B$87=$B26&\" \"&I$18))","v":0},{"$f":"SUMPRODUCT(--('TOT ORE'!$C$4:$AT$87>0)*('TOT ORE'!$B$4:$B$87=$B26&\" \"&J$18))","v":0},{"$f":"SUMPRODUCT(--('TOT ORE'!$C$4:$AT$87>0)*('TOT ORE'!$B$4:$B$87=$B26&\" \"&K$18))","v":0},{"$f":"SUMPRODUCT(--('TOT ORE'!$C$4:$AT$87>0)*('TOT ORE'!$B$4:$B$87=$B26&\" \"&L$18))","v":0},{"$f":"SUMPRODUCT(--('TOT ORE'!$C$4:$AT$87>0)*('TOT ORE'!$B$4:$B$87=$B26&\" \"&M$18))","v":0},{"$f":"SUMPRODUCT(--('TOT ORE'!$C$4:$AT$87>0)*('TOT ORE'!$B$4:$B$87=$B26&\" \"&N$18))","v":0},{"$f":"SUMPRODUCT(--('TOT ORE'!$C$4:$AT$87>0)*('TOT ORE'!$B$4:$B$87=$B26&\" \"&O$18))","v":0},{"$f":"SUMPRODUCT(--('TOT ORE'!$C$4:$AT$87>0)*('TOT ORE'!$B$4:$B$87=$B26&\" \"&P$18))","v":0},{"$f":"SUMPRODUCT(--('TOT ORE'!$C$4:$AT$87>0)*('TOT ORE'!$B$4:$B$87=$B26&\" \"&Q$18))","v":0},{"$f":"SUMPRODUCT(--('TOT ORE'!$C$4:$AT$87>0)*('TOT ORE'!$B$4:$B$87=$B26&\" \"&R$18))","v":0},{"$f":"SUMPRODUCT(--('TOT ORE'!$C$4:$AT$87>0)*('TOT ORE'!$B$4:$B$87=$B26&\" \"&S$18))","v":0},{"$f":"SUMPRODUCT(--('TOT ORE'!$C$4:$AT$87>0)*('TOT ORE'!$B$4:$B$87=$B26&\" \"&T$18))","v":0},{"$f":"SUMPRODUCT(--('TOT ORE'!$C$4:$AT$87>0)*('TOT ORE'!$B$4:$B$87=$B26&\" \"&U$18))","v":0},{"$f":"SUMPRODUCT(--('TOT ORE'!$C$4:$AT$87>0)*('TOT ORE'!$B$4:$B$87=$B26&\" \"&V$18))","v":0},{"$f":"SUMPRODUCT(--('TOT ORE'!$C$4:$AT$87>0)*('TOT ORE'!$B$4:$B$87=$B26&\" \"&W$18))","v":1},{"$f":"SUMPRODUCT(--('TOT ORE'!$C$4:$AT$87>0)*('TOT ORE'!$B$4:$B$87=$B26&\" \"&X$18))","v":0},{"$f":"SUMPRODUCT(--('TOT ORE'!$C$4:$AT$87>0)*('TOT ORE'!$B$4:$B$87=$B26&\" \"&Y$18))","v":0},null,1]
[null,"H",{"$f":"SUMPRODUCT(--('TOT ORE'!$C$4:$AT$87>0)*('TOT ORE'!$B$4:$B$87=$B27&\" \"&C$18))","v":0},{"$f":"SUMPRODUCT(--('TOT ORE'!$C$4:$AT$87>0)*('TOT ORE'!$B$4:$B$87=$B27&\" \"&D$18))","v":0},{"$f":"SUMPRODUCT(--('TOT ORE'!$C$4:$AT$87>0)*('TOT ORE'!$B$4:$B$87=$B27&\" \"&E$18))","v":0},{"$f":"SUMPRODUCT(--('TOT ORE'!$C$4:$AT$87>0)*('TOT ORE'!$B$4:$B$87=$B27&\" \"&F$18))","v":0},{"$f":"SUMPRODUCT(--('TOT ORE'!$C$4:$AT$87>0)*('TOT ORE'!$B$4:$B$87=$B27&\" \"&G$18))","v":0},{"$f":"SUMPRODUCT(--('TOT ORE'!$C$4:$AT$87>0)*('TOT ORE'!$B$4:$B$87=$B27&\" \"&H$18))","v":0},{"$f":"SUMPRODUCT(--('TOT ORE'!$C$4:$AT$87>0)*('TOT ORE'!$B$4:$B$87=$B27&\" \"&I$18))","v":0},{"$f":"SUMPRODUCT(--('TOT ORE'!$C$4:$AT$87>0)*('TOT ORE'!$B$4:$B$87=$B27&\" \"&J$18))","v":0},{"$f":"SUMPRODUCT(--('TOT ORE'!$C$4:$AT$87>0)*('TOT ORE'!$B$4:$B$87=$B27&\" \"&K$18))","v":0},{"$f":"SUMPRODUCT(--('TOT ORE'!$C$4:$AT$87>0)*('TOT ORE'!$B$4:$B$87=$B27&\" \"&L$18))","v":0},{"$f":"SUMPRODUCT(--('TOT ORE'!$C$4:$AT$87>0)*('TOT ORE'!$B$4:$B$87=$B27&\" \"&M$18))","v":0},{"$f":"SUMPRODUCT(--('TOT ORE'!$C$4:$AT$87>0)*('TOT ORE'!$B$4:$B$87=$B27&\" \"&N$18))","v":0},{"$f":"SUMPRODUCT(--('TOT ORE'!$C$4:$AT$87>0)*('TOT ORE'!$B$4:$B$87=$B27&\" \"&O$18))","v":0},{"$f":"SUMPRODUCT(--('TOT ORE'!$C$4:$AT$87>0)*('TOT ORE'!$B$4:$B$87=$B27&\" \"&P$18))","v":0},{"$f":"SUMPRODUCT(--('TOT ORE'!$C$4:$AT$87>0)*('TOT ORE'!$B$4:$B$87=$B27&\" \"&Q$18))","v":0},{"$f":"SUMPRODUCT(--('TOT ORE'!$C$4:$AT$87>0)*('TOT ORE'!$B$4:$B$87=$B27&\" \"&R$18))","v":0},{"$f":"SUMPRODUCT(--('TOT ORE'!$C$4:$AT$87>0)*('TOT ORE'!$B$4:$B$87=$B27&\" \"&S$18))","v":0},{"$f":"SUMPRODUCT(--('TOT ORE'!$C$4:$AT$87>0)*('TOT ORE'!$B$4:$B$87=$B27&\" \"&T$18))","v":0},{"$f":"SUMPRODUCT(--('TOT ORE'!$C$4:$AT$87>0)*('TOT ORE'!$B$4:$B$87=$B27&\" \"&U$18))","v":0},{"$f":"SUMPRODUCT(--('TOT ORE'!$C$4:$AT$87>0)*('TOT ORE'!$B$4:$B$87=$B27&\" \"&V$18))","v":0},{"$f":"SUMPRODUCT(--('TOT ORE'!$C$4:$AT$87>0)*('TOT ORE'!$B$4:$B$87=$B27&\" \"&W$18))","v":0},{"$f":"SUMPRODUCT(--('TOT ORE'!$C$4:$AT$87>0)*('TOT ORE'!$B$4:$B$87=$B27&\" \"&X$18))","v":0},{"$f":"SUMPRODUCT(--('TOT ORE'!$C$4:$AT$87>0)*('TOT ORE'!$B$4:$B$87=$B27&\" \"&Y$18))","v":0},null,0]
[null,"I",{"$f":"SUMPRODUCT(--('TOT ORE'!$C$4:$AT$87>0)*('TOT ORE'!$B$4:$B$87=$B28&\" \"&C$18))","v":0},{"$f":"SUMPRODUCT(--('TOT ORE'!$C$4:$AT$87>0)*('TOT ORE'!$B$4:$B$87=$B28&\" \"&D$18))","v":0},{"$f":"SUMPRODUCT(--('TOT ORE'!$C$4:$AT$87>0)*('TOT ORE'!$B$4:$B$87=$B28&\" \"&E$18))","v":0},{"$f":"SUMPRODUCT(--('TOT ORE'!$C$4:$AT$87>0)*('TOT ORE'!$B$4:$B$87=$B28&\" \"&F$18))","v":0},{"$f":"SUMPRODUCT(--('TOT ORE'!$C$4:$AT$87>0)*('TOT ORE'!$B$4:$B$87=$B28&\" \"&G$18))","v":0},{"$f":"SUMPRODUCT(--('TOT ORE'!$C$4:$AT$87>0)*('TOT ORE'!$B$4:$B$87=$B28&\" \"&H$18))","v":0},{"$f":"SUMPRODUCT(--('TOT ORE'!$C$4:$AT$87>0)*('TOT ORE'!$B$4:$B$87=$B28&\" \"&I$18))","v":0},{"$f":"SUMPRODUCT(--('TOT ORE'!$C$4:$AT$87>0)*('TOT ORE'!$B$4:$B$87=$B28&\" \"&J$18))","v":0},{"$f":"SUMPRODUCT(--('TOT ORE'!$C$4:$AT$87>0)*('TOT ORE'!$B$4:$B$87=$B28&\" \"&K$18))","v":0},{"$f":"SUMPRODUCT(--('TOT ORE'!$C$4:$AT$87>0)*('TOT ORE'!$B$4:$B$87=$B28&\" \"&L$18))","v":0},{"$f":"SUMPRODUCT(--('TOT ORE'!$C$4:$AT$87>0)*('TOT ORE'!$B$4:$B$87=$B28&\" \"&M$18))","v":0},{"$f":"SUMPRODUCT(--('TOT ORE'!$C$4:$AT$87>0)*('TOT ORE'!$B$4:$B$87=$B28&\" \"&N$18))","v":0},{"$f":"SUMPRODUCT(--('TOT ORE'!$C$4:$AT$87>0)*('TOT ORE'!$B$4:$B$87=$B28&\" \"&O$18))","v":0},{"$f":"SUMPRODUCT(--('TOT ORE'!$C$4:$AT$87>0)*('TOT ORE'!$B$4:$B$87=$B28&\" \"&P$18))","v":0},{"$f":"SUMPRODUCT(--('TOT ORE'!$C$4:$AT$87>0)*('TOT ORE'!$B$4:$B$87=$B28&\" \"&Q$18))","v":0},{"$f":"SUMPRODUCT(--('TOT ORE'!$C$4:$AT$87>0)*('TOT ORE'!$B$4:$B$87=$B28&\" \"&R$18))","v":0},{"$f":"SUMPRODUCT(--('TOT ORE'!$C$4:$AT$87>0)*('TOT ORE'!$B$4:$B$87=$B28&\" \"&S$18))","v":0},{"$f":"SUMPRODUCT(--('TOT ORE'!$C$4:$AT$87>0)*('TOT ORE'!$B$4:$B$87=$B28&\" \"&T$18))","v":0},{"$f":"SUMPRODUCT(--('TOT ORE'!$C$4:$AT$87>0)*('TOT ORE'!$B$4:$B$87=$B28&\" \"&U$18))","v":0},{"$f":"SUMPRODUCT(--('TOT ORE'!$C$4:$AT$87>0)*('TOT ORE'!$B$4:$B$87=$B28&\" \"&V$18))","v":0},{"$f":"SUMPRODUCT(--('TOT ORE'!$C$4:$AT$87>0)*('TOT ORE'!$B$4:$B$87=$B28&\" \"&W$18))","v":0},{"$f":"SUMPRODUCT(--('TOT ORE'!$C$4:$AT$87>0)*('TOT ORE'!$B$4:$B$87=$B28&\" \"&X$18))","v":0},{"$f":"SUMPRODUCT(--('TOT ORE'!$C$4:$AT$87>0)*('TOT ORE'!$B$4:$B$87=$B28&\" \"&Y$18))","v":0},null,0,null,null,null,null,null,"ORE INSEGNANTE PER MATERIA"]
[null,"L",{"$f":"SUMPRODUCT(--('TOT ORE'!$C$4:$AT$87>0)*('TOT ORE'!$B$4:$B$87=$B29&\" \"&C$18))","v":0},{"$f":"SUMPRODUCT(--('TOT ORE'!$C$4:$AT$87>0)*('TOT ORE'!$B$4:$B$87=$B29&\" \"&D$18))","v":0},{"$f":"SUMPRODUCT(--('TOT ORE'!$C$4:$AT$87>0)*('TOT ORE'!$B$4:$B$87=$B29&\" \"&E$18))","v":0},{"$f":"SUMPRODUCT(--('TOT ORE'!$C$4:$AT$87>0)*('TOT ORE'!$B$4:$B$87=$B29&\" \"&F$18))","v":0},{"$f":"SUMPRODUCT(--('TOT ORE'!$C$4:$AT$87>0)*('TOT ORE'!$B$4:$B$87=$B29&\" \"&G$18))","v":0},{"$f":"SUMPRODUCT(--('TOT ORE'!$C$4:$AT$87>0)*('TOT ORE'!$B$4:$B$87=$B29&\" \"&H$18))","v":0},{"$f":"SUMPRODUCT(--('TOT ORE'!$C$4:$AT$87>0)*('TOT ORE'!$B$4:$B$87=$B29&\" \"&I$18))","v":0},{"$f":"SUMPRODUCT(--('TOT ORE'!$C$4:$AT$87>0)*('TOT ORE'!$B$4:$B$87=$B29&\" \"&J$18))","v":0},{"$f":"SUMPRODUCT(--('TOT ORE'!$C$4:$AT$87>0)*('TOT ORE'!$B$4:$B$87=$B29&\" \"&K$18))","v":0},{"$f":"SUMPRODUCT(--('TOT ORE'!$C$4:$AT$87>0)*('TOT ORE'!$B$4:$B$87=$B29&\" \"&L$18))","v":0},{"$f":"SUMPRODUCT(--('TOT ORE'!$C$4:$AT$87>0)*('TOT ORE'!$B$4:$B$87=$B29&\" \"&M$18))","v":0},{"$f":"SUMPRODUCT(--('TOT ORE'!$C$4:$AT$87>0)*('TOT ORE'!$B$4:$B$87=$B29&\" \"&N$18))","v":0},{"$f":"SUMPRODUCT(--('TOT ORE'!$C$4:$AT$87>0)*('TOT ORE'!$B$4:$B$87=$B29&\" \"&O$18))","v":0},{"$f":"SUMPRODUCT(--('TOT ORE'!$C$4:$AT$87>0)*('TOT ORE'!$B$4:$B$87=$B29&\" \"&P$18))","v":0},{"$f":"SUMPRODUCT(--('TOT ORE'!$C$4:$AT$87>0)*('TOT ORE'!$B$4:$B$87=$B29&\" \"&Q$18))","v":0},{"$f":"SUMPRODUCT(--('TOT ORE'!$C$4:$AT$87>0)*('TOT ORE'!$B$4:$B$87=$B29&\" \"&R$18))","v":0},{"$f":"SUMPRODUCT(--('TOT ORE'!$C$4:$AT$87>0)*('TOT ORE'!$B$4:$B$87=$B29&\" \"&S$18))","v":0},{"$f":"SUMPRODUCT(--('TOT ORE'!$C$4:$AT$87>0)*('TOT ORE'!$B$4:$B$87=$B29&\" \"&T$18))","v":0},{"$f":"SUMPRODUCT(--('TOT ORE'!$C$4:$AT$87>0)*('TOT ORE'!$B$4:$B$87=$B29&\" \"&U$18))","v":0},{"$f":"SUMPRODUCT(--('TOT ORE'!$C$4:$AT$87>0)*('TOT ORE'!$B$4:$B$87=$B29&\" \"&V$18))","v":0},{"$f":"SUMPRODUCT(--('TOT ORE'!$C$4:$AT$87>0)*('TOT ORE'!$B$4:$B$87=$B29&\" \"&W$18))","v":0},{"$f":"SUMPRODUCT(--('TOT ORE'!$C$4:$AT$87>0)*('TOT ORE'!$B$4:$B$87=$B29&\" \"&X$18))","v":0},{"$f":"SUMPRODUCT(--('TOT ORE'!$C$4:$AT$87>0)*('TOT ORE'!$B$4:$B$87=$B29&\" \"&Y$18))","v":0},null,0]
[null,"M",{"$f":"SUMPRODUCT(--('TOT ORE'!$C$4:$AT$87>0)*('TOT ORE'!$B$4:$B$87=$B30&\" \"&C$18))","v":0},{"$f":"SUMPRODUCT(--('TOT ORE'!$C$4:$AT$87>0)*('TOT ORE'!$B$4:$B$87=$B30&\" \"&D$18))","v":0},{"$f":"SUMPRODUCT(--('TOT ORE'!$C$4:$AT$87>0)*('TOT ORE'!$B$4:$B$87=$B30&\" \"&E$18))","v":0},{"$f":"SUMPRODUCT(--('TOT ORE'!$C$4:$AT$87>0)*('TOT ORE'!$B$4:$B$87=$B30&\" \"&F$18))","v":0},{"$f":"SUMPRODUCT(--('TOT ORE'!$C$4:$AT$87>0)*('TOT ORE'!$B$4:$B$87=$B30&\" \"&G$18))","v":0},{"$f":"SUMPRODUCT(--('TOT ORE'!$C$4:$AT$87>0)*('TOT ORE'!$B$4:$B$87=$B30&\" \"&H$18))","v":0},{"$f":"SUMPRODUCT(--('TOT ORE'!$C$4:$AT$87>0)*('TOT ORE'!$B$4:$B$87=$B30&\" \"&I$18))","v":0},{"$f":"SUMPRODUCT(--('TOT ORE'!$C$4:$AT$87>0)*('TOT ORE'!$B$4:$B$87=$B30&\" \"&J$18))","v":0},{"$f":"SUMPRODUCT(--('TOT ORE'!$C$4:$AT$87>0)*('TOT ORE'!$B$4:$B$87=$B30&\" \"&K$18))","v":0},{"$f":"SUMPRODUCT(--('TOT ORE'!$C$4:$AT$87>0)*('TOT ORE'!$B$4:$B$87=$B30&\" \"&L$18))","v":0},{"$f":"SUMPRODUCT(--('TOT ORE'!$C$4:$AT$87>0)*('TOT ORE'!$B$4:$B$87=$B30&\" \"&M$18))","v":0},{"$f":"SUMPRODUCT(--('TOT ORE'!$C$4:$AT$87>0)*('TOT ORE'!$B$4:$B$87=$B30&\" \"&N$18))","v":0},{"$f":"SUMPRODUCT(--('TOT ORE'!$C$4:$AT$87>0)*('TOT ORE'!$B$4:$B$87=$B30&\" \"&O$18))","v":0},{"$f":"SUMPRODUCT(--('TOT ORE'!$C$4:$AT$87>0)*('TOT ORE'!$B$4:$B$87=$B30&\" \"&P$18))","v":0},{"$f":"SUMPRODUCT(--('TOT ORE'!$C$4:$AT$87>0)*('TOT ORE'!$B$4:$B$87=$B30&\" \"&Q$18))","v":0},{"$f":"SUMPRODUCT(--('TOT ORE'!$C$4:$AT$87>0)*('TOT ORE'!$B$4:$B$87=$B30&\" \"&R$18))","v":0},{"$f":"SUMPRODUCT(--('TOT ORE'!$C$4:$AT$87>0)*('TOT ORE'!$B$4:$B$87=$B30&\" \"&S$18))","v":0},{"$f":"SUMPRODUCT(--('TOT ORE'!$C$4:$AT$87>0)*('TOT ORE'!$B$4:$B$87=$B30&\" \"&T$18))","v":0},{"$f":"SUMPRODUCT(--('TOT ORE'!$C$4:$AT$87>0)*('TOT ORE'!$B$4:$B$87=$B30&\" \"&U$18))","v":0},{"$f":"SUMPRODUCT(--('TOT ORE'!$C$4:$AT$87>0)*('TOT ORE'!$B$4:$B$87=$B30&\" \"&V$18))","v":0},{"$f":"SUMPRODUCT(--('TOT ORE'!$C$4:$AT$87>0)*('TOT ORE'!$B$4:$B$87=$B30&\" \"&W$18))","v":0},{"$f":"SUMPRODUCT(--('TOT ORE'!$C$4:$AT$87>0)*('TOT ORE'!$B$4:$B$87=$B30&\" \"&X$18))","v":0},{"$f":"SUMPRODUCT(--('TOT ORE'!$C$4:$AT$87>0)*('TOT ORE'!$B$4:$B$87=$B30&\" \"&Y$18))","v":0},null,0,null,null,null,"A",null,6,null,6,null,3,null,6,null,2,null,2,null,2,null,2,null,1,null,2,null,2]
[null,"N",{"$f":"SUMPRODUCT(--('TOT ORE'!$C$4:$AT$87>0)*('TOT ORE'!$B$4:$B$87=$B31&\" \"&C$18))","v":0},{"$f":"SUMPRODUCT(--('TOT ORE'!$C$4:$AT$87>0)*('TOT ORE'!$B$4:$B$87=$B31&\" \"&D$18))","v":0},{"$f":"SUMPRODUCT(--('TOT ORE'!$C$4:$AT$87>0)*('TOT ORE'!$B$4:$B$87=$B31&\" \"&E$18))","v":0},{"$f":"SUMPRODUCT(--('TOT ORE'!$C$4:$AT$87>0)*('TOT ORE'!$B$4:$B$87=$B31&\" \"&F$18))","v":0},{"$f":"SUMPRODUCT(--('TOT ORE'!$C$4:$AT$87>0)*('TOT ORE'!$B$4:$B$87=$B31&\" \"&G$18))","v":0},{"$f":"SUMPRODUCT(--('TOT ORE'!$C$4:$AT$87>0)*('TOT ORE'!$B$4:$B$87=$B31&\" \"&H$18))","v":0},{"$f":"SUMPRODUCT(--('TOT ORE'!$C$4:$AT$87>0)*('TOT ORE'!$B$4:$B$87=$B31&\" \"&I$18))","v":0},{"$f":"SUMPRODUCT(--('TOT ORE'!$C$4:$AT$87>0)*('TOT ORE'!$B$4:$B$87=$B31&\" \"&J$18))","v":0},{"$f":"SUMPRODUCT(--('TOT ORE'!$C$4:$AT$87>0)*('TOT ORE'!$B$4:$B$87=$B31&\" \"&K$18))","v":0},{"$f":"SUMPRODUCT(--('TOT ORE'!$C$4:$AT$87>0)*('TOT ORE'!$B$4:$B$87=$B31&\" \"&L$18))","v":0},{"$f":"SUMPRODUCT(--('TOT ORE'!$C$4:$AT$87>0)*('TOT ORE'!$B$4:$B$87=$B31&\" \"&M$18))","v":0},{"$f":"SUMPRODUCT(--('TOT ORE'!$C$4:$AT$87>0)*('TOT ORE'!$B$4:$B$87=$B31&\" \"&N$18))","v":0},{"$f":"SUMPRODUCT(--('TOT ORE'!$C$4:$AT$87>0)*('TOT ORE'!$B$4:$B$87=$B31&\" \"&O$18))","v":0},{"$f":"SUMPRODUCT(--('TOT ORE'!$C$4:$AT$87>0)*('TOT ORE'!$B$4:$B$87=$B31&\" \"&P$18))","v":0},{"$f":"SUMPRODUCT(--('TOT ORE'!$C$4:$AT$87>0)*('TOT ORE'!$B$4:$B$87=$B31&\" \"&Q$18))","v":0},{"$f":"SUMPRODUCT(--('TOT ORE'!$C$4:$AT$87>0)*('TOT ORE'!$B$4:$B$87=$B31&\" \"&R$18))","v":0},{"$f":"SUMPRODUCT(--('TOT ORE'!$C$4:$AT$87>0)*('TOT ORE'!$B$4:$B$87=$B31&\" \"&S$18))","v":0},{"$f":"SUMPRODUCT(--('TOT ORE'!$C$4:$AT$87>0)*('TOT ORE'!$B$4:$B$87=$B31&\" \"&T$18))","v":0},{"$f":"SUMPRODUCT(--('TOT ORE'!$C$4:$AT$87>0)*('TOT ORE'!$B$4:$B$87=$B31&\" \"&U$18))","v":0},{"$f":"SUMPRODUCT(--('TOT ORE'!$C$4:$AT$87>0)*('TOT ORE'!$B$4:$B$87=$B31&\" \"&V$18))","v":0},{"$f":"SUMPRODUCT(--('TOT ORE'!$C$4:$AT$87>0)*('TOT ORE'!$B$4:$B$87=$B31&\" \"&W$18))","v":0},{"$f":"SUMPRODUCT(--('TOT ORE'!$C$4:$AT$87>0)*('TOT ORE'!$B$4:$B$87=$B31&\" \"&X$18))","v":0},{"$f":"SUMPRODUCT(--('TOT ORE'!$C$4:$AT$87>0)*('TOT ORE'!$B$4:$B$87=$B31&\" \"&Y$18))","v":0},null,0,null,null,null,null,null,"SLO",null,"ITA",null,"ANG",null,"MAT",null,"NAR",null,"ZGO",null,"GEO",null,"LIK",null,"GLA",null,"TEL",null,"VER",null,"SOP"]
[null,"O",{"$f":"SUMPRODUCT(--('TOT ORE'!$C$4:$AT$87>0)*('TOT ORE'!$B$4:$B$87=$B32&\" \"&C$18))","v":0},{"$f":"SUMPRODUCT(--('TOT ORE'!$C$4:$AT$87>0)*('TOT ORE'!$B$4:$B$87=$B32&\" \"&D$18))","v":0},{"$f":"SUMPRODUCT(--('TOT ORE'!$C$4:$AT$87>0)*('TOT ORE'!$B$4:$B$87=$B32&\" \"&E$18))","v":0},{"$f":"SUMPRODUCT(--('TOT ORE'!$C$4:$AT$87>0)*('TOT ORE'!$B$4:$B$87=$B32&\" \"&F$18))","v":0},{"$f":"SUMPRODUCT(--('TOT ORE'!$C$4:$AT$87>0)*('TOT ORE'!$B$4:$B$87=$B32&\" \"&G$18))","v":0},{"$f":"SUMPRODUCT(--('TOT ORE'!$C$4:$AT$87>0)*('TOT ORE'!$B$4:$B$87=$B32&\" \"&H$18))","v":0},{"$f":"SUMPRODUCT(--('TOT ORE'!$C$4:$AT$87>0)*('TOT ORE'!$B$4:$B$87=$B32&\" \"&I$18))","v":0},{"$f":"SUMPRODUCT(--('TOT ORE'!$C$4:$AT$87>0)*('TOT ORE'!$B$4:$B$87=$B32&\" \"&J$18))","v":0},{"$f":"SUMPRODUCT(--('TOT ORE'!$C$4:$AT$87>0)*('TOT ORE'!$B$4:$B$87=$B32&\" \"&K$18))","v":0},{"$f":"SUMPRODUCT(--('TOT ORE'!$C$4:$AT$87>0)*('TOT ORE'!$B$4:$B$87=$B32&\" \"&L$18))","v":0},{"$f":"SUMPRODUCT(--('TOT ORE'!$C$4:$AT$87>0)*('TOT ORE'!$B$4:$B$87=$B32&\" \"&M$18))","v":0},{"$f":"SUMPRODUCT(--('TOT ORE'!$C$4:$AT$87>0)*('TOT ORE'!$B$4:$B$87=$B32&\" \"&N$18))","v":0},{"$f":"SUMPRODUCT(--('TOT ORE'!$C$4:$AT$87>0)*('TOT ORE'!$B$4:$B$87=$B32&\" \"&O$18))","v":0},{"$f":"SUMPRODUCT(--('TOT ORE'!$C$4:$AT$87>0)*('TOT ORE'!$B$4:$B$87=$B32&\" \"&P$18))","v":0},{"$f":"SUMPRODUCT(--('TOT ORE'!$C$4:$AT$87>0)*('TOT ORE'!$B$4:$B$87=$B32&\" \"&Q$18))","v":0},{"$f":"SUMPRODUCT(--('TOT ORE'!$C$4:$AT$87>0)*('TOT ORE'!$B$4:$B$87=$B32&\" \"&R$18))","v":0},{"$f":"SUMPRODUCT(--('TOT ORE'!$C$4:$AT$87>0)*('TOT ORE'!$B$4:$B$87=$B32&\" \"&S$18))","v":0},{"$f":"SUMPRODUCT(--('TOT ORE'!$C$4:$AT$87>0)*('TOT ORE'!$B$4:$B$87=$B32&\" \"&T$18))","v":0},{"$f":"SUMPRODUCT(--('TOT ORE'!$C$4:$AT$87>0)*('TOT ORE'!$B$4:$B$87=$B32&\" \"&U$18))","v":0},{"$f":"SUMPRODUCT(--('TOT ORE'!$C$4:$AT$87>0)*('TOT ORE'!$B$4:$B$87=$B32&\" \"&V$18))","v":0},{"$f":"SUMPRODUCT(--('TOT ORE'!$C$4:$AT$87>0)*('TOT ORE'!$B$4:$B$87=$B32&\" \"&W$18))","v":0},{"$f":"SUMPRODUCT(--('TOT ORE'!$C$4:$AT$87>0)*('TOT ORE'!$B$4:$B$87=$B32&\" \"&X$18))","v":0},{"$f":"SUMPRODUCT(--('TOT ORE'!$C$4:$AT$87>0)*('TOT ORE'!$B$4:$B$87=$B32&\" \"&Y$18))","v":0},null,0,null,null,null,null,null,{"$f":"SUMPRODUCT(--('TOT ORE'!$C$4:$AT$87>0)*('TOT ORE'!$B$4:$B$87=$AE$30&\" \"&AG$31))","v":2},null,{"$f":"SUMPRODUCT(--('TOT ORE'!$C$4:$AT$87>0)*('TOT ORE'!$B$4:$B$87=$AE$30&\" \"&AI$31))","v":0},null,{"$f":"SUMPRODUCT(--('TOT ORE'!$C$4:$AT$87>0)*('TOT ORE'!$B$4:$B$87=$AE$30&\" \"&AK$31))","v":1},null,{"$f":"SUMPRODUCT(--('TOT ORE'!$C$4:$AT$87>0)*('TOT ORE'!$B$4:$B$87=$AE$30&\" \"&AM$31))","v":1},null,{"$f":"SUMPRODUCT(--('TOT ORE'!$C$4:$AT$87>0)*('TOT ORE'!$B$4:$B$87=$AE$30&\" \"&AO$31))","v":1},null,{"$f":"SUMPRODUCT(--('TOT ORE'!$C$4:$AT$87>0)*('TOT ORE'!$B$4:$B$87=$AE$30&\" \"&AQ$31))","v":0},null,{"$f":"SUMPRODUCT(--('TOT ORE'!$C$4:$AT$87>0)*('TOT ORE'!$B$4:$B$87=$AE$30&\" \"&AS$31))","v":0},null,{"$f":"SUMPRODUCT(--('TOT ORE'!$C$4:$AT$87>0)*('TOT ORE'!$B$4:$B$87=$AE$30&\" \"&AU$31))","v":0},null,{"$f":"SUMPRODUCT(--('TOT ORE'!$C$4:$AT$87>0)*('TOT ORE'!$B$4:$B$87=$AE$30&\" \"&AW$31))","v":1},null,{"$f":"SUMPRODUCT(--('TOT ORE'!$C$4:$AT$87>0)*('TOT ORE'!$B$4:$B$87=$AE$30&\" \"&AY$31))","v":0},null,{"$f":"SUMPRODUCT(--('TOT ORE'!$C$4:$AT$87>0)*('TOT ORE'!$B$4:$B$87=$AE$30&\" \"&BA$31))","v":1},null,{"$f":"SUMPRODUCT(--('TOT ORE'!$C$4:$AT$87>0)*('TOT ORE'!$B$4:$B$87=$AE$30&\" \"&BC$31))","v":0}]
[null,"P",{"$f":"SUMPRODUCT(--('TOT ORE'!$C$4:$AT$87>0)*('TOT ORE'!$B$4:$B$87=$B33&\" \"&C$18))","v":0},{"$f":"SUMPRODUCT(--('TOT ORE'!$C$4:$AT$87>0)*('TOT ORE'!$B$4:$B$87=$B33&\" \"&D$18))","v":0},{"$f":"SUMPRODUCT(--('TOT ORE'!$C$4:$AT$87>0)*('TOT ORE'!$B$4:$B$87=$B33&\" \"&E$18))","v":0},{"$f":"SUMPRODUCT(--('TOT ORE'!$C$4:$AT$87>0)*('TOT ORE'!$B$4:$B$87=$B33&\" \"&F$18))","v":0},{"$f":"SUMPRODUCT(--('TOT ORE'!$C$4:$AT$87>0)*('TOT ORE'!$B$4:$B$87=$B33&\" \"&G$18))","v":0},{"$f":"SUMPRODUCT(--('TOT ORE'!$C$4:$AT$87>0)*('TOT ORE'!$B$4:$B$87=$B33&\" \"&H$18))","v":0},{"$f":"SUMPRODUCT(--('TOT ORE'!$C$4:$AT$87>0)*('TOT ORE'!$B$4:$B$87=$B33&\" \"&I$18))","v":0},{"$f":"SUMPRODUCT(--('TOT ORE'!$C$4:$AT$87>0)*('TOT ORE'!$B$4:$B$87=$B33&\" \"&J$18))","v":0},{"$f":"SUMPRODUCT(--('TOT ORE'!$C$4:$AT$87>0)*('TOT ORE'!$B$4:$B$87=$B33&\" \"&K$18))","v":0},{"$f":"SUMPRODUCT(--('TOT ORE'!$C$4:$AT$87>0)*('TOT ORE'!$B$4:$B$87=$B33&\" \"&L$18))","v":0},{"$f":"SUMPRODUCT(--('TOT ORE'!$C$4:$AT$87>0)*('TOT ORE'!$B$4:$B$87=$B33&\" \"&M$18))","v":0},{"$f":"SUMPRODUCT(--('TOT ORE'!$C$4:$AT$87>0)*('TOT ORE'!$B$4:$B$87=$B33&\" \"&N$18))","v":0},{"$f":"SUMPRODUCT(--('TOT ORE'!$C$4:$AT$87>0)*('TOT ORE'!$B$4:$B$87=$B33&\" \"&O$18))","v":0},{"$f":"SUMPRODUCT(--('TOT ORE'!$C$4:$AT$87>0)*('TOT ORE'!$B$4:$B$87=$B33&\" \"&P$18))","v":0},{"$f":"SUMPRODUCT(--('TOT ORE'!$C$4:$AT$87>0)*('TOT ORE'!$B$4:$B$87=$B33&\" \"&Q$18))","v":0},{"$f":"SUMPRODUCT(--('TOT ORE'!$C$4:$AT$87>0)*('TOT ORE'!$B$4:$B$87=$B33&\" \"&R$18))","v":0},{"$f":"SUMPRODUCT(--('TOT ORE'!$C$4:$AT$87>0)*('TOT ORE'!$B$4:$B$87=$B33&\" \"&S$18))","v":0},{"$f":"SUMPRODUCT(--('TOT ORE'!$C$4:$AT$87>0)*('TOT ORE'!$B$4:$B$87=$B33&\" \"&T$18))","v":0},{"$f":"SUMPRODUCT(--('TOT ORE'!$C$4:$AT$87>0)*('TOT ORE'!$B$4:$B$87=$B33&\" \"&U$18))","v":0},{"$f":"SUMPRODUCT(--('TOT ORE'!$C$4:$AT$87>0)*('TOT ORE'!$B$4:$B$87=$B33&\" \"&V$18))","v":0},{"$f":"SUMPRODUCT(--('TOT ORE'!$C$4:$AT$87>0)*('TOT ORE'!$B$4:$B$87=$B33&\" \"&W$18))","v":0},{"$f":"SUMPRODUCT(--('TOT ORE'!$C$4:$AT$87>0)*('TOT ORE'!$B$4:$B$87=$B33&\" \"&X$18))","v":0},{"$f":"SUMPRODUCT(--('TOT ORE'!$C$4:$AT$87>0)*('TOT ORE'!$B$4:$B$87=$B33&\" \"&Y$18))","v":0},null,0,null,null,null,null,null,{"$f":"\"TOTALE\"&\"    \"&SUM(AG32:BC32)","v":"TOTALE    7"}]

{"sheet":"TOT ORE","index":1,"n_rows":87,"n_cols":46,"rows_kept":87,"cut":false,"hidden":false,"merged":[[1,38,1,45],[1,1,1,9],[1,11,1,18],[1,20,1,27],[1,29,1,36]]}
[]
[null,"lunedì",null,null,null,null,null,null,null,null,null,"Martedi",null,null,null,null,null,null,null,null,"Mercoledi",null,null,null,null,null,null,null,null,"giovedi",null,null,null,null,null,null,null,null,"venerdì"]
[null,"ORA",1,2,3,4,5,6,7,8,null,1,2,3,4,5,6,7,8,null,1,2,3,4,5,6,7,8,null,1,2,3,4,5,6,7,8,null,1,2,3,4,5,6,7,8]
[null,"A slo",{"$f":"IF($B$4<>\"\",SUMPRODUCT(1*(ORARIO!$C$5:$G$14=$B4)*(ORARIO!$B$5:$B$14=C$3)),\"\")","v":2},{"$f":"IF($B$4<>\"\",SUMPRODUCT(1*(ORARIO!$C$5:$G$14=$B4)*(ORARIO!$B$5:$B$14=D$3)),\"\")","v":0},{"$f":"IF($B$4<>\"\",SUMPRODUCT(1*(ORARIO!$C$5:$G$14=$B4)*(ORARIO!$B$5:$B$14=E$3)),\"\")","v":0},{"$f":"IF($B$4<>\"\",SUMPRODUCT(1*(ORARIO!$C$5:$G$14=$B4)*(ORARIO!$B$5:$B$14=F$3)),\"\")","v":0},{"$f":"IF($B$4<>\"\",SUMPRODUCT(1*(ORARIO!$C$5:$G$14=$B4)*(ORARIO!$B$5:$B$14=G$3)),\"\")","v":0},{"$f":"IF($B$4<>\"\",SUMPRODUCT(1*(ORARIO!$C$5:$G$14=$B4)*(ORARIO!$B$5:$B$14=H$3)),\"\")","v":0},{"$f":"IF($B$4<>\"\",SUMPRODUCT(1*(ORARIO!$C$5:$G$14=$B4)*(ORARIO!$B$5:$B$14=I$3)),\"\")","v":1},{"$f":"IF($B$4<>\"\",SUMPRODUCT(1*(ORARIO!$C$5:$G$14=$B4)*(ORARIO!$B$5:$B$14=J$3)),\"\")","v":0},null,{"$f":"IF($B4<>\"\",SUMPRODUCT(1*(ORARIO!$H$5:$L$14=$B4)*(ORARIO!$B$5:$B$14=L$3)),\"\")","v":0},{"$f":"IF($B4<>\"\",SUMPRODUCT(1*(ORARIO!$H$5:$L$14=$B4)*(ORARIO!$B$5:$B$14=M$3)),\"\")","v":0},{"$f":"IF($B4<>\"\",SUMPRODUCT(1*(ORARIO!$H$5:$L$14=$B4)*(ORARIO!$B$5:$B$14=N$3)),\"\")","v":0},{"$f":"IF($B4<>\"\",SUMPRODUCT(1*(ORARIO!$H$5:$L$14=$B4)*(ORARIO!$B$5:$B$14=O$3)),\"\")","v":0},{"$f":"IF($B4<>\"\",SUMPRODUCT(1*(ORARIO!$H$5:$L$14=$B4)*(ORARIO!$B$5:$B$14=P$3)),\"\")","v":0},{"$f":"IF($B4<>\"\",SUMPRODUCT(1*(ORARIO!$H$5:$L$14=$B4)*(ORARIO!$B$5:$B$14=Q$3)),\"\")","v":0},{"$f":"IF($B4<>\"\",SUMPRODUCT(1*(ORARIO!$H$5:$L$14=$B4)*(ORARIO!$B$5:$B$14=R$3)),\"\")","v":0},{"$f":"IF($B4<>\"\",SUMPRODUCT(1*(ORARIO!$H$5:$L$14=$B4)*(ORARIO!$B$5:$B$14=S$3)),\"\")","v":0},null,{"$f":"IF($B4<>\"\",SUMPRODUCT(1*(ORARIO!$M$5:$Q$14=$B4)*(ORARIO!$B$5:$B$14=U$3)),\"\")","v":0},{"$f":"IF($B4<>\"\",SUMPRODUCT(1*(ORARIO!$M$5:$Q$14=$B4)*(ORARIO!$B$5:$B$14=V$3)),\"\")","v":0},{"$f":"IF($B4<>\"\",SUMPRODUCT(1*(ORARIO!$M$5:$Q$14=$B4)*(ORARIO!$B$5:$B$14=W$3)),\"\")","v":0},{"$f":"IF($B4<>\"\",SUMPRODUCT(1*(ORARIO!$M$5:$Q$14=$B4)*(ORARIO!$B$5:$B$14=X$3)),\"\")","v":0},{"$f":"IF($B4<>\"\",SUMPRODUCT(1*(ORARIO!$M$5:$Q$14=$B4)*(ORARIO!$B$5:$B$14=Y$3)),\"\")","v":0},{"$f":"IF($B4<>\"\",SUMPRODUCT(1*(ORARIO!$M$5:$Q$14=$B4)*(ORARIO!$B$5:$B$14=Z$3)),\"\")","v":0},{"$f":"IF($B4<>\"\",SUMPRODUCT(1*(ORARIO!$M$5:$Q$14=$B4)*(ORARIO!$B$5:$B$14=AA$3)),\"\")","v":0},{"$f":"IF($B4<>\"\",SUMPRODUCT(1*(ORARIO!$M$5:$Q$14=$B4)*(ORARIO!$B$5:$B$14=AB$3)),\"\")","v":0},null,{"$f":"IF($B4<>\"\",SUMPRODUCT(1*(ORARIO!$R$5:$V$14=$B4)*(ORARIO!$B$5:$B$14=AD$3)),\"\")","v":0},{"$f":"IF($B4<>\"\",SUMPRODUCT(1*(ORARIO!$R$5:$V$14=$B4)*(ORARIO!$B$5:$B$14=AE$3)),\"\")","v":0},{"$f":"IF($B4<>\"\",SUMPRODUCT(1*(ORARIO!$R$5:$V$14=$B4)*(ORARIO!$B$5:$B$14=AF$3)),\"\")","v":0},{"$f":"IF($B4<>\"\",SUMPRODUCT(1*(ORARIO!$R$5:$V$14=$B4)*(ORARIO!$B$5:$B$14=AG$3)),\"\")","v":0},{"$f":"IF($B4<>\"\",SUMPRODUCT(1*(ORARIO!$R$5:$V$14=$B4)*(ORARIO!$B$5:$B$14=AH$3)),\"\")","v":0},{"$f":"IF($B4<>\"\",SUMPRODUCT(1*(ORARIO!$R$5:$V$14=$B4)*(ORARIO!$B$5:$B$14=AI$3)),\"\")","v":0},{"$f":"IF($B4<>\"\",SUMPRODUCT(1*(ORARIO!$R$5:$V$14=$B4)*(ORARIO!$B$5:$B$14=AJ$3)),\"\")","v":0},{"$f":"IF($B4<>\"\",SUMPRODUCT(1*(ORARIO!$R$5:$V$14=$B4)*(ORARIO!$B$5:$B$14=AK$3)),\"\")","v":0},null,{"$f":"IF($B4<>\"\",SUMPRODUCT(1*(ORARIO!$W$5:$AA$14=$B4)*(ORARIO!$B$5:$B$14=AM$3)),\"\")","v":0},{"$f":"IF($B4<>\"\",SUMPRODUCT(1*(ORARIO!$W$5:$AA$14=$B4)*(ORARIO!$B$5:$B$14=AN$3)),\"\")","v":0},{"$f":"IF($B4<>\"\",SUMPRODUCT(1*(ORARIO!$W$5:$AA$14=$B4)*(ORARIO!$B$5:$B$14=AO$3)),\"\")","v":0},{"$f":"IF($B4<>\"\",SUMPRODUCT(1*(ORARIO!$W$5:$AA$14=$B4)*(ORARIO!$B$5:$B$14=AP$3)),\"\")","v":0},{"$f":"IF($B4<>\"\",SUMPRODUCT(1*(ORARIO!$W$5:$AA$14=$B4)*(ORARIO!$B$5:$B$14=AQ$3)),\"\")","v":0},{"$f":"IF($B4<>\"\",SUMPRODUCT(1*(ORARIO!$W$5:$AA$14=$B4)*(ORARIO!$B$5:$B$14=AR$3)),\"\")","v":0},{"$f":"IF($B4<>\"\",SUMPRODUCT(1*(ORARIO!$W$5:$AA$14=$B4)*(ORARIO!$B$5:$B$14=AS$3)),\"\")","v":0},{"$f":"IF($B4<>\"\",SUMPRODUCT(1*(ORARIO!$W$5:$AA$14=$B4)*(ORARIO!$B$5:$B$14=AT$3)),\"\")","v":0}]
[null,"A ita",{"$f":"IF($B$4<>\"\",SUMPRODUCT(1*(ORARIO!$C$5:$G$14=$B5)*(ORARIO!$B$5:$B$14=C$3)),\"\")","v":0},{"$f":"IF($B$4<>\"\",SUMPRODUCT(1*(ORARIO!$C$5:$G$14=$B5)*(ORARIO!$B$5:$B$14=D$3)),\"\")","v":0},{"$f":"IF($B$4<>\"\",SUMPRODUCT(1*(ORARIO!$C$5:$G$14=$B5)*(ORARIO!$B$5:$B$14=E$3)),\"\")","v":0},{"$f":"IF($B$4<>\"\",SUMPRODUCT(1*(ORARIO!$C$5:$G$14=$B5)*(ORARIO!$B$5:$B$14=F$3)),\"\")","v":0},{"$f":"IF($B$4<>\"\",SUMPRODUCT(1*(ORARIO!$C$5:$G$14=$B5)*(ORARIO!$B$5:$B$14=G$3)),\"\")","v":0},{"$f":"IF($B$4<>\"\",SUMPRODUCT(1*(ORARIO!$C$5:$G$14=$B5)*(ORARIO!$B$5:$B$14=H$3)),\"\")","v":0},{"$f":"IF($B$4<>\"\",SUMPRODUCT(1*(ORARIO!$C$5:$G$14=$B5)*(ORARIO!$B$5:$B$14=I$3)),\"\")","v":0},{"$f":"IF($B$4<>\"\",SUMPRODUCT(1*(ORARIO!$C$5:$G$14=$B5)*(ORARIO!$B$5:$B$14=J$3)),\"\")","v":0},null,{"$f":"IF($B5<>\"\",SUMPRODUCT(1*(ORARIO!$H$5:$L$14=$B5)*(ORARIO!$B$5:$B$14=L$3)),\"\")","v":0},{"$f":"IF($B5<>\"\",SUMPRODUCT(1*(ORARIO!$H$5:$L$14=$B5)*(ORARIO!$B$5:$B$14=M$3)),\"\")","v":0},{"$f":"IF($B5<>\"\",SUMPRODUCT(1*(ORARIO!$H$5:$L$14=$B5)*(ORARIO!$B$5:$B$14=N$3)),\"\")","v":0},{"$f":"IF($B5<>\"\",SUMPRODUCT(1*(ORARIO!$H$5:$L$14=$B5)*(ORARIO!$B$5:$B$14=O$3)),\"\")","v":0},{"$f":"IF($B5<>\"\",SUMPRODUCT(1*(ORARIO!$H$5:$L$14=$B5)*(ORARIO!$B$5:$B$14=P$3)),\"\")","v":0},{"$f":"IF($B5<>\"\",SUMPRODUCT(1*(ORARIO!$H$5:$L$14=$B5)*(ORARIO!$B$5:$B$14=Q$3)),\"\")","v":0},{"$f":"IF($B5<>\"\",SUMPRODUCT(1*(ORARIO!$H$5:$L$14=$B5)*(ORARIO!$B$5:$B$14=R$3)),\"\")","v":0},{"$f":"IF($B5<>\"\",SUMPRODUCT(1*(ORARIO!$H$5:$L$14=$B5)*(ORARIO!$B$5:$B$14=S$3)),\"\")","v":0},null,{"$f":"IF($B5<>\"\",SUMPRODUCT(1*(ORARIO!$M$5:$Q$14=$B5)*(ORARIO!$B$5:$B$14=U$3)),\"\")","v":0},{"$f":"IF($B5<>\"\",SUMPRODUCT(1*(ORARIO!$M$5:$Q$14=$B5)*(ORARIO!$B$5:$B$14=V$3)),\"\")","v":0},{"$f":"IF($B5<>\"\",SUMPRODUCT(1*(ORARIO!$M$5:$Q$14=$B5)*(ORARIO!$B$5:$B$14=W$3)),\"\")","v":0},{"$f":"IF($B5<>\"\",SUMPRODUCT(1*(ORARIO!$M$5:$Q$14=$B5)*(ORARIO!$B$5:$B$14=X$3)),\"\")","v":0},{"$f":"IF($B5<>\"\",SUMPRODUCT(1*(ORARIO!$M$5:$Q$14=$B5)*(ORARIO!$B$5:$B$14=Y$3)),\"\")","v":0},{"$f":"IF($B5<>\"\",SUMPRODUCT(1*(ORARIO!$M$5:$Q$14=$B5)*(ORARIO!$B$5:$B$14=Z$3)),\"\")","v":0},{"$f":"IF($B5<>\"\",SUMPRODUCT(1*(ORARIO!$M$5:$Q$14=$B5)*(ORARIO!$B$5:$B$14=AA$3)),\"\")","v":0},{"$f":"IF($B5<>\"\",SUMPRODUCT(1*(ORARIO!$M$5:$Q$14=$B5)*(ORARIO!$B$5:$B$14=AB$3)),\"\")","v":0},null,{"$f":"IF($B5<>\"\",SUMPRODUCT(1*(ORARIO!$R$5:$V$14=$B5)*(ORARIO!$B$5:$B$14=AD$3)),\"\")","v":0},{"$f":"IF($B5<>\"\",SUMPRODUCT(1*(ORARIO!$R$5:$V$14=$B5)*(ORARIO!$B$5:$B$14=AE$3)),\"\")","v":0},{"$f":"IF($B5<>\"\",SUMPRODUCT(1*(ORARIO!$R$5:$V$14=$B5)*(ORARIO!$B$5:$B$14=AF$3)),\"\")","v":0},{"$f":"IF($B5<>\"\",SUMPRODUCT(1*(ORARIO!$R$5:$V$14=$B5)*(ORARIO!$B$5:$B$14=AG$3)),\"\")","v":0},{"$f":"IF($B5<>\"\",SUMPRODUCT(1*(ORARIO!$R$5:$V$14=$B5)*(ORARIO!$B$5:$B$14=AH$3)),\"\")","v":0},{"$f":"IF($B5<>\"\",SUMPRODUCT(1*(ORARIO!$R$5:$V$14=$B5)*(ORARIO!$B$5:$B$14=AI$3)),\"\")","v":0},{"$f":"IF($B5<>\"\",SUMPRODUCT(1*(ORARIO!$R$5:$V$14=$B5)*(ORARIO!$B$5:$B$14=AJ$3)),\"\")","v":0},{"$f":"IF($B5<>\"\",SUMPRODUCT(1*(ORARIO!$R$5:$V$14=$B5)*(ORARIO!$B$5:$B$14=AK$3)),\"\")","v":0},null,{"$f":"IF($B5<>\"\",SUMPRODUCT(1*(ORARIO!$W$5:$AA$14=$B5)*(ORARIO!$B$5:$B$14=AM$3)),\"\")","v":0},{"$f":"IF($B5<>\"\",SUMPRODUCT(1*(ORARIO!$W$5:$AA$14=$B5)*(ORARIO!$B$5:$B$14=AN$3)),\"\")","v":0},{"$f":"IF($B5<>\"\",SUMPRODUCT(1*(ORARIO!$W$5:$AA$14=$B5)*(ORARIO!$B$5:$B$14=AO$3)),\"\")","v":0},{"$f":"IF($B5<>\"\",SUMPRODUCT(1*(ORARIO!$W$5:$AA$14=$B5)*(ORARIO!$B$5:$B$14=AP$3)),\"\")","v":0},{"$f":"IF($B5<>\"\",SUMPRODUCT(1*(ORARIO!$W$5:$AA$14=$B5)*(ORARIO!$B$5:$B$14=AQ$3)),\"\")","v":0},{"$f":"IF($B5<>\"\",SUMPRODUCT(1*(ORARIO!$W$5:$AA$14=$B5)*(ORARIO!$B$5:$B$14=AR$3)),\"\")","v":0},{"$f":"IF($B5<>\"\",SUMPRODUCT(1*(ORARIO!$W$5:$AA$14=$B5)*(ORARIO!$B$5:$B$14=AS$3)),\"\")","v":0},{"$f":"IF($B5<>\"\",SUMPRODUCT(1*(ORARIO!$W$5:$AA$14=$B5)*(ORARIO!$B$5:$B$14=AT$3)),\"\")","v":0}]
[null,"A ang",{"$f":"IF($B$4<>\"\",SUMPRODUCT(1*(ORARIO!$C$5:$G$14=$B6)*(ORARIO!$B$5:$B$14=C$3)),\"\")","v":0},{"$f":"IF($B$4<>\"\",SUMPRODUCT(1*(ORARIO!$C$5:$G$14=$B6)*(ORARIO!$B$5:$B$14=D$3)),\"\")","v":0},{"$f":"IF($B$4<>\"\",SUMPRODUCT(1*(ORARIO!$C$5:$G$14=$B6)*(ORARIO!$B$5:$B$14=E$3)),\"\")","v":0},{"$f":"IF($B$4<>\"\",SUMPRODUCT(1*(ORARIO!$C$5:$G$14=$B6)*(ORARIO!$B$5:$B$14=F$3)),\"\")","v":0},{"$f":"IF($B$4<>\"\",SUMPRODUCT(1*(ORARIO!$C$5:$G$14=$B6)*(ORARIO!$B$5:$B$14=G$3)),\"\")","v":0},{"$f":"IF($B$4<>\"\",SUMPRODUCT(1*(ORARIO!$C$5:$G$14=$B6)*(ORARIO!$B$5:$B$14=H$3)),\"\")","v":0},{"$f":"IF($B$4<>\"\",SUMPRODUCT(1*(ORARIO!$C$5:$G$14=$B6)*(ORARIO!$B$5:$B$14=I$3)),\"\")","v":0},{"$f":"IF($B$4<>\"\",SUMPRODUCT(1*(ORARIO!$C$5:$G$14=$B6)*(ORARIO!$B$5:$B$14=J$3)),\"\")","v":0},null,{"$f":"IF($B6<>\"\",SUMPRODUCT(1*(ORARIO!$H$5:$L$14=$B6)*(ORARIO!$B$5:$B$14=L$3)),\"\")","v":0},{"$f":"IF($B6<>\"\",SUMPRODUCT(1*(ORARIO!$H$5:$L$14=$B6)*(ORARIO!$B$5:$B$14=M$3)),\"\")","v":0},{"$f":"IF($B6<>\"\",SUMPRODUCT(1*(ORARIO!$H$5:$L$14=$B6)*(ORARIO!$B$5:$B$14=N$3)),\"\")","v":0},{"$f":"IF($B6<>\"\",SUMPRODUCT(1*(ORARIO!$H$5:$L$14=$B6)*(ORARIO!$B$5:$B$14=O$3)),\"\")","v":0},{"$f":"IF($B6<>\"\",SUMPRODUCT(1*(ORARIO!$H$5:$L$14=$B6)*(ORARIO!$B$5:$B$14=P$3)),\"\")","v":0},{"$f":"IF($B6<>\"\",SUMPRODUCT(1*(ORARIO!$H$5:$L$14=$B6)*(ORARIO!$B$5:$B$14=Q$3)),\"\")","v":0},{"$f":"IF($B6<>\"\",SUMPRODUCT(1*(ORARIO!$H$5:$L$14=$B6)*(ORARIO!$B$5:$B$14=R$3)),\"\")","v":0},{"$f":"IF($B6<>\"\",SUMPRODUCT(1*(ORARIO!$H$5:$L$14=$B6)*(ORARIO!$B$5:$B$14=S$3)),\"\")","v":0},null,{"$f":"IF($B6<>\"\",SUMPRODUCT(1*(ORARIO!$M$5:$Q$14=$B6)*(ORARIO!$B$5:$B$14=U$3)),\"\")","v":0},{"$f":"IF($B6<>\"\",SUMPRODUCT(1*(ORARIO!$M$5:$Q$14=$B6)*(ORARIO!$B$5:$B$14=V$3)),\"\")","v":0},{"$f":"IF($B6<>\"\",SUMPRODUCT(1*(ORARIO!$M$5:$Q$14=$B6)*(ORARIO!$B$5:$B$14=W$3)),\"\")","v":0},{"$f":"IF($B6<>\"\",SUMPRODUCT(1*(ORARIO!$M$5:$Q$14=$B6)*(ORARIO!$B$5:$B$14=X$3)),\"\")","v":0},{"$f":"IF($B6<>\"\",SUMPRODUCT(1*(ORARIO!$M$5:$Q$14=$B6)*(ORARIO!$B$5:$B$14=Y$3)),\"\")","v":0},{"$f":"IF($B6<>\"\",SUMPRODUCT(1*(ORARIO!$M$5:$Q$14=$B6)*(ORARIO!$B$5:$B$14=Z$3)),\"\")","v":0},{"$f":"IF($B6<>\"\",SUMPRODUCT(1*(ORARIO!$M$5:$Q$14=$B6)*(ORARIO!$B$5:$B$14=AA$3)),\"\")","v":0},{"$f":"IF($B6<>\"\",SUMPRODUCT(1*(ORARIO!$M$5:$Q$14=$B6)*(ORARIO!$B$5:$B$14=AB$3)),\"\")","v":0},null,{"$f":"IF($B6<>\"\",SUMPRODUCT(1*(ORARIO!$R$5:$V$14=$B6)*(ORARIO!$B$5:$B$14=AD$3)),\"\")","v":0},{"$f":"IF($B6<>\"\",SUMPRODUCT(1*(ORARIO!$R$5:$V$14=$B6)*(ORARIO!$B$5:$B$14=AE$3)),\"\")","v":0},{"$f":"IF($B6<>\"\",SUMPRODUCT(1*(ORARIO!$R$5:$V$14=$B6)*(ORARIO!$B$5:$B$14=AF$3)),\"\")","v":0},{"$f":"IF($B6<>\"\",SUMPRODUCT(1*(ORARIO!$R$5:$V$14=$B6)*(ORARIO!$B$5:$B$14=AG$3)),\"\")","v":0},{"$f":"IF($B6<>\"\",SUMPRODUCT(1*(ORARIO!$R$5:$V$14=$B6)*(ORARIO!$B$5:$B$14=AH$3)),\"\")","v":0},{"$f":"IF($B6<>\"\",SUMPRODUCT(1*(ORARIO!$R$5:$V$14=$B6)*(ORARIO!$B$5:$B$14=AI$3)),\"\")","v":0},{"$f":"IF($B6<>\"\",SUMPRODUCT(1*(ORARIO!$R$5:$V$14=$B6)*(ORARIO!$B$5:$B$14=AJ$3)),\"\")","v":0},{"$f":"IF($B6<>\"\",SUMPRODUCT(1*(ORARIO!$R$5:$V$14=$B6)*(ORARIO!$B$5:$B$14=AK$3)),\"\")","v":0},null,{"$f":"IF($B6<>\"\",SUMPRODUCT(1*(ORARIO!$W$5:$AA$14=$B6)*(ORARIO!$B$5:$B$14=AM$3)),\"\")","v":0},{"$f":"IF($B6<>\"\",SUMPRODUCT(1*(ORARIO!$W$5:$AA$14=$B6)*(ORARIO!$B$5:$B$14=AN$3)),\"\")","v":0},{"$f":"IF($B6<>\"\",SUMPRODUCT(1*(ORARIO!$W$5:$AA$14=$B6)*(ORARIO!$B$5:$B$14=AO$3)),\"\")","v":0},{"$f":"IF($B6<>\"\",SUMPRODUCT(1*(ORARIO!$W$5:$AA$14=$B6)*(ORARIO!$B$5:$B$14=AP$3)),\"\")","v":1},{"$f":"IF($B6<>\"\",SUMPRODUCT(1*(ORARIO!$W$5:$AA$14=$B6)*(ORARIO!$B$5:$B$14=AQ$3)),\"\")","v":0},{"$f":"IF($B6<>\"\",SUMPRODUCT(1*(ORARIO!$W$5:$AA$14=$B6)*(ORARIO!$B$5:$B$14=AR$3)),\"\")","v":0},{"$f":"IF($B6<>\"\",SUMPRODUCT(1*(ORARIO!$W$5:$AA$14=$B6)*(ORARIO!$B$5:$B$14=AS$3)),\"\")","v":0},{"$f":"IF($B6<>\"\",SUMPRODUCT(1*(ORARIO!$W$5:$AA$14=$B6)*(ORARIO!$B$5:$B$14=AT$3)),\"\")","v":0}]
[null,"A mat",{"$f":"IF($B$4<>\"\",SUMPRODUCT(1*(ORARIO!$C$5:$G$14=$B7)*(ORARIO!$B$5:$B$14=C$3)),\"\")","v":0},{"$f":"IF($B$4<>\"\",SUMPRODUCT(1*(ORARIO!$C$5:$G$14=$B7)*(ORARIO!$B$5:$B$14=D$3)),\"\")","v":0},{"$f":"IF($B$4<>\"\",SUMPRODUCT(1*(ORARIO!$C$5:$G$14=$B7)*(ORARIO!$B$5:$B$14=E$3)),\"\")","v":0},{"$f":"IF($B$4<>\"\",SUMPRODUCT(1*(ORARIO!$C$5:$G$14=$B7)*(ORARIO!$B$5:$B$14=F$3)),\"\")","v":0},{"$f":"IF($B$4<>\"\",SUMPRODUCT(1*(ORARIO!$C$5:$G$14=$B7)*(ORARIO!$B$5:$B$14=G$3)),\"\")","v":0},{"$f":"IF($B$4<>\"\",SUMPRODUCT(1*(ORARIO!$C$5:$G$14=$B7)*(ORARIO!$B$5:$B$14=H$3)),\"\")","v":0},{"$f":"IF($B$4<>\"\",SUMPRODUCT(1*(ORARIO!$C$5:$G$14=$B7)*(ORARIO!$B$5:$B$14=I$3)),\"\")","v":0},{"$f":"IF($B$4<>\"\",SUMPRODUCT(1*(ORARIO!$C$5:$G$14=$B7)*(ORARIO!$B$5:$B$14=J$3)),\"\")","v":1},null,{"$f":"IF($B7<>\"\",SUMPRODUCT(1*(ORARIO!$H$5:$L$14=$B7)*(ORARIO!$B$5:$B$14=L$3)),\"\")","v":0},{"$f":"IF($B7<>\"\",SUMPRODUCT(1*(ORARIO!$H$5:$L$14=$B7)*(ORARIO!$B$5:$B$14=M$3)),\"\")","v":0},{"$f":"IF($B7<>\"\",SUMPRODUCT(1*(ORARIO!$H$5:$L$14=$B7)*(ORARIO!$B$5:$B$14=N$3)),\"\")","v":0},{"$f":"IF($B7<>\"\",SUMPRODUCT(1*(ORARIO!$H$5:$L$14=$B7)*(ORARIO!$B$5:$B$14=O$3)),\"\")","v":0},{"$f":"IF($B7<>\"\",SUMPRODUCT(1*(ORARIO!$H$5:$L$14=$B7)*(ORARIO!$B$5:$B$14=P$3)),\"\")","v":0},{"$f":"IF($B7<>\"\",SUMPRODUCT(1*(ORARIO!$H$5:$L$14=$B7)*(ORARIO!$B$5:$B$14=Q$3)),\"\")","v":0},{"$f":"IF($B7<>\"\",SUMPRODUCT(1*(ORARIO!$H$5:$L$14=$B7)*(ORARIO!$B$5:$B$14=R$3)),\"\")","v":0},{"$f":"IF($B7<>\"\",SUMPRODUCT(1*(ORARIO!$H$5:$L$14=$B7)*(ORARIO!$B$5:$B$14=S$3)),\"\")","v":0},null,{"$f":"IF($B7<>\"\",SUMPRODUCT(1*(ORARIO!$M$5:$Q$14=$B7)*(ORARIO!$B$5:$B$14=U$3)),\"\")","v":0},{"$f":"IF($B7<>\"\",SUMPRODUCT(1*(ORARIO!$M$5:$Q$14=$B7)*(ORARIO!$B$5:$B$14=V$3)),\"\")","v":0},{"$f":"IF($B7<>\"\",SUMPRODUCT(1*(ORARIO!$M$5:$Q$14=$B7)*(ORARIO!$B$5:$B$14=W$3)),\"\")","v":0},{"$f":"IF($B7<>\"\",SUMPRODUCT(1*(ORARIO!$M$5:$Q$14=$B7)*(ORARIO!$B$5:$B$14=X$3)),\"\")","v":0},{"$f":"IF($B7<>\"\",SUMPRODUCT(1*(ORARIO!$M$5:$Q$14=$B7)*(ORARIO!$B$5:$B$14=Y$3)),\"\")","v":0},{"$f":"IF($B7<>\"\",SUMPRODUCT(1*(ORARIO!$M$5:$Q$14=$B7)*(ORARIO!$B$5:$B$14=Z$3)),\"\")","v":0},{"$f":"IF($B7<>\"\",SUMPRODUCT(1*(ORARIO!$M$5:$Q$14=$B7)*(ORARIO!$B$5:$B$14=AA$3)),\"\")","v":0},{"$f":"IF($B7<>\"\",SUMPRODUCT(1*(ORARIO!$M$5:$Q$14=$B7)*(ORARIO!$B$5:$B$14=AB$3)),\"\")","v":0},null,{"$f":"IF($B7<>\"\",SUMPRODUCT(1*(ORARIO!$R$5:$V$14=$B7)*(ORARIO!$B$5:$B$14=AD$3)),\"\")","v":0},{"$f":"IF($B7<>\"\",SUMPRODUCT(1*(ORARIO!$R$5:$V$14=$B7)*(ORARIO!$B$5:$B$14=AE$3)),\"\")","v":0},{"$f":"IF($B7<>\"\",SUMPRODUCT(1*(ORARIO!$R$5:$V$14=$B7)*(ORARIO!$B$5:$B$14=AF$3)),\"\")","v":0},{"$f":"IF($B7<>\"\",SUMPRODUCT(1*(ORARIO!$R$5:$V$14=$B7)*(ORARIO!$B$5:$B$14=AG$3)),\"\")","v":0},{"$f":"IF($B7<>\"\",SUMPRODUCT(1*(ORARIO!$R$5:$V$14=$B7)*(ORARIO!$B$5:$B$14=AH$3)),\"\")","v":0},{"$f":"IF($B7<>\"\",SUMPRODUCT(1*(ORARIO!$R$5:$V$14=$B7)*(ORARIO!$B$5:$B$14=AI$3)),\"\")","v":0},{"$f":"IF($B7<>\"\",SUMPRODUCT(1*(ORARIO!$R$5:$V$14=$B7)*(ORARIO!$B$5:$B$14=AJ$3)),\"\")","v":0},{"$f":"IF($B7<>\"\",SUMPRODUCT(1*(ORARIO!$R$5:$V$14=$B7)*(ORARIO!$B$5:$B$14=AK$3)),\"\")","v":0},null,{"$f":"IF($B7<>\"\",SUMPRODUCT(1*(ORARIO!$W$5:$AA$14=$B7)*(ORARIO!$B$5:$B$14=AM$3)),\"\")","v":0},{"$f":"IF($B7<>\"\",SUMPRODUCT(1*(ORARIO!$W$5:$AA$14=$B7)*(ORARIO!$B$5:$B$14=AN$3)),\"\")","v":0},{"$f":"IF($B7<>\"\",SUMPRODUCT(1*(ORARIO!$W$5:$AA$14=$B7)*(ORARIO!$B$5:$B$14=AO$3)),\"\")","v":0},{"$f":"IF($B7<>\"\",SUMPRODUCT(1*(ORARIO!$W$5:$AA$14=$B7)*(ORARIO!$B$5:$B$14=AP$3)),\"\")","v":0},{"$f":"IF($B7<>\"\",SUMPRODUCT(1*(ORARIO!$W$5:$AA$14=$B7)*(ORARIO!$B$5:$B$14=AQ$3)),\"\")","v":0},{"$f":"IF($B7<>\"\",SUMPRODUCT(1*(ORARIO!$W$5:$AA$14=$B7)*(ORARIO!$B$5:$B$14=AR$3)),\"\")","v":0},{"$f":"IF($B7<>\"\",SUMPRODUCT(1*(ORARIO!$W$5:$AA$14=$B7)*(ORARIO!$B$5:$B$14=AS$3)),\"\")","v":0},{"$f":"IF($B7<>\"\",SUMPRODUCT(1*(ORARIO!$W$5:$AA$14=$B7)*(ORARIO!$B$5:$B$14=AT$3)),\"\")","v":0}]
[null,"A nar",{"$f":"IF($B$4<>\"\",SUMPRODUCT(1*(ORARIO!$C$5:$G$14=$B8)*(ORARIO!$B$5:$B$14=C$3)),\"\")","v":0},{"$f":"IF($B$4<>\"\",SUMPRODUCT(1*(ORARIO!$C$5:$G$14=$B8)*(ORARIO!$B$5:$B$14=D$3)),\"\")","v":0},{"$f":"IF($B$4<>\"\",SUMPRODUCT(1*(ORARIO!$C$5:$G$14=$B8)*(ORARIO!$B$5:$B$14=E$3)),\"\")","v":0},{"$f":"IF($B$4<>\"\",SUMPRODUCT(1*(ORARIO!$C$5:$G$14=$B8)*(ORARIO!$B$5:$B$14=F$3)),\"\")","v":0},{"$f":"IF($B$4<>\"\",SUMPRODUCT(1*(ORARIO!$C$5:$G$14=$B8)*(ORARIO!$B$5:$B$14=G$3)),\"\")","v":0},{"$f":"IF($B$4<>\"\",SUMPRODUCT(1*(ORARIO!$C$5:$G$14=$B8)*(ORARIO!$B$5:$B$14=H$3)),\"\")","v":0},{"$f":"IF($B$4<>\"\",SUMPRODUCT(1*(ORARIO!$C$5:$G$14=$B8)*(ORARIO!$B$5:$B$14=I$3)),\"\")","v":0},{"$f":"IF($B$4<>\"\",SUMPRODUCT(1*(ORARIO!$C$5:$G$14=$B8)*(ORARIO!$B$5:$B$14=J$3)),\"\")","v":0},null,{"$f":"IF($B8<>\"\",SUMPRODUCT(1*(ORARIO!$H$5:$L$14=$B8)*(ORARIO!$B$5:$B$14=L$3)),\"\")","v":0},{"$f":"IF($B8<>\"\",SUMPRODUCT(1*(ORARIO!$H$5:$L$14=$B8)*(ORARIO!$B$5:$B$14=M$3)),\"\")","v":0},{"$f":"IF($B8<>\"\",SUMPRODUCT(1*(ORARIO!$H$5:$L$14=$B8)*(ORARIO!$B$5:$B$14=N$3)),\"\")","v":0},{"$f":"IF($B8<>\"\",SUMPRODUCT(1*(ORARIO!$H$5:$L$14=$B8)*(ORARIO!$B$5:$B$14=O$3)),\"\")","v":0},{"$f":"IF($B8<>\"\",SUMPRODUCT(1*(ORARIO!$H$5:$L$14=$B8)*(ORARIO!$B$5:$B$14=P$3)),\"\")","v":0},{"$f":"IF($B8<>\"\",SUMPRODUCT(1*(ORARIO!$H$5:$L$14=$B8)*(ORARIO!$B$5:$B$14=Q$3)),\"\")","v":0},{"$f":"IF($B8<>\"\",SUMPRODUCT(1*(ORARIO!$H$5:$L$14=$B8)*(ORARIO!$B$5:$B$14=R$3)),\"\")","v":0},{"$f":"IF($B8<>\"\",SUMPRODUCT(1*(ORARIO!$H$5:$L$14=$B8)*(ORARIO!$B$5:$B$14=S$3)),\"\")","v":0},null,{"$f":"IF($B8<>\"\",SUMPRODUCT(1*(ORARIO!$M$5:$Q$14=$B8)*(ORARIO!$B$5:$B$14=U$3)),\"\")","v":1},{"$f":"IF($B8<>\"\",SUMPRODUCT(1*(ORARIO!$M$5:$Q$14=$B8)*(ORARIO!$B$5:$B$14=V$3)),\"\")","v":0},{"$f":"IF($B8<>\"\",SUMPRODUCT(1*(ORARIO!$M$5:$Q$14=$B8)*(ORARIO!$B$5:$B$14=W$3)),\"\")","v":0},{"$f":"IF($B8<>\"\",SUMPRODUCT(1*(ORARIO!$M$5:$Q$14=$B8)*(ORARIO!$B$5:$B$14=X$3)),\"\")","v":0},{"$f":"IF($B8<>\"\",SUMPRODUCT(1*(ORARIO!$M$5:$Q$14=$B8)*(ORARIO!$B$5:$B$14=Y$3)),\"\")","v":0},{"$f":"IF($B8<>\"\",SUMPRODUCT(1*(ORARIO!$M$5:$Q$14=$B8)*(ORARIO!$B$5:$B$14=Z$3)),\"\")","v":0},{"$f":"IF($B8<>\"\",SUMPRODUCT(1*(ORARIO!$M$5:$Q$14=$B8)*(ORARIO!$B$5:$B$14=AA$3)),\"\")","v":0},{"$f":"IF($B8<>\"\",SUMPRODUCT(1*(ORARIO!$M$5:$Q$14=$B8)*(ORARIO!$B$5:$B$14=AB$3)),\"\")","v":0},null,{"$f":"IF($B8<>\"\",SUMPRODUCT(1*(ORARIO!$R$5:$V$14=$B8)*(ORARIO!$B$5:$B$14=AD$3)),\"\")","v":0},{"$f":"IF($B8<>\"\",SUMPRODUCT(1*(ORARIO!$R$5:$V$14=$B8)*(ORARIO!$B$5:$B$14=AE$3)),\"\")","v":0},{"$f":"IF($B8<>\"\",SUMPRODUCT(1*(ORARIO!$R$5:$V$14=$B8)*(ORARIO!$B$5:$B$14=AF$3)),\"\")","v":0},{"$f":"IF($B8<>\"\",SUMPRODUCT(1*(ORARIO!$R$5:$V$14=$B8)*(ORARIO!$B$5:$B$14=AG$3)),\"\")","v":0},{"$f":"IF($B8<>\"\",SUMPRODUCT(1*(ORARIO!$R$5:$V$14=$B8)*(ORARIO!$B$5:$B$14=AH$3)),\"\")","v":0},{"$f":"IF($B8<>\"\",SUMPRODUCT(1*(ORARIO!$R$5:$V$14=$B8)*(ORARIO!$B$5:$B$14=AI$3)),\"\")","v":0},{"$f":"IF($B8<>\"\",SUMPRODUCT(1*(ORARIO!$R$5:$V$14=$B8)*(ORARIO!$B$5:$B$14=AJ$3)),\"\")","v":0},{"$f":"IF($B8<>\"\",SUMPRODUCT(1*(ORARIO!$R$5:$V$14=$B8)*(ORARIO!$B$5:$B$14=AK$3)),\"\")","v":0},null,{"$f":"IF($B8<>\"\",SUMPRODUCT(1*(ORARIO!$W$5:$AA$14=$B8)*(ORARIO!$B$5:$B$14=AM$3)),\"\")","v":0},{"$f":"IF($B8<>\"\",SUMPRODUCT(1*(ORARIO!$W$5:$AA$14=$B8)*(ORARIO!$B$5:$B$14=AN$3)),\"\")","v":0},{"$f":"IF($B8<>\"\",SUMPRODUCT(1*(ORARIO!$W$5:$AA$14=$B8)*(ORARIO!$B$5:$B$14=AO$3)),\"\")","v":0},{"$f":"IF($B8<>\"\",SUMPRODUCT(1*(ORARIO!$W$5:$AA$14=$B8)*(ORARIO!$B$5:$B$14=AP$3)),\"\")","v":0},{"$f":"IF($B8<>\"\",SUMPRODUCT(1*(ORARIO!$W$5:$AA$14=$B8)*(ORARIO!$B$5:$B$14=AQ$3)),\"\")","v":0},{"$f":"IF($B8<>\"\",SUMPRODUCT(1*(ORARIO!$W$5:$AA$14=$B8)*(ORARIO!$B$5:$B$14=AR$3)),\"\")","v":0},{"$f":"IF($B8<>\"\",SUMPRODUCT(1*(ORARIO!$W$5:$AA$14=$B8)*(ORARIO!$B$5:$B$14=AS$3)),\"\")","v":0},{"$f":"IF($B8<>\"\",SUMPRODUCT(1*(ORARIO!$W$5:$AA$14=$B8)*(ORARIO!$B$5:$B$14=AT$3)),\"\")","v":0}]
[null,"A zgo",{"$f":"IF($B$4<>\"\",SUMPRODUCT(1*(ORARIO!$C$5:$G$14=$B9)*(ORARIO!$B$5:$B$14=C$3)),\"\")","v":0},{"$f":"IF($B$4<>\"\",SUMPRODUCT(1*(ORARIO!$C$5:$G$14=$B9)*(ORARIO!$B$5:$B$14=D$3)),\"\")","v":0},{"$f":"IF($B$4<>\"\",SUMPRODUCT(1*(ORARIO!$C$5:$G$14=$B9)*(ORARIO!$B$5:$B$14=E$3)),\"\")","v":0},{"$f":"IF($B$4<>\"\",SUMPRODUCT(1*(ORARIO!$C$5:$G$14=$B9)*(ORARIO!$B$5:$B$14=F$3)),\"\")","v":0},{"$f":"IF($B$4<>\"\",SUMPRODUCT(1*(ORARIO!$C$5:$G$14=$B9)*(ORARIO!$B$5:$B$14=G$3)),\"\")","v":0},{"$f":"IF($B$4<>\"\",SUMPRODUCT(1*(ORARIO!$C$5:$G$14=$B9)*(ORARIO!$B$5:$B$14=H$3)),\"\")","v":0},{"$f":"IF($B$4<>\"\",SUMPRODUCT(1*(ORARIO!$C$5:$G$14=$B9)*(ORARIO!$B$5:$B$14=I$3)),\"\")","v":0},{"$f":"IF($B$4<>\"\",SUMPRODUCT(1*(ORARIO!$C$5:$G$14=$B9)*(ORARIO!$B$5:$B$14=J$3)),\"\")","v":0},null,{"$f":"IF($B9<>\"\",SUMPRODUCT(1*(ORARIO!$H$5:$L$14=$B9)*(ORARIO!$B$5:$B$14=L$3)),\"\")","v":0},{"$f":"IF($B9<>\"\",SUMPRODUCT(1*(ORARIO!$H$5:$L$14=$B9)*(ORARIO!$B$5:$B$14=M$3)),\"\")","v":0},{"$f":"IF($B9<>\"\",SUMPRODUCT(1*(ORARIO!$H$5:$L$14=$B9)*(ORARIO!$B$5:$B$14=N$3)),\"\")","v":0},{"$f":"IF($B9<>\"\",SUMPRODUCT(1*(ORARIO!$H$5:$L$14=$B9)*(ORARIO!$B$5:$B$14=O$3)),\"\")","v":0},{"$f":"IF($B9<>\"\",SUMPRODUCT(1*(ORARIO!$H$5:$L$14=$B9)*(ORARIO!$B$5:$B$14=P$3)),\"\")","v":0},{"$f":"IF($B9<>\"\",SUMPRODUCT(1*(ORARIO!$H$5:$L$14=$B9)*(ORARIO!$B$5:$B$14=Q$3)),\"\")","v":0},{"$f":"IF($B9<>\"\",SUMPRODUCT(1*(ORARIO!$H$5:$L$14=$B9)*(ORARIO!$B$5:$B$14=R$3)),\"\")","v":0},{"$f":"IF($B9<>\"\",SUMPRODUCT(1*(ORARIO!$H$5:$L$14=$B9)*(ORARIO!$B$5:$B$14=S$3)),\"\")","v":0},null,{"$f":"IF($B9<>\"\",SUMPRODUCT(1*(ORARIO!$M$5:$Q$14=$B9)*(ORARIO!$B$5:$B$14=U$3)),\"\")","v":0},{"$f":"IF($B9<>\"\",SUMPRODUCT(1*(ORARIO!$M$5:$Q$14=$B9)*(ORARIO!$B$5:$B$14=V$3)),\"\")","v":0},{"$f":"IF($B9<>\"\",SUMPRODUCT(1*(ORARIO!$M$5:$Q$14=$B9)*(ORARIO!$B$5:$B$14=W$3)),\"\")","v":0},{"$f":"IF($B9<>\"\",SUMPRODUCT(1*(ORARIO!$M$5:$Q$14=$B9)*(ORARIO!$B$5:$B$14=X$3)),\"\")","v":0},{"$f":"IF($B9<>\"\",SUMPRODUCT(1*(ORARIO!$M$5:$Q$14=$B9)*(ORARIO!$B$5:$B$14=Y$3)),\"\")","v":0},{"$f":"IF($B9<>\"\",SUMPRODUCT(1*(ORARIO!$M$5:$Q$14=$B9)*(ORARIO!$B$5:$B$14=Z$3)),\"\")","v":0},{"$f":"IF($B9<>\"\",SUMPRODUCT(1*(ORARIO!$M$5:$Q$14=$B9)*(ORARIO!$B$5:$B$14=AA$3)),\"\")","v":0},{"$f":"IF($B9<>\"\",SUMPRODUCT(1*(ORARIO!$M$5:$Q$14=$B9)*(ORARIO!$B$5:$B$14=AB$3)),\"\")","v":0},null,{"$f":"IF($B9<>\"\",SUMPRODUCT(1*(ORARIO!$R$5:$V$14=$B9)*(ORARIO!$B$5:$B$14=AD$3)),\"\")","v":0},{"$f":"IF($B9<>\"\",SUMPRODUCT(1*(ORARIO!$R$5:$V$14=$B9)*(ORARIO!$B$5:$B$14=AE$3)),\"\")","v":0},{"$f":"IF($B9<>\"\",SUMPRODUCT(1*(ORARIO!$R$5:$V$14=$B9)*(ORARIO!$B$5:$B$14=AF$3)),\"\")","v":0},{"$f":"IF($B9<>\"\",SUMPRODUCT(1*(ORARIO!$R$5:$V$14=$B9)*(ORARIO!$B$5:$B$14=AG$3)),\"\")","v":0},{"$f":"IF($B9<>\"\",SUMPRODUCT(1*(ORARIO!$R$5:$V$14=$B9)*(ORARIO!$B$5:$B$14=AH$3)),\"\")","v":0},{"$f":"IF($B9<>\"\",SUMPRODUCT(1*(ORARIO!$R$5:$V$14=$B9)*(ORARIO!$B$5:$B$14=AI$3)),\"\")","v":0},{"$f":"IF($B9<>\"\",SUMPRODUCT(1*(ORARIO!$R$5:$V$14=$B9)*(ORARIO!$B$5:$B$14=AJ$3)),\"\")","v":0},{"$f":"IF($B9<>\"\",SUMPRODUCT(1*(ORARIO!$R$5:$V$14=$B9)*(ORARIO!$B$5:$B$14=AK$3)),\"\")","v":0},null,{"$f":"IF($B9<>\"\",SUMPRODUCT(1*(ORARIO!$W$5:$AA$14=$B9)*(ORARIO!$B$5:$B$14=AM$3)),\"\")","v":0},{"$f":"IF($B9<>\"\",SUMPRODUCT(1*(ORARIO!$W$5:$AA$14=$B9)*(ORARIO!$B$5:$B$14=AN$3)),\"\")","v":0},{"$f":"IF($B9<>\"\",SUMPRODUCT(1*(ORARIO!$W$5:$AA$14=$B9)*(ORARIO!$B$5:$B$14=AO$3)),\"\")","v":0},{"$f":"IF($B9<>\"\",SUMPRODUCT(1*(ORARIO!$W$5:$AA$14=$B9)*(ORARIO!$B$5:$B$14=AP$3)),\"\")","v":0},{"$f":"IF($B9<>\"\",SUMPRODUCT(1*(ORARIO!$W$5:$AA$14=$B9)*(ORARIO!$B$5:$B$14=AQ$3)),\"\")","v":0},{"$f":"IF($B9<>\"\",SUMPRODUCT(1*(ORARIO!$W$5:$AA$14=$B9)*(ORARIO!$B$5:$B$14=AR$3)),\"\")","v":0},{"$f":"IF($B9<>\"\",SUMPRODUCT(1*(ORARIO!$W$5:$AA$14=$B9)*(ORARIO!$B$5:$B$14=AS$3)),\"\")","v":0},{"$f":"IF($B9<>\"\",SUMPRODUCT(1*(ORARIO!$W$5:$AA$14=$B9)*(ORARIO!$B$5:$B$14=AT$3)),\"\")","v":0}]
[null,"A geo",{"$f":"IF($B$4<>\"\",SUMPRODUCT(1*(ORARIO!$C$5:$G$14=$B10)*(ORARIO!$B$5:$B$14=C$3)),\"\")","v":0},{"$f":"IF($B$4<>\"\",SUMPRODUCT(1*(ORARIO!$C$5:$G$14=$B10)*(ORARIO!$B$5:$B$14=D$3)),\"\")","v":0},{"$f":"IF($B$4<>\"\",SUMPRODUCT(1*(ORARIO!$C$5:$G$14=$B10)*(ORARIO!$B$5:$B$14=E$3)),\"\")","v":0},{"$f":"IF($B$4<>\"\",SUMPRODUCT(1*(ORARIO!$C$5:$G$14=$B10)*(ORARIO!$B$5:$B$14=F$3)),\"\")","v":0},{"$f":"IF($B$4<>\"\",SUMPRODUCT(1*(ORARIO!$C$5:$G$14=$B10)*(ORARIO!$B$5:$B$14=G$3)),\"\")","v":0},{"$f":"IF($B$4<>\"\",SUMPRODUCT(1*(ORARIO!$C$5:$G$14=$B10)*(ORARIO!$B$5:$B$14=H$3)),\"\")","v":0},{"$f":"IF($B$4<>\"\",SUMPRODUCT(1*(ORARIO!$C$5:$G$14=$B10)*(ORARIO!$B$5:$B$14=I$3)),\"\")","v":0},{"$f":"IF($B$4<>\"\",SUMPRODUCT(1*(ORARIO!$C$5:$G$14=$B10)*(ORARIO!$B$5:$B$14=J$3)),\"\")","v":0},null,{"$f":"IF($B10<>\"\",SUMPRODUCT(1*(ORARIO!$H$5:$L$14=$B10)*(ORARIO!$B$5:$B$14=L$3)),\"\")","v":0},{"$f":"IF($B10<>\"\",SUMPRODUCT(1*(ORARIO!$H$5:$L$14=$B10)*(ORARIO!$B$5:$B$14=M$3)),\"\")","v":0},{"$f":"IF($B10<>\"\",SUMPRODUCT(1*(ORARIO!$H$5:$L$14=$B10)*(ORARIO!$B$5:$B$14=N$3)),\"\")","v":0},{"$f":"IF($B10<>\"\",SUMPRODUCT(1*(ORARIO!$H$5:$L$14=$B10)*(ORARIO!$B$5:$B$14=O$3)),\"\")","v":0},{"$f":"IF($B10<>\"\",SUMPRODUCT(1*(ORARIO!$H$5:$L$14=$B10)*(ORARIO!$B$5:$B$14=P$3)),\"\")","v":0},{"$f":"IF($B10<>\"\",SUMPRODUCT(1*(ORARIO!$H$5:$L$14=$B10)*(ORARIO!$B$5:$B$14=Q$3)),\"\")","v":0},{"$f":"IF($B10<>\"\",SUMPRODUCT(1*(ORARIO!$H$5:$L$14=$B10)*(ORARIO!$B$5:$B$14=R$3)),\"\")","v":0},{"$f":"IF($B10<>\"\",SUMPRODUCT(1*(ORARIO!$H$5:$L$14=$B10)*(ORARIO!$B$5:$B$14=S$3)),\"\")","v":0},null,{"$f":"IF($B10<>\"\",SUMPRODUCT(1*(ORARIO!$M$5:$Q$14=$B10)*(ORARIO!$B$5:$B$14=U$3)),\"\")","v":0},{"$f":"IF($B10<>\"\",SUMPRODUCT(1*(ORARIO!$M$5:$Q$14=$B10)*(ORARIO!$B$5:$B$14=V$3)),\"\")","v":0},{"$f":"IF($B10<>\"\",SUMPRODUCT(1*(ORARIO!$M$5:$Q$14=$B10)*(ORARIO!$B$5:$B$14=W$3)),\"\")","v":0},{"$f":"IF($B10<>\"\",SUMPRODUCT(1*(ORARIO!$M$5:$Q$14=$B10)*(ORARIO!$B$5:$B$14=X$3)),\"\")","v":0},{"$f":"IF($B10<>\"\",SUMPRODUCT(1*(ORARIO!$M$5:$Q$14=$B10)*(ORARIO!$B$5:$B$14=Y$3)),\"\")","v":0},{"$f":"IF($B10<>\"\",SUMPRODUCT(1*(ORARIO!$M$5:$Q$14=$B10)*(ORARIO!$B$5:$B$14=Z$3)),\"\")","v":0},{"$f":"IF($B10<>\"\",SUMPRODUCT(1*(ORARIO!$M$5:$Q$14=$B10)*(ORARIO!$B$5:$B$14=AA$3)),\"\")","v":0},{"$f":"IF($B10<>\"\",SUMPRODUCT(1*(ORARIO!$M$5:$Q$14=$B10)*(ORARIO!$B$5:$B$14=AB$3)),\"\")","v":0},null,{"$f":"IF($B10<>\"\",SUMPRODUCT(1*(ORARIO!$R$5:$V$14=$B10)*(ORARIO!$B$5:$B$14=AD$3)),\"\")","v":0},{"$f":"IF($B10<>\"\",SUMPRODUCT(1*(ORARIO!$R$5:$V$14=$B10)*(ORARIO!$B$5:$B$14=AE$3)),\"\")","v":0},{"$f":"IF($B10<>\"\",SUMPRODUCT(1*(ORARIO!$R$5:$V$14=$B10)*(ORARIO!$B$5:$B$14=AF$3)),\"\")","v":0},{"$f":"IF($B10<>\"\",SUMPRODUCT(1*(ORARIO!$R$5:$V$14=$B10)*(ORARIO!$B$5:$B$14=AG$3)),\"\")","v":0},{"$f":"IF($B10<>\"\",SUMPRODUCT(1*(ORARIO!$R$5:$V$14=$B10)*(ORARIO!$B$5:$B$14=AH$3)),\"\")","v":0},{"$f":"IF($B10<>\"\",SUMPRODUCT(1*(ORARIO!$R$5:$V$14=$B10)*(ORARIO!$B$5:$B$14=AI$3)),\"\")","v":0},{"$f":"IF($B10<>\"\",SUMPRODUCT(1*(ORARIO!$R$5:$V$14=$B10)*(ORARIO!$B$5:$B$14=AJ$3)),\"\")","v":0},{"$f":"IF($B10<>\"\",SUMPRODUCT(1*(ORARIO!$R$5:$V$14=$B10)*(ORARIO!$B$5:$B$14=AK$3)),\"\")","v":0},null,{"$f":"IF($B10<>\"\",SUMPRODUCT(1*(ORARIO!$W$5:$AA$14=$B10)*(ORARIO!$B$5:$B$14=AM$3)),\"\")","v":0},{"$f":"IF($B10<>\"\",SUMPRODUCT(1*(ORARIO!$W$5:$AA$14=$B10)*(ORARIO!$B$5:$B$14=AN$3)),\"\")","v":0},{"$f":"IF($B10<>\"\",SUMPRODUCT(1*(ORARIO!$W$5:$AA$14=$B10)*(ORARIO!$B$5:$B$14=AO$3)),\"\")","v":0},{"$f":"IF($B10<>\"\",SUMPRODUCT(1*(ORARIO!$W$5:$AA$14=$B10)*(ORARIO!$B$5:$B$14=AP$3)),\"\")","v":0},{"$f":"IF($B10<>\"\",SUMPRODUCT(1*(ORARIO!$W$5:$AA$14=$B10)*(ORARIO!$B$5:$B$14=AQ$3)),\"\")","v":0},{"$f":"IF($B10<>\"\",SUMPRODUCT(1*(ORARIO!$W$5:$AA$14=$B10)*(ORARIO!$B$5:$B$14=AR$3)),\"\")","v":0},{"$f":"IF($B10<>\"\",SUMPRODUCT(1*(ORARIO!$W$5:$AA$14=$B10)*(ORARIO!$B$5:$B$14=AS$3)),\"\")","v":0},{"$f":"IF($B10<>\"\",SUMPRODUCT(1*(ORARIO!$W$5:$AA$14=$B10)*(ORARIO!$B$5:$B$14=AT$3)),\"\")","v":0}]
[null,"A lik",{"$f":"IF($B$4<>\"\",SUMPRODUCT(1*(ORARIO!$C$5:$G$14=$B11)*(ORARIO!$B$5:$B$14=C$3)),\"\")","v":0},{"$f":"IF($B$4<>\"\",SUMPRODUCT(1*(ORARIO!$C$5:$G$14=$B11)*(ORARIO!$B$5:$B$14=D$3)),\"\")","v":0},{"$f":"IF($B$4<>\"\",SUMPRODUCT(1*(ORARIO!$C$5:$G$14=$B11)*(ORARIO!$B$5:$B$14=E$3)),\"\")","v":0},{"$f":"IF($B$4<>\"\",SUMPRODUCT(1*(ORARIO!$C$5:$G$14=$B11)*(ORARIO!$B$5:$B$14=F$3)),\"\")","v":0},{"$f":"IF($B$4<>\"\",SUMPRODUCT(1*(ORARIO!$C$5:$G$14=$B11)*(ORARIO!$B$5:$B$14=G$3)),\"\")","v":0},{"$f":"IF($B$4<>\"\",SUMPRODUCT(1*(ORARIO!$C$5:$G$14=$B11)*(ORARIO!$B$5:$B$14=H$3)),\"\")","v":0},{"$f":"IF($B$4<>\"\",SUMPRODUCT(1*(ORARIO!$C$5:$G$14=$B11)*(ORARIO!$B$5:$B$14=I$3)),\"\")","v":0},{"$f":"IF($B$4<>\"\",SUMPRODUCT(1*(ORARIO!$C$5:$G$14=$B11)*(ORARIO!$B$5:$B$14=J$3)),\"\")","v":0},null,{"$f":"IF($B11<>\"\",SUMPRODUCT(1*(ORARIO!$H$5:$L$14=$B11)*(ORARIO!$B$5:$B$14=L$3)),\"\")","v":0},{"$f":"IF($B11<>\"\",SUMPRODUCT(1*(ORARIO!$H$5:$L$14=$B11)*(ORARIO!$B$5:$B$14=M$3)),\"\")","v":0},{"$f":"IF($B11<>\"\",SUMPRODUCT(1*(ORARIO!$H$5:$L$14=$B11)*(ORARIO!$B$5:$B$14=N$3)),\"\")","v":0},{"$f":"IF($B11<>\"\",SUMPRODUCT(1*(ORARIO!$H$5:$L$14=$B11)*(ORARIO!$B$5:$B$14=O$3)),\"\")","v":0},{"$f":"IF($B11<>\"\",SUMPRODUCT(1*(ORARIO!$H$5:$L$14=$B11)*(ORARIO!$B$5:$B$14=P$3)),\"\")","v":0},{"$f":"IF($B11<>\"\",SUMPRODUCT(1*(ORARIO!$H$5:$L$14=$B11)*(ORARIO!$B$5:$B$14=Q$3)),\"\")","v":0},{"$f":"IF($B11<>\"\",SUMPRODUCT(1*(ORARIO!$H$5:$L$14=$B11)*(ORARIO!$B$5:$B$14=R$3)),\"\")","v":0},{"$f":"IF($B11<>\"\",SUMPRODUCT(1*(ORARIO!$H$5:$L$14=$B11)*(ORARIO!$B$5:$B$14=S$3)),\"\")","v":0},null,{"$f":"IF($B11<>\"\",SUMPRODUCT(1*(ORARIO!$M$5:$Q$14=$B11)*(ORARIO!$B$5:$B$14=U$3)),\"\")","v":0},{"$f":"IF($B11<>\"\",SUMPRODUCT(1*(ORARIO!$M$5:$Q$14=$B11)*(ORARIO!$B$5:$B$14=V$3)),\"\")","v":0},{"$f":"IF($B11<>\"\",SUMPRODUCT(1*(ORARIO!$M$5:$Q$14=$B11)*(ORARIO!$B$5:$B$14=W$3)),\"\")","v":0},{"$f":"IF($B11<>\"\",SUMPRODUCT(1*(ORARIO!$M$5:$Q$14=$B11)*(ORARIO!$B$5:$B$14=X$3)),\"\")","v":0},{"$f":"IF($B11<>\"\",SUMPRODUCT(1*(ORARIO!$M$5:$Q$14=$B11)*(ORARIO!$B$5:$B$14=Y$3)),\"\")","v":0},{"$f":"IF($B11<>\"\",SUMPRODUCT(1*(ORARIO!$M$5:$Q$14=$B11)*(ORARIO!$B$5:$B$14=Z$3)),\"\")","v":0},{"$f":"IF($B11<>\"\",SUMPRODUCT(1*(ORARIO!$M$5:$Q$14=$B11)*(ORARIO!$B$5:$B$14=AA$3)),\"\")","v":0},{"$f":"IF($B11<>\"\",SUMPRODUCT(1*(ORARIO!$M$5:$Q$14=$B11)*(ORARIO!$B$5:$B$14=AB$3)),\"\")","v":0},null,{"$f":"IF($B11<>\"\",SUMPRODUCT(1*(ORARIO!$R$5:$V$14=$B11)*(ORARIO!$B$5:$B$14=AD$3)),\"\")","v":0},{"$f":"IF($B11<>\"\",SUMPRODUCT(1*(ORARIO!$R$5:$V$14=$B11)*(ORARIO!$B$5:$B$14=AE$3)),\"\")","v":0},{"$f":"IF($B11<>\"\",SUMPRODUCT(1*(ORARIO!$R$5:$V$14=$B11)*(ORARIO!$B$5:$B$14=AF$3)),\"\")","v":0},{"$f":"IF($B11<>\"\",SUMPRODUCT(1*(ORARIO!$R$5:$V$14=$B11)*(ORARIO!$B$5:$B$14=AG$3)),\"\")","v":0},{"$f":"IF($B11<>\"\",SUMPRODUCT(1*(ORARIO!$R$5:$V$14=$B11)*(ORARIO!$B$5:$B$14=AH$3)),\"\")","v":0},{"$f":"IF($B11<>\"\",SUMPRODUCT(1*(ORARIO!$R$5:$V$14=$B11)*(ORARIO!$B$5:$B$14=AI$3)),\"\")","v":0},{"$f":"IF($B11<>\"\",SUMPRODUCT(1*(ORARIO!$R$5:$V$14=$B11)*(ORARIO!$B$5:$B$14=AJ$3)),\"\")","v":0},{"$f":"IF($B11<>\"\",SUMPRODUCT(1*(ORARIO!$R$5:$V$14=$B11)*(ORARIO!$B$5:$B$14=AK$3)),\"\")","v":0},null,{"$f":"IF($B11<>\"\",SUMPRODUCT(1*(ORARIO!$W$5:$AA$14=$B11)*(ORARIO!$B$5:$B$14=AM$3)),\"\")","v":0},{"$f":"IF($B11<>\"\",SUMPRODUCT(1*(ORARIO!$W$5:$AA$14=$B11)*(ORARIO!$B$5:$B$14=AN$3)),\"\")","v":0},{"$f":"IF($B11<>\"\",SUMPRODUCT(1*(ORARIO!$W$5:$AA$14=$B11)*(ORARIO!$B$5:$B$14=AO$3)),\"\")","v":0},{"$f":"IF($B11<>\"\",SUMPRODUCT(1*(ORARIO!$W$5:$AA$14=$B11)*(ORARIO!$B$5:$B$14=AP$3)),\"\")","v":0},{"$f":"IF($B11<>\"\",SUMPRODUCT(1*(ORARIO!$W$5:$AA$14=$B11)*(ORARIO!$B$5:$B$14=AQ$3)),\"\")","v":0},{"$f":"IF($B11<>\"\",SUMPRODUCT(1*(ORARIO!$W$5:$AA$14=$B11)*(ORARIO!$B$5:$B$14=AR$3)),\"\")","v":0},{"$f":"IF($B11<>\"\",SUMPRODUCT(1*(ORARIO!$W$5:$AA$14=$B11)*(ORARIO!$B$5:$B$14=AS$3)),\"\")","v":0},{"$f":"IF($B11<>\"\",SUMPRODUCT(1*(ORARIO!$W$5:$AA$14=$B11)*(ORARIO!$B$5:$B$14=AT$3)),\"\")","v":0}]
[null,"A gla",{"$f":"IF($B$4<>\"\",SUMPRODUCT(1*(ORARIO!$C$5:$G$14=$B12)*(ORARIO!$B$5:$B$14=C$3)),\"\")","v":0},{"$f":"IF($B$4<>\"\",SUMPRODUCT(1*(ORARIO!$C$5:$G$14=$B12)*(ORARIO!$B$5:$B$14=D$3)),\"\")","v":0},{"$f":"IF($B$4<>\"\",SUMPRODUCT(1*(ORARIO!$C$5:$G$14=$B12)*(ORARIO!$B$5:$B$14=E$3)),\"\")","v":0},{"$f":"IF($B$4<>\"\",SUMPRODUCT(1*(ORARIO!$C$5:$G$14=$B12)*(ORARIO!$B$5:$B$14=F$3)),\"\")","v":0},{"$f":"IF($B$4<>\"\",SUMPRODUCT(1*(ORARIO!$C$5:$G$14=$B12)*(ORARIO!$B$5:$B$14=G$3)),\"\")","v":0},{"$f":"IF($B$4<>\"\",SUMPRODUCT(1*(ORARIO!$C$5:$G$14=$B12)*(ORARIO!$B$5:$B$14=H$3)),\"\")","v":0},{"$f":"IF($B$4<>\"\",SUMPRODUCT(1*(ORARIO!$C$5:$G$14=$B12)*(ORARIO!$B$5:$B$14=I$3)),\"\")","v":0},{"$f":"IF($B$4<>\"\",SUMPRODUCT(1*(ORARIO!$C$5:$G$14=$B12)*(ORARIO!$B$5:$B$14=J$3)),\"\")","v":0},null,{"$f":"IF($B12<>\"\",SUMPRODUCT(1*(ORARIO!$H$5:$L$14=$B12)*(ORARIO!$B$5:$B$14=L$3)),\"\")","v":0},{"$f":"IF($B12<>\"\",SUMPRODUCT(1*(ORARIO!$H$5:$L$14=$B12)*(ORARIO!$B$5:$B$14=M$3)),\"\")","v":0},{"$f":"IF($B12<>\"\",SUMPRODUCT(1*(ORARIO!$H$5:$L$14=$B12)*(ORARIO!$B$5:$B$14=N$3)),\"\")","v":0},{"$f":"IF($B12<>\"\",SUMPRODUCT(1*(ORARIO!$H$5:$L$14=$B12)*(ORARIO!$B$5:$B$14=O$3)),\"\")","v":0},{"$f":"IF($B12<>\"\",SUMPRODUCT(1*(ORARIO!$H$5:$L$14=$B12)*(ORARIO!$B$5:$B$14=P$3)),\"\")","v":0},{"$f":"IF($B12<>\"\",SUMPRODUCT(1*(ORARIO!$H$5:$L$14=$B12)*(ORARIO!$B$5:$B$14=Q$3)),\"\")","v":0},{"$f":"IF($B12<>\"\",SUMPRODUCT(1*(ORARIO!$H$5:$L$14=$B12)*(ORARIO!$B$5:$B$14=R$3)),\"\")","v":0},{"$f":"IF($B12<>\"\",SUMPRODUCT(1*(ORARIO!$H$5:$L$14=$B12)*(ORARIO!$B$5:$B$14=S$3)),\"\")","v":0},null,{"$f":"IF($B12<>\"\",SUMPRODUCT(1*(ORARIO!$M$5:$Q$14=$B12)*(ORARIO!$B$5:$B$14=U$3)),\"\")","v":0},{"$f":"IF($B12<>\"\",SUMPRODUCT(1*(ORARIO!$M$5:$Q$14=$B12)*(ORARIO!$B$5:$B$14=V$3)),\"\")","v":1},{"$f":"IF($B12<>\"\",SUMPRODUCT(1*(ORARIO!$M$5:$Q$14=$B12)*(ORARIO!$B$5:$B$14=W$3)),\"\")","v":0},{"$f":"IF($B12<>\"\",SUMPRODUCT(1*(ORARIO!$M$5:$Q$14=$B12)*(ORARIO!$B$5:$B$14=X$3)),\"\")","v":0},{"$f":"IF($B12<>\"\",SUMPRODUCT(1*(ORARIO!$M$5:$Q$14=$B12)*(ORARIO!$B$5:$B$14=Y$3)),\"\")","v":0},{"$f":"IF($B12<>\"\",SUMPRODUCT(1*(ORARIO!$M$5:$Q$14=$B12)*(ORARIO!$B$5:$B$14=Z$3)),\"\")","v":0},{"$f":"IF($B12<>\"\",SUMPRODUCT(1*(ORARIO!$M$5:$Q$14=$B12)*(ORARIO!$B$5:$B$14=AA$3)),\"\")","v":0},{"$f":"IF($B12<>\"\",SUMPRODUCT(1*(ORARIO!$M$5:$Q$14=$B12)*(ORARIO!$B$5:$B$14=AB$3)),\"\")","v":0},null,{"$f":"IF($B12<>\"\",SUMPRODUCT(1*(ORARIO!$R$5:$V$14=$B12)*(ORARIO!$B$5:$B$14=AD$3)),\"\")","v":0},{"$f":"IF($B12<>\"\",SUMPRODUCT(1*(ORARIO!$R$5:$V$14=$B12)*(ORARIO!$B$5:$B$14=AE$3)),\"\")","v":0},{"$f":"IF($B12<>\"\",SUMPRODUCT(1*(ORARIO!$R$5:$V$14=$B12)*(ORARIO!$B$5:$B$14=AF$3)),\"\")","v":0},{"$f":"IF($B12<>\"\",SUMPRODUCT(1*(ORARIO!$R$5:$V$14=$B12)*(ORARIO!$B$5:$B$14=AG$3)),\"\")","v":0},{"$f":"IF($B12<>\"\",SUMPRODUCT(1*(ORARIO!$R$5:$V$14=$B12)*(ORARIO!$B$5:$B$14=AH$3)),\"\")","v":0},{"$f":"IF($B12<>\"\",SUMPRODUCT(1*(ORARIO!$R$5:$V$14=$B12)*(ORARIO!$B$5:$B$14=AI$3)),\"\")","v":0},{"$f":"IF($B12<>\"\",SUMPRODUCT(1*(ORARIO!$R$5:$V$14=$B12)*(ORARIO!$B$5:$B$14=AJ$3)),\"\")","v":0},{"$f":"IF($B12<>\"\",SUMPRODUCT(1*(ORARIO!$R$5:$V$14=$B12)*(ORARIO!$B$5:$B$14=AK$3)),\"\")","v":0},null,{"$f":"IF($B12<>\"\",SUMPRODUCT(1*(ORARIO!$W$5:$AA$14=$B12)*(ORARIO!$B$5:$B$14=AM$3)),\"\")","v":0},{"$f":"IF($B12<>\"\",SUMPRODUCT(1*(ORARIO!$W$5:$AA$14=$B12)*(ORARIO!$B$5:$B$14=AN$3)),\"\")","v":0},{"$f":"IF($B12<>\"\",SUMPRODUCT(1*(ORARIO!$W$5:$AA$14=$B12)*(ORARIO!$B$5:$B$14=AO$3)),\"\")","v":0},{"$f":"IF($B12<>\"\",SUMPRODUCT(1*(ORARIO!$W$5:$AA$14=$B12)*(ORARIO!$B$5:$B$14=AP$3)),\"\")","v":0},{"$f":"IF($B12<>\"\",SUMPRODUCT(1*(ORARIO!$W$5:$AA$14=$B12)*(ORARIO!$B$5:$B$14=AQ$3)),\"\")","v":0},{"$f":"IF($B12<>\"\",SUMPRODUCT(1*(ORARIO!$W$5:$AA$14=$B12)*(ORARIO!$B$5:$B$14=AR$3)),\"\")","v":0},{"$f":"IF($B12<>\"\",SUMPRODUCT(1*(ORARIO!$W$5:$AA$14=$B12)*(ORARIO!$B$5:$B$14=AS$3)),\"\")","v":0},{"$f":"IF($B12<>\"\",SUMPRODUCT(1*(ORARIO!$W$5:$AA$14=$B12)*(ORARIO!$B$5:$B$14=AT$3)),\"\")","v":0}]
[null,"A tel",{"$f":"IF($B$4<>\"\",SUMPRODUCT(1*(ORARIO!$C$5:$G$14=$B13)*(ORARIO!$B$5:$B$14=C$3)),\"\")","v":0},{"$f":"IF($B$4<>\"\",SUMPRODUCT(1*(ORARIO!$C$5:$G$14=$B13)*(ORARIO!$B$5:$B$14=D$3)),\"\")","v":0},{"$f":"IF($B$4<>\"\",SUMPRODUCT(1*(ORARIO!$C$5:$G$14=$B13)*(ORARIO!$B$5:$B$14=E$3)),\"\")","v":0},{"$f":"IF($B$4<>\"\",SUMPRODUCT(1*(ORARIO!$C$5:$G$14=$B13)*(ORARIO!$B$5:$B$14=F$3)),\"\")","v":0},{"$f":"IF($B$4<>\"\",SUMPRODUCT(1*(ORARIO!$C$5:$G$14=$B13)*(ORARIO!$B$5:$B$14=G$3)),\"\")","v":0},{"$f":"IF($B$4<>\"\",SUMPRODUCT(1*(ORARIO!$C$5:$G$14=$B13)*(ORARIO!$B$5:$B$14=H$3)),\"\")","v":0},{"$f":"IF($B$4<>\"\",SUMPRODUCT(1*(ORARIO!$C$5:$G$14=$B13)*(ORARIO!$B$5:$B$14=I$3)),\"\")","v":0},{"$f":"IF($B$4<>\"\",SUMPRODUCT(1*(ORARIO!$C$5:$G$14=$B13)*(ORARIO!$B$5:$B$14=J$3)),\"\")","v":0},null,{"$f":"IF($B13<>\"\",SUMPRODUCT(1*(ORARIO!$H$5:$L$14=$B13)*(ORARIO!$B$5:$B$14=L$3)),\"\")","v":0},{"$f":"IF($B13<>\"\",SUMPRODUCT(1*(ORARIO!$H$5:$L$14=$B13)*(ORARIO!$B$5:$B$14=M$3)),\"\")","v":0},{"$f":"IF($B13<>\"\",SUMPRODUCT(1*(ORARIO!$H$5:$L$14=$B13)*(ORARIO!$B$5:$B$14=N$3)),\"\")","v":0},{"$f":"IF($B13<>\"\",SUMPRODUCT(1*(ORARIO!$H$5:$L$14=$B13)*(ORARIO!$B$5:$B$14=O$3)),\"\")","v":0},{"$f":"IF($B13<>\"\",SUMPRODUCT(1*(ORARIO!$H$5:$L$14=$B13)*(ORARIO!$B$5:$B$14=P$3)),\"\")","v":0},{"$f":"IF($B13<>\"\",SUMPRODUCT(1*(ORARIO!$H$5:$L$14=$B13)*(ORARIO!$B$5:$B$14=Q$3)),\"\")","v":0},{"$f":"IF($B13<>\"\",SUMPRODUCT(1*(ORARIO!$H$5:$L$14=$B13)*(ORARIO!$B$5:$B$14=R$3)),\"\")","v":0},{"$f":"IF($B13<>\"\",SUMPRODUCT(1*(ORARIO!$H$5:$L$14=$B13)*(ORARIO!$B$5:$B$14=S$3)),\"\")","v":0},null,{"$f":"IF($B13<>\"\",SUMPRODUCT(1*(ORARIO!$M$5:$Q$14=$B13)*(ORARIO!$B$5:$B$14=U$3)),\"\")","v":0},{"$f":"IF($B13<>\"\",SUMPRODUCT(1*(ORARIO!$M$5:$Q$14=$B13)*(ORARIO!$B$5:$B$14=V$3)),\"\")","v":0},{"$f":"IF($B13<>\"\",SUMPRODUCT(1*(ORARIO!$M$5:$Q$14=$B13)*(ORARIO!$B$5:$B$14=W$3)),\"\")","v":0},{"$f":"IF($B13<>\"\",SUMPRODUCT(1*(ORARIO!$M$5:$Q$14=$B13)*(ORARIO!$B$5:$B$14=X$3)),\"\")","v":0},{"$f":"IF($B13<>\"\",SUMPRODUCT(1*(ORARIO!$M$5:$Q$14=$B13)*(ORARIO!$B$5:$B$14=Y$3)),\"\")","v":0},{"$f":"IF($B13<>\"\",SUMPRODUCT(1*(ORARIO!$M$5:$Q$14=$B13)*(ORARIO!$B$5:$B$14=Z$3)),\"\")","v":0},{"$f":"IF($B13<>\"\",SUMPRODUCT(1*(ORARIO!$M$5:$Q$14=$B13)*(ORARIO!$B$5:$B$14=AA$3)),\"\")","v":0},{"$f":"IF($B13<>\"\",SUMPRODUCT(1*(ORARIO!$M$5:$Q$14=$B13)*(ORARIO!$B$5:$B$14=AB$3)),\"\")","v":0},null,{"$f":"IF($B13<>\"\",SUMPRODUCT(1*(ORARIO!$R$5:$V$14=$B13)*(ORARIO!$B$5:$B$14=AD$3)),\"\")","v":0},{"$f":"IF($B13<>\"\",SUMPRODUCT(1*(ORARIO!$R$5:$V$14=$B13)*(ORARIO!$B$5:$B$14=AE$3)),\"\")","v":0},{"$f":"IF($B13<>\"\",SUMPRODUCT(1*(ORARIO!$R$5:$V$14=$B13)*(ORARIO!$B$5:$B$14=AF$3)),\"\")","v":0},{"$f":"IF($B13<>\"\",SUMPRODUCT(1*(ORARIO!$R$5:$V$14=$B13)*(ORARIO!$B$5:$B$14=AG$3)),\"\")","v":0},{"$f":"IF($B13<>\"\",SUMPRODUCT(1*(ORARIO!$R$5:$V$14=$B13)*(ORARIO!$B$5:$B$14=AH$3)),\"\")","v":0},{"$f":"IF($B13<>\"\",SUMPRODUCT(1*(ORARIO!$R$5:$V$14=$B13)*(ORARIO!$B$5:$B$14=AI$3)),\"\")","v":0},{"$f":"IF($B13<>\"\",SUMPRODUCT(1*(ORARIO!$R$5:$V$14=$B13)*(ORARIO!$B$5:$B$14=AJ$3)),\"\")","v":0},{"$f":"IF($B13<>\"\",SUMPRODUCT(1*(ORARIO!$R$5:$V$14=$B13)*(ORARIO!$B$5:$B$14=AK$3)),\"\")","v":0},null,{"$f":"IF($B13<>\"\",SUMPRODUCT(1*(ORARIO!$W$5:$AA$14=$B13)*(ORARIO!$B$5:$B$14=AM$3)),\"\")","v":0},{"$f":"IF($B13<>\"\",SUMPRODUCT(1*(ORARIO!$W$5:$AA$14=$B13)*(ORARIO!$B$5:$B$14=AN$3)),\"\")","v":0},{"$f":"IF($B13<>\"\",SUMPRODUCT(1*(ORARIO!$W$5:$AA$14=$B13)*(ORARIO!$B$5:$B$14=AO$3)),\"\")","v":0},{"$f":"IF($B13<>\"\",SUMPRODUCT(1*(ORARIO!$W$5:$AA$14=$B13)*(ORARIO!$B$5:$B$14=AP$3)),\"\")","v":0},{"$f":"IF($B13<>\"\",SUMPRODUCT(1*(ORARIO!$W$5:$AA$14=$B13)*(ORARIO!$B$5:$B$14=AQ$3)),\"\")","v":0},{"$f":"IF($B13<>\"\",SUMPRODUCT(1*(ORARIO!$W$5:$AA$14=$B13)*(ORARIO!$B$5:$B$14=AR$3)),\"\")","v":0},{"$f":"IF($B13<>\"\",SUMPRODUCT(1*(ORARIO!$W$5:$AA$14=$B13)*(ORARIO!$B$5:$B$14=AS$3)),\"\")","v":0},{"$f":"IF($B13<>\"\",SUMPRODUCT(1*(ORARIO!$W$5:$AA$14=$B13)*(ORARIO!$B$5:$B$14=AT$3)),\"\")","v":0}]
[null,"A ver",{"$f":"IF($B$4<>\"\",SUMPRODUCT(1*(ORARIO!$C$5:$G$14=$B14)*(ORARIO!$B$5:$B$14=C$3)),\"\")","v":0},{"$f":"IF($B$4<>\"\",SUMPRODUCT(1*(ORARIO!$C$5:$G$14=$B14)*(ORARIO!$B$5:$B$14=D$3)),\"\")","v":0},{"$f":"IF($B$4<>\"\",SUMPRODUCT(1*(ORARIO!$C$5:$G$14=$B14)*(ORARIO!$B$5:$B$14=E$3)),\"\")","v":0},{"$f":"IF($B$4<>\"\",SUMPRODUCT(1*(ORARIO!$C$5:$G$14=$B14)*(ORARIO!$B$5:$B$14=F$3)),\"\")","v":0},{"$f":"IF($B$4<>\"\",SUMPRODUCT(1*(ORARIO!$C$5:$G$14=$B14)*(ORARIO!$B$5:$B$14=G$3)),\"\")","v":0},{"$f":"IF($B$4<>\"\",SUMPRODUCT(1*(ORARIO!$C$5:$G$14=$B14)*(ORARIO!$B$5:$B$14=H$3)),\"\")","v":0},{"$f":"IF($B$4<>\"\",SUMPRODUCT(1*(ORARIO!$C$5:$G$14=$B14)*(ORARIO!$B$5:$B$14=I$3)),\"\")","v":0},{"$f":"IF($B$4<>\"\",SUMPRODUCT(1*(ORARIO!$C$5:$G$14=$B14)*(ORARIO!$B$5:$B$14=J$3)),\"\")","v":0},null,{"$f":"IF($B14<>\"\",SUMPRODUCT(1*(ORARIO!$H$5:$L$14=$B14)*(ORARIO!$B$5:$B$14=L$3)),\"\")","v":0},{"$f":"IF($B14<>\"\",SUMPRODUCT(1*(ORARIO!$H$5:$L$14=$B14)*(ORARIO!$B$5:$B$14=M$3)),\"\")","v":0},{"$f":"IF($B14<>\"\",SUMPRODUCT(1*(ORARIO!$H$5:$L$14=$B14)*(ORARIO!$B$5:$B$14=N$3)),\"\")","v":0},{"$f":"IF($B14<>\"\",SUMPRODUCT(1*(ORARIO!$H$5:$L$14=$B14)*(ORARIO!$B$5:$B$14=O$3)),\"\")","v":0},{"$f":"IF($B14<>\"\",SUMPRODUCT(1*(ORARIO!$H$5:$L$14=$B14)*(ORARIO!$B$5:$B$14=P$3)),\"\")","v":0},{"$f":"IF($B14<>\"\",SUMPRODUCT(1*(ORARIO!$H$5:$L$14=$B14)*(ORARIO!$B$5:$B$14=Q$3)),\"\")","v":0},{"$f":"IF($B14<>\"\",SUMPRODUCT(1*(ORARIO!$H$5:$L$14=$B14)*(ORARIO!$B$5:$B$14=R$3)),\"\")","v":0},{"$f":"IF($B14<>\"\",SUMPRODUCT(1*(ORARIO!$H$5:$L$14=$B14)*(ORARIO!$B$5:$B$14=S$3)),\"\")","v":0},null,{"$f":"IF($B14<>\"\",SUMPRODUCT(1*(ORARIO!$M$5:$Q$14=$B14)*(ORARIO!$B$5:$B$14=U$3)),\"\")","v":0},{"$f":"IF($B14<>\"\",SUMPRODUCT(1*(ORARIO!$M$5:$Q$14=$B14)*(ORARIO!$B$5:$B$14=V$3)),\"\")","v":0},{"$f":"IF($B14<>\"\",SUMPRODUCT(1*(ORARIO!$M$5:$Q$14=$B14)*(ORARIO!$B$5:$B$14=W$3)),\"\")","v":1},{"$f":"IF($B14<>\"\",SUMPRODUCT(1*(ORARIO!$M$5:$Q$14=$B14)*(ORARIO!$B$5:$B$14=X$3)),\"\")","v":0},{"$f":"IF($B14<>\"\",SUMPRODUCT(1*(ORARIO!$M$5:$Q$14=$B14)*(ORARIO!$B$5:$B$14=Y$3)),\"\")","v":0},{"$f":"IF($B14<>\"\",SUMPRODUCT(1*(ORARIO!$M$5:$Q$14=$B14)*(ORARIO!$B$5:$B$14=Z$3)),\"\")","v":0},{"$f":"IF($B14<>\"\",SUMPRODUCT(1*(ORARIO!$M$5:$Q$14=$B14)*(ORARIO!$B$5:$B$14=AA$3)),\"\")","v":0},{"$f":"IF($B14<>\"\",SUMPRODUCT(1*(ORARIO!$M$5:$Q$14=$B14)*(ORARIO!$B$5:$B$14=AB$3)),\"\")","v":0},null,{"$f":"IF($B14<>\"\",SUMPRODUCT(1*(ORARIO!$R$5:$V$14=$B14)*(ORARIO!$B$5:$B$14=AD$3)),\"\")","v":0},{"$f":"IF($B14<>\"\",SUMPRODUCT(1*(ORARIO!$R$5:$V$14=$B14)*(ORARIO!$B$5:$B$14=AE$3)),\"\")","v":0},{"$f":"IF($B14<>\"\",SUMPRODUCT(1*(ORARIO!$R$5:$V$14=$B14)*(ORARIO!$B$5:$B$14=AF$3)),\"\")","v":0},{"$f":"IF($B14<>\"\",SUMPRODUCT(1*(ORARIO!$R$5:$V$14=$B14)*(ORARIO!$B$5:$B$14=AG$3)),\"\")","v":0},{"$f":"IF($B14<>\"\",SUMPRODUCT(1*(ORARIO!$R$5:$V$14=$B14)*(ORARIO!$B$5:$B$14=AH$3)),\"\")","v":0},{"$f":"IF($B14<>\"\",SUMPRODUCT(1*(ORARIO!$R$5:$V$14=$B14)*(ORARIO!$B$5:$B$14=AI$3)),\"\")","v":0},{"$f":"IF($B14<>\"\",SUMPRODUCT(1*(ORARIO!$R$5:$V$14=$B14)*(ORARIO!$B$5:$B$14=AJ$3)),\"\")","v":0},{"$f":"IF($B14<>\"\",SUMPRODUCT(1*(ORARIO!$R$5:$V$14=$B14)*(ORARIO!$B$5:$B$14=AK$3)),\"\")","v":0},null,{"$f":"IF($B14<>\"\",SUMPRODUCT(1*(ORARIO!$W$5:$AA$14=$B14)*(ORARIO!$B$5:$B$14=AM$3)),\"\")","v":0},{"$f":"IF($B14<>\"\",SUMPRODUCT(1*(ORARIO!$W$5:$AA$14=$B14)*(ORARIO!$B$5:$B$14=AN$3)),\"\")","v":0},{"$f":"IF($B14<>\"\",SUMPRODUCT(1*(ORARIO!$W$5:$AA$14=$B14)*(ORARIO!$B$5:$B$14=AO$3)),\"\")","v":0},{"$f":"IF($B14<>\"\",SUMPRODUCT(1*(ORARIO!$W$5:$AA$14=$B14)*(ORARIO!$B$5:$B$14=AP$3)),\"\")","v":0},{"$f":"IF($B14<>\"\",SUMPRODUCT(1*(ORARIO!$W$5:$AA$14=$B14)*(ORARIO!$B$5:$B$14=AQ$3)),\"\")","v":0},{"$f":"IF($B14<>\"\",SUMPRODUCT(1*(ORARIO!$W$5:$AA$14=$B14)*(ORARIO!$B$5:$B$14=AR$3)),\"\")","v":0},{"$f":"IF($B14<>\"\",SUMPRODUCT(1*(ORARIO!$W$5:$AA$14=$B14)*(ORARIO!$B$5:$B$14=AS$3)),\"\")","v":0},{"$f":"IF($B14<>\"\",SUMPRODUCT(1*(ORARIO!$W$5:$AA$14=$B14)*(ORARIO!$B$5:$B$14=AT$3)),\"\")","v":0}]
[null,"A sop",{"$f":"IF($B$4<>\"\",SUMPRODUCT(1*(ORARIO!$C$5:$G$14=$B15)*(ORARIO!$B$5:$B$14=C$3)),\"\")","v":0},{"$f":"IF($B$4<>\"\",SUMPRODUCT(1*(ORARIO!$C$5:$G$14=$B15)*(ORARIO!$B$5:$B$14=D$3)),\"\")","v":0},{"$f":"IF($B$4<>\"\",SUMPRODUCT(1*(ORARIO!$C$5:$G$14=$B15)*(ORARIO!$B$5:$B$14=E$3)),\"\")","v":0},{"$f":"IF($B$4<>\"\",SUMPRODUCT(1*(ORARIO!$C$5:$G$14=$B15)*(ORARIO!$B$5:$B$14=F$3)),\"\")","v":0},{"$f":"IF($B$4<>\"\",SUMPRODUCT(1*(ORARIO!$C$5:$G$14=$B15)*(ORARIO!$B$5:$B$14=G$3)),\"\")","v":0},{"$f":"IF($B$4<>\"\",SUMPRODUCT(1*(ORARIO!$C$5:$G$14=$B15)*(ORARIO!$B$5:$B$14=H$3)),\"\")","v":0},{"$f":"IF($B$4<>\"\",SUMPRODUCT(1*(ORARIO!$C$5:$G$14=$B15)*(ORARIO!$B$5:$B$14=I$3)),\"\")","v":0},{"$f":"IF($B$4<>\"\",SUMPRODUCT(1*(ORARIO!$C$5:$G$14=$B15)*(ORARIO!$B$5:$B$14=J$3)),\"\")","v":0},null,{"$f":"IF($B15<>\"\",SUMPRODUCT(1*(ORARIO!$H$5:$L$14=$B15)*(ORARIO!$B$5:$B$14=L$3)),\"\")","v":0},{"$f":"IF($B15<>\"\",SUMPRODUCT(1*(ORARIO!$H$5:$L$14=$B15)*(ORARIO!$B$5:$B$14=M$3)),\"\")","v":0},{"$f":"IF($B15<>\"\",SUMPRODUCT(1*(ORARIO!$H$5:$L$14=$B15)*(ORARIO!$B$5:$B$14=N$3)),\"\")","v":0},{"$f":"IF($B15<>\"\",SUMPRODUCT(1*(ORARIO!$H$5:$L$14=$B15)*(ORARIO!$B$5:$B$14=O$3)),\"\")","v":0},{"$f":"IF($B15<>\"\",SUMPRODUCT(1*(ORARIO!$H$5:$L$14=$B15)*(ORARIO!$B$5:$B$14=P$3)),\"\")","v":0},{"$f":"IF($B15<>\"\",SUMPRODUCT(1*(ORARIO!$H$5:$L$14=$B15)*(ORARIO!$B$5:$B$14=Q$3)),\"\")","v":0},{"$f":"IF($B15<>\"\",SUMPRODUCT(1*(ORARIO!$H$5:$L$14=$B15)*(ORARIO!$B$5:$B$14=R$3)),\"\")","v":0},{"$f":"IF($B15<>\"\",SUMPRODUCT(1*(ORARIO!$H$5:$L$14=$B15)*(ORARIO!$B$5:$B$14=S$3)),\"\")","v":0},null,{"$f":"IF($B15<>\"\",SUMPRODUCT(1*(ORARIO!$M$5:$Q$14=$B15)*(ORARIO!$B$5:$B$14=U$3)),\"\")","v":0},{"$f":"IF($B15<>\"\",SUMPRODUCT(1*(ORARIO!$M$5:$Q$14=$B15)*(ORARIO!$B$5:$B$14=V$3)),\"\")","v":0},{"$f":"IF($B15<>\"\",SUMPRODUCT(1*(ORARIO!$M$5:$Q$14=$B15)*(ORARIO!$B$5:$B$14=W$3)),\"\")","v":0},{"$f":"IF($B15<>\"\",SUMPRODUCT(1*(ORARIO!$M$5:$Q$14=$B15)*(ORARIO!$B$5:$B$14=X$3)),\"\")","v":0},{"$f":"IF($B15<>\"\",SUMPRODUCT(1*(ORARIO!$M$5:$Q$14=$B15)*(ORARIO!$B$5:$B$14=Y$3)),\"\")","v":0},{"$f":"IF($B15<>\"\",SUMPRODUCT(1*(ORARIO!$M$5:$Q$14=$B15)*(ORARIO!$B$5:$B$14=Z$3)),\"\")","v":0},{"$f":"IF($B15<>\"\",SUMPRODUCT(1*(ORARIO!$M$5:$Q$14=$B15)*(ORARIO!$B$5:$B$14=AA$3)),\"\")","v":0},{"$f":"IF($B15<>\"\",SUMPRODUCT(1*(ORARIO!$M$5:$Q$14=$B15)*(ORARIO!$B$5:$B$14=AB$3)),\"\")","v":0},null,{"$f":"IF($B15<>\"\",SUMPRODUCT(1*(ORARIO!$R$5:$V$14=$B15)*(ORARIO!$B$5:$B$14=AD$3)),\"\")","v":0},{"$f":"IF($B15<>\"\",SUMPRODUCT(1*(ORARIO!$R$5:$V$14=$B15)*(ORARIO!$B$5:$B$14=AE$3)),\"\")","v":0},{"$f":"IF($B15<>\"\",SUMPRODUCT(1*(ORARIO!$R$5:$V$14=$B15)*(ORARIO!$B$5:$B$14=AF$3)),\"\")","v":0},{"$f":"IF($B15<>\"\",SUMPRODUCT(1*(ORARIO!$R$5:$V$14=$B15)*(ORARIO!$B$5:$B$14=AG$3)),\"\")","v":0},{"$f":"IF($B15<>\"\",SUMPRODUCT(1*(ORARIO!$R$5:$V$14=$B15)*(ORARIO!$B$5:$B$14=AH$3)),\"\")","v":0},{"$f":"IF($B15<>\"\",SUMPRODUCT(1*(ORARIO!$R$5:$V$14=$B15)*(ORARIO!$B$5:$B$14=AI$3)),\"\")","v":0},{"$f":"IF($B15<>\"\",SUMPRODUCT(1*(ORARIO!$R$5:$V$14=$B15)*(ORARIO!$B$5:$B$14=AJ$3)),\"\")","v":0},{"$f":"IF($B15<>\"\",SUMPRODUCT(1*(ORARIO!$R$5:$V$14=$B15)*(ORARIO!$B$5:$B$14=AK$3)),\"\")","v":0},null,{"$f":"IF($B15<>\"\",SUMPRODUCT(1*(ORARIO!$W$5:$AA$14=$B15)*(ORARIO!$B$5:$B$14=AM$3)),\"\")","v":0},{"$f":"IF($B15<>\"\",SUMPRODUCT(1*(ORARIO!$W$5:$AA$14=$B15)*(ORARIO!$B$5:$B$14=AN$3)),\"\")","v":0},{"$f":"IF($B15<>\"\",SUMPRODUCT(1*(ORARIO!$W$5:$AA$14=$B15)*(ORARIO!$B$5:$B$14=AO$3)),\"\")","v":0},{"$f":"IF($B15<>\"\",SUMPRODUCT(1*(ORARIO!$W$5:$AA$14=$B15)*(ORARIO!$B$5:$B$14=AP$3)),\"\")","v":0},{"$f":"IF($B15<>\"\",SUMPRODUCT(1*(ORARIO!$W$5:$AA$14=$B15)*(ORARIO!$B$5:$B$14=AQ$3)),\"\")","v":0},{"$f":"IF($B15<>\"\",SUMPRODUCT(1*(ORARIO!$W$5:$AA$14=$B15)*(ORARIO!$B$5:$B$14=AR$3)),\"\")","v":0},{"$f":"IF($B15<>\"\",SUMPRODUCT(1*(ORARIO!$W$5:$AA$14=$B15)*(ORARIO!$B$5:$B$14=AS$3)),\"\")","v":0},{"$f":"IF($B15<>\"\",SUMPRODUCT(1*(ORARIO!$W$5:$AA$14=$B15)*(ORARIO!$B$5:$B$14=AT$3)),\"\")","v":0}]
[null,"B slo",{"$f":"IF($B$4<>\"\",SUMPRODUCT(1*(ORARIO!$C$5:$G$14=$B16)*(ORARIO!$B$5:$B$14=C$3)),\"\")","v":0},{"$f":"IF($B$4<>\"\",SUMPRODUCT(1*(ORARIO!$C$5:$G$14=$B16)*(ORARIO!$B$5:$B$14=D$3)),\"\")","v":0},{"$f":"IF($B$4<>\"\",SUMPRODUCT(1*(ORARIO!$C$5:$G$14=$B16)*(ORARIO!$B$5:$B$14=E$3)),\"\")","v":0},{"$f":"IF($B$4<>\"\",SUMPRODUCT(1*(ORARIO!$C$5:$G$14=$B16)*(ORARIO!$B$5:$B$14=F$3)),\"\")","v":0},{"$f":"IF($B$4<>\"\",SUMPRODUCT(1*(ORARIO!$C$5:$G$14=$B16)*(ORARIO!$B$5:$B$14=G$3)),\"\")","v":0},{"$f":"IF($B$4<>\"\",SUMPRODUCT(1*(ORARIO!$C$5:$G$14=$B16)*(ORARIO!$B$5:$B$14=H$3)),\"\")","v":0},{"$f":"IF($B$4<>\"\",SUMPRODUCT(1*(ORARIO!$C$5:$G$14=$B16)*(ORARIO!$B$5:$B$14=I$3)),\"\")","v":0},{"$f":"IF($B$4<>\"\",SUMPRODUCT(1*(ORARIO!$C$5:$G$14=$B16)*(ORARIO!$B$5:$B$14=J$3)),\"\")","v":0},null,{"$f":"IF($B16<>\"\",SUMPRODUCT(1*(ORARIO!$H$5:$L$14=$B16)*(ORARIO!$B$5:$B$14=L$3)),\"\")","v":0},{"$f":"IF($B16<>\"\",SUMPRODUCT(1*(ORARIO!$H$5:$L$14=$B16)*(ORARIO!$B$5:$B$14=M$3)),\"\")","v":0},{"$f":"IF($B16<>\"\",SUMPRODUCT(1*(ORARIO!$H$5:$L$14=$B16)*(ORARIO!$B$5:$B$14=N$3)),\"\")","v":0},{"$f":"IF($B16<>\"\",SUMPRODUCT(1*(ORARIO!$H$5:$L$14=$B16)*(ORARIO!$B$5:$B$14=O$3)),\"\")","v":0},{"$f":"IF($B16<>\"\",SUMPRODUCT(1*(ORARIO!$H$5:$L$14=$B16)*(ORARIO!$B$5:$B$14=P$3)),\"\")","v":0},{"$f":"IF($B16<>\"\",SUMPRODUCT(1*(ORARIO!$H$5:$L$14=$B16)*(ORARIO!$B$5:$B$14=Q$3)),\"\")","v":0},{"$f":"IF($B16<>\"\",SUMPRODUCT(1*(ORARIO!$H$5:$L$14=$B16)*(ORARIO!$B$5:$B$14=R$3)),\"\")","v":0},{"$f":"IF($B16<>\"\",SUMPRODUCT(1*(ORARIO!$H$5:$L$14=$B16)*(ORARIO!$B$5:$B$14=S$3)),\"\")","v":0},null,{"$f":"IF($B16<>\"\",SUMPRODUCT(1*(ORARIO!$M$5:$Q$14=$B16)*(ORARIO!$B$5:$B$14=U$3)),\"\")","v":0},{"$f":"IF($B16<>\"\",SUMPRODUCT(1*(ORARIO!$M$5:$Q$14=$B16)*(ORARIO!$B$5:$B$14=V$3)),\"\")","v":0},{"$f":"IF($B16<>\"\",SUMPRODUCT(1*(ORARIO!$M$5:$Q$14=$B16)*(ORARIO!$B$5:$B$14=W$3)),\"\")","v":0},{"$f":"IF($B16<>\"\",SUMPRODUCT(1*(ORARIO!$M$5:$Q$14=$B16)*(ORARIO!$B$5:$B$14=X$3)),\"\")","v":0},{"$f":"IF($B16<>\"\",SUMPRODUCT(1*(ORARIO!$M$5:$Q$14=$B16)*(ORARIO!$B$5:$B$14=Y$3)),\"\")","v":0},{"$f":"IF($B16<>\"\",SUMPRODUCT(1*(ORARIO!$M$5:$Q$14=$B16)*(ORARIO!$B$5:$B$14=Z$3)),\"\")","v":0},{"$f":"IF($B16<>\"\",SUMPRODUCT(1*(ORARIO!$M$5:$Q$14=$B16)*(ORARIO!$B$5:$B$14=AA$3)),\"\")","v":0},{"$f":"IF($B16<>\"\",SUMPRODUCT(1*(ORARIO!$M$5:$Q$14=$B16)*(ORARIO!$B$5:$B$14=AB$3)),\"\")","v":0},null,{"$f":"IF($B16<>\"\",SUMPRODUCT(1*(ORARIO!$R$5:$V$14=$B16)*(ORARIO!$B$5:$B$14=AD$3)),\"\")","v":0},{"$f":"IF($B16<>\"\",SUMPRODUCT(1*(ORARIO!$R$5:$V$14=$B16)*(ORARIO!$B$5:$B$14=AE$3)),\"\")","v":0},{"$f":"IF($B16<>\"\",SUMPRODUCT(1*(ORARIO!$R$5:$V$14=$B16)*(ORARIO!$B$5:$B$14=AF$3)),\"\")","v":0},{"$f":"IF($B16<>\"\",SUMPRODUCT(1*(ORARIO!$R$5:$V$14=$B16)*(ORARIO!$B$5:$B$14=AG$3)),\"\")","v":0},{"$f":"IF($B16<>\"\",SUMPRODUCT(1*(ORARIO!$R$5:$V$14=$B16)*(ORARIO!$B$5:$B$14=AH$3)),\"\")","v":0},{"$f":"IF($B16<>\"\",SUMPRODUCT(1*(ORARIO!$R$5:$V$14=$B16)*(ORARIO!$B$5:$B$14=AI$3)),\"\")","v":0},{"$f":"IF($B16<>\"\",SUMPRODUCT(1*(ORARIO!$R$5:$V$14=$B16)*(ORARIO!$B$5:$B$14=AJ$3)),\"\")","v":0},{"$f":"IF($B16<>\"\",SUMPRODUCT(1*(ORARIO!$R$5:$V$14=$B16)*(ORARIO!$B$5:$B$14=AK$3)),\"\")","v":0},null,{"$f":"IF($B16<>\"\",SUMPRODUCT(1*(ORARIO!$W$5:$AA$14=$B16)*(ORARIO!$B$5:$B$14=AM$3)),\"\")","v":0},{"$f":"IF($B16<>\"\",SUMPRODUCT(1*(ORARIO!$W$5:$AA$14=$B16)*(ORARIO!$B$5:$B$14=AN$3)),\"\")","v":0},{"$f":"IF($B16<>\"\",SUMPRODUCT(1*(ORARIO!$W$5:$AA$14=$B16)*(ORARIO!$B$5:$B$14=AO$3)),\"\")","v":0},{"$f":"IF($B16<>\"\",SUMPRODUCT(1*(ORARIO!$W$5:$AA$14=$B16)*(ORARIO!$B$5:$B$14=AP$3)),\"\")","v":0},{"$f":"IF($B16<>\"\",SUMPRODUCT(1*(ORARIO!$W$5:$AA$14=$B16)*(ORARIO!$B$5:$B$14=AQ$3)),\"\")","v":0},{"$f":"IF($B16<>\"\",SUMPRODUCT(1*(ORARIO!$W$5:$AA$14=$B16)*(ORARIO!$B$5:$B$14=AR$3)),\"\")","v":0},{"$f":"IF($B16<>\"\",SUMPRODUCT(1*(ORARIO!$W$5:$AA$14=$B16)*(ORARIO!$B$5:$B$14=AS$3)),\"\")","v":0},{"$f":"IF($B16<>\"\",SUMPRODUCT(1*(ORARIO!$W$5:$AA$14=$B16)*(ORARIO!$B$5:$B$14=AT$3)),\"\")","v":0}]
[null,"B ita",{"$f":"IF($B$4<>\"\",SUMPRODUCT(1*(ORARIO!$C$5:$G$14=$B17)*(ORARIO!$B$5:$B$14=C$3)),\"\")","v":0},{"$f":"IF($B$4<>\"\",SUMPRODUCT(1*(ORARIO!$C$5:$G$14=$B17)*(ORARIO!$B$5:$B$14=D$3)),\"\")","v":0},{"$f":"IF($B$4<>\"\",SUMPRODUCT(1*(ORARIO!$C$5:$G$14=$B17)*(ORARIO!$B$5:$B$14=E$3)),\"\")","v":0},{"$f":"IF($B$4<>\"\",SUMPRODUCT(1*(ORARIO!$C$5:$G$14=$B17)*(ORARIO!$B$5:$B$14=F$3)),\"\")","v":0},{"$f":"IF($B$4<>\"\",SUMPRODUCT(1*(ORARIO!$C$5:$G$14=$B17)*(ORARIO!$B$5:$B$14=G$3)),\"\")","v":0},{"$f":"IF($B$4<>\"\",SUMPRODUCT(1*(ORARIO!$C$5:$G$14=$B17)*(ORARIO!$B$5:$B$14=H$3)),\"\")","v":0},{"$f":"IF($B$4<>\"\",SUMPRODUCT(1*(ORARIO!$C$5:$G$14=$B17)*(ORARIO!$B$5:$B$14=I$3)),\"\")","v":0},{"$f":"IF($B$4<>\"\",SUMPRODUCT(1*(ORARIO!$C$5:$G$14=$B17)*(ORARIO!$B$5:$B$14=J$3)),\"\")","v":0},null,{"$f":"IF($B17<>\"\",SUMPRODUCT(1*(ORARIO!$H$5:$L$14=$B17)*(ORARIO!$B$5:$B$14=L$3)),\"\")","v":0},{"$f":"IF($B17<>\"\",SUMPRODUCT(1*(ORARIO!$H$5:$L$14=$B17)*(ORARIO!$B$5:$B$14=M$3)),\"\")","v":0},{"$f":"IF($B17<>\"\",SUMPRODUCT(1*(ORARIO!$H$5:$L$14=$B17)*(ORARIO!$B$5:$B$14=N$3)),\"\")","v":0},{"$f":"IF($B17<>\"\",SUMPRODUCT(1*(ORARIO!$H$5:$L$14=$B17)*(ORARIO!$B$5:$B$14=O$3)),\"\")","v":0},{"$f":"IF($B17<>\"\",SUMPRODUCT(1*(ORARIO!$H$5:$L$14=$B17)*(ORARIO!$B$5:$B$14=P$3)),\"\")","v":0},{"$f":"IF($B17<>\"\",SUMPRODUCT(1*(ORARIO!$H$5:$L$14=$B17)*(ORARIO!$B$5:$B$14=Q$3)),\"\")","v":0},{"$f":"IF($B17<>\"\",SUMPRODUCT(1*(ORARIO!$H$5:$L$14=$B17)*(ORARIO!$B$5:$B$14=R$3)),\"\")","v":0},{"$f":"IF($B17<>\"\",SUMPRODUCT(1*(ORARIO!$H$5:$L$14=$B17)*(ORARIO!$B$5:$B$14=S$3)),\"\")","v":0},null,{"$f":"IF($B17<>\"\",SUMPRODUCT(1*(ORARIO!$M$5:$Q$14=$B17)*(ORARIO!$B$5:$B$14=U$3)),\"\")","v":0},{"$f":"IF($B17<>\"\",SUMPRODUCT(1*(ORARIO!$M$5:$Q$14=$B17)*(ORARIO!$B$5:$B$14=V$3)),\"\")","v":0},{"$f":"IF($B17<>\"\",SUMPRODUCT(1*(ORARIO!$M$5:$Q$14=$B17)*(ORARIO!$B$5:$B$14=W$3)),\"\")","v":0},{"$f":"IF($B17<>\"\",SUMPRODUCT(1*(ORARIO!$M$5:$Q$14=$B17)*(ORARIO!$B$5:$B$14=X$3)),\"\")","v":0},{"$f":"IF($B17<>\"\",SUMPRODUCT(1*(ORARIO!$M$5:$Q$14=$B17)*(ORARIO!$B$5:$B$14=Y$3)),\"\")","v":0},{"$f":"IF($B17<>\"\",SUMPRODUCT(1*(ORARIO!$M$5:$Q$14=$B17)*(ORARIO!$B$5:$B$14=Z$3)),\"\")","v":0},{"$f":"IF($B17<>\"\",SUMPRODUCT(1*(ORARIO!$M$5:$Q$14=$B17)*(ORARIO!$B$5:$B$14=AA$3)),\"\")","v":0},{"$f":"IF($B17<>\"\",SUMPRODUCT(1*(ORARIO!$M$5:$Q$14=$B17)*(ORARIO!$B$5:$B$14=AB$3)),\"\")","v":0},null,{"$f":"IF($B17<>\"\",SUMPRODUCT(1*(ORARIO!$R$5:$V$14=$B17)*(ORARIO!$B$5:$B$14=AD$3)),\"\")","v":0},{"$f":"IF($B17<>\"\",SUMPRODUCT(1*(ORARIO!$R$5:$V$14=$B17)*(ORARIO!$B$5:$B$14=AE$3)),\"\")","v":0},{"$f":"IF($B17<>\"\",SUMPRODUCT(1*(ORARIO!$R$5:$V$14=$B17)*(ORARIO!$B$5:$B$14=AF$3)),\"\")","v":0},{"$f":"IF($B17<>\"\",SUMPRODUCT(1*(ORARIO!$R$5:$V$14=$B17)*(ORARIO!$B$5:$B$14=AG$3)),\"\")","v":0},{"$f":"IF($B17<>\"\",SUMPRODUCT(1*(ORARIO!$R$5:$V$14=$B17)*(ORARIO!$B$5:$B$14=AH$3)),\"\")","v":0},{"$f":"IF($B17<>\"\",SUMPRODUCT(1*(ORARIO!$R$5:$V$14=$B17)*(ORARIO!$B$5:$B$14=AI$3)),\"\")","v":0},{"$f":"IF($B17<>\"\",SUMPRODUCT(1*(ORARIO!$R$5:$V$14=$B17)*(ORARIO!$B$5:$B$14=AJ$3)),\"\")","v":0},{"$f":"IF($B17<>\"\",SUMPRODUCT(1*(ORARIO!$R$5:$V$14=$B17)*(ORARIO!$B$5:$B$14=AK$3)),\"\")","v":0},null,{"$f":"IF($B17<>\"\",SUMPRODUCT(1*(ORARIO!$W$5:$AA$14=$B17)*(ORARIO!$B$5:$B$14=AM$3)),\"\")","v":0},{"$f":"IF($B17<>\"\",SUMPRODUCT(1*(ORARIO!$W$5:$AA$14=$B17)*(ORARIO!$B$5:$B$14=AN$3)),\"\")","v":0},{"$f":"IF($B17<>\"\",SUMPRODUCT(1*(ORARIO!$W$5:$AA$14=$B17)*(ORARIO!$B$5:$B$14=AO$3)),\"\")","v":0},{"$f":"IF($B17<>\"\",SUMPRODUCT(1*(ORARIO!$W$5:$AA$14=$B17)*(ORARIO!$B$5:$B$14=AP$3)),\"\")","v":0},{"$f":"IF($B17<>\"\",SUMPRODUCT(1*(ORARIO!$W$5:$AA$14=$B17)*(ORARIO!$B$5:$B$14=AQ$3)),\"\")","v":0},{"$f":"IF($B17<>\"\",SUMPRODUCT(1*(ORARIO!$W$5:$AA$14=$B17)*(ORARIO!$B$5:$B$14=AR$3)),\"\")","v":0},{"$f":"IF($B17<>\"\",SUMPRODUCT(1*(ORARIO!$W$5:$AA$14=$B17)*(ORARIO!$B$5:$B$14=AS$3)),\"\")","v":0},{"$f":"IF($B17<>\"\",SUMPRODUCT(1*(ORARIO!$W$5:$AA$14=$B17)*(ORARIO!$B$5:$B$14=AT$3)),\"\")","v":0}]
[null,"B ang",{"$f":"IF($B$4<>\"\",SUMPRODUCT(1*(ORARIO!$C$5:$G$14=$B18)*(ORARIO!$B$5:$B$14=C$3)),\"\")","v":0},{"$f":"IF($B$4<>\"\",SUMPRODUCT(1*(ORARIO!$C$5:$G$14=$B18)*(ORARIO!$B$5:$B$14=D$3)),\"\")","v":0},{"$f":"IF($B$4<>\"\",SUMPRODUCT(1*(ORARIO!$C$5:$G$14=$B18)*(ORARIO!$B$5:$B$14=E$3)),\"\")","v":0},{"$f":"IF($B$4<>\"\",SUMPRODUCT(1*(ORARIO!$C$5:$G$14=$B18)*(ORARIO!$B$5:$B$14=F$3)),\"\")","v":0},{"$f":"IF($B$4<>\"\",SUMPRODUCT(1*(ORARIO!$C$5:$G$14=$B18)*(ORARIO!$B$5:$B$14=G$3)),\"\")","v":0},{"$f":"IF($B$4<>\"\",SUMPRODUCT(1*(ORARIO!$C$5:$G$14=$B18)*(ORARIO!$B$5:$B$14=H$3)),\"\")","v":0},{"$f":"IF($B$4<>\"\",SUMPRODUCT(1*(ORARIO!$C$5:$G$14=$B18)*(ORARIO!$B$5:$B$14=I$3)),\"\")","v":0},{"$f":"IF($B$4<>\"\",SUMPRODUCT(1*(ORARIO!$C$5:$G$14=$B18)*(ORARIO!$B$5:$B$14=J$3)),\"\")","v":0},null,{"$f":"IF($B18<>\"\",SUMPRODUCT(1*(ORARIO!$H$5:$L$14=$B18)*(ORARIO!$B$5:$B$14=L$3)),\"\")","v":0},{"$f":"IF($B18<>\"\",SUMPRODUCT(1*(ORARIO!$H$5:$L$14=$B18)*(ORARIO!$B$5:$B$14=M$3)),\"\")","v":0},{"$f":"IF($B18<>\"\",SUMPRODUCT(1*(ORARIO!$H$5:$L$14=$B18)*(ORARIO!$B$5:$B$14=N$3)),\"\")","v":0},{"$f":"IF($B18<>\"\",SUMPRODUCT(1*(ORARIO!$H$5:$L$14=$B18)*(ORARIO!$B$5:$B$14=O$3)),\"\")","v":0},{"$f":"IF($B18<>\"\",SUMPRODUCT(1*(ORARIO!$H$5:$L$14=$B18)*(ORARIO!$B$5:$B$14=P$3)),\"\")","v":0},{"$f":"IF($B18<>\"\",SUMPRODUCT(1*(ORARIO!$H$5:$L$14=$B18)*(ORARIO!$B$5:$B$14=Q$3)),\"\")","v":0},{"$f":"IF($B18<>\"\",SUMPRODUCT(1*(ORARIO!$H$5:$L$14=$B18)*(ORARIO!$B$5:$B$14=R$3)),\"\")","v":0},{"$f":"IF($B18<>\"\",SUMPRODUCT(1*(ORARIO!$H$5:$L$14=$B18)*(ORARIO!$B$5:$B$14=S$3)),\"\")","v":0},null,{"$f":"IF($B18<>\"\",SUMPRODUCT(1*(ORARIO!$M$5:$Q$14=$B18)*(ORARIO!$B$5:$B$14=U$3)),\"\")","v":0},{"$f":"IF($B18<>\"\",SUMPRODUCT(1*(ORARIO!$M$5:$Q$14=$B18)*(ORARIO!$B$5:$B$14=V$3)),\"\")","v":0},{"$f":"IF($B18<>\"\",SUMPRODUCT(1*(ORARIO!$M$5:$Q$14=$B18)*(ORARIO!$B$5:$B$14=W$3)),\"\")","v":0},{"$f":"IF($B18<>\"\",SUMPRODUCT(1*(ORARIO!$M$5:$Q$14=$B18)*(ORARIO!$B$5:$B$14=X$3)),\"\")","v":0},{"$f":"IF($B18<>\"\",SUMPRODUCT(1*(ORARIO!$M$5:$Q$14=$B18)*(ORARIO!$B$5:$B$14=Y$3)),\"\")","v":0},{"$f":"IF($B18<>\"\",SUMPRODUCT(1*(ORARIO!$M$5:$Q$14=$B18)*(ORARIO!$B$5:$B$14=Z$3)),\"\")","v":0},{"$f":"IF($B18<>\"\",SUMPRODUCT(1*(ORARIO!$M$5:$Q$14=$B18)*(ORARIO!$B$5:$B$14=AA$3)),\"\")","v":0},{"$f":"IF($B18<>\"\",SUMPRODUCT(1*(ORARIO!$M$5:$Q$14=$B18)*(ORARIO!$B$5:$B$14=AB$3)),\"\")","v":0},null,{"$f":"IF($B18<>\"\",SUMPRODUCT(1*(ORARIO!$R$5:$V$14=$B18)*(ORARIO!$B$5:$B$14=AD$3)),\"\")","v":0},{"$f":"IF($B18<>\"\",SUMPRODUCT(1*(ORARIO!$R$5:$V$14=$B18)*(ORARIO!$B$5:$B$14=AE$3)),\"\")","v":0},{"$f":"IF($B18<>\"\",SUMPRODUCT(1*(ORARIO!$R$5:$V$14=$B18)*(ORARIO!$B$5:$B$14=AF$3)),\"\")","v":0},{"$f":"IF($B18<>\"\",SUMPRODUCT(1*(ORARIO!$R$5:$V$14=$B18)*(ORARIO!$B$5:$B$14=AG$3)),\"\")","v":0},{"$f":"IF($B18<>\"\",SUMPRODUCT(1*(ORARIO!$R$5:$V$14=$B18)*(ORARIO!$B$5:$B$14=AH$3)),\"\")","v":0},{"$f":"IF($B18<>\"\",SUMPRODUCT(1*(ORARIO!$R$5:$V$14=$B18)*(ORARIO!$B$5:$B$14=AI$3)),\"\")","v":0},{"$f":"IF($B18<>\"\",SUMPRODUCT(1*(ORARIO!$R$5:$V$14=$B18)*(ORARIO!$B$5:$B$14=AJ$3)),\"\")","v":0},{"$f":"IF($B18<>\"\",SUMPRODUCT(1*(ORARIO!$R$5:$V$14=$B18)*(ORARIO!$B$5:$B$14=AK$3)),\"\")","v":0},null,{"$f":"IF($B18<>\"\",SUMPRODUCT(1*(ORARIO!$W$5:$AA$14=$B18)*(ORARIO!$B$5:$B$14=AM$3)),\"\")","v":0},{"$f":"IF($B18<>\"\",SUMPRODUCT(1*(ORARIO!$W$5:$AA$14=$B18)*(ORARIO!$B$5:$B$14=AN$3)),\"\")","v":0},{"$f":"IF($B18<>\"\",SUMPRODUCT(1*(ORARIO!$W$5:$AA$14=$B18)*(ORARIO!$B$5:$B$14=AO$3)),\"\")","v":0},{"$f":"IF($B18<>\"\",SUMPRODUCT(1*(ORARIO!$W$5:$AA$14=$B18)*(ORARIO!$B$5:$B$14=AP$3)),\"\")","v":0},{"$f":"IF($B18<>\"\",SUMPRODUCT(1*(ORARIO!$W$5:$AA$14=$B18)*(ORARIO!$B$5:$B$14=AQ$3)),\"\")","v":0},{"$f":"IF($B18<>\"\",SUMPRODUCT(1*(ORARIO!$W$5:$AA$14=$B18)*(ORARIO!$B$5:$B$14=AR$3)),\"\")","v":0},{"$f":"IF($B18<>\"\",SUMPRODUCT(1*(ORARIO!$W$5:$AA$14=$B18)*(ORARIO!$B$5:$B$14=AS$3)),\"\")","v":0},{"$f":"IF($B18<>\"\",SUMPRODUCT(1*(ORARIO!$W$5:$AA$14=$B18)*(ORARIO!$B$5:$B$14=AT$3)),\"\")","v":0}]
[null,"B mat",{"$f":"IF($B$4<>\"\",SUMPRODUCT(1*(ORARIO!$C$5:$G$14=$B19)*(ORARIO!$B$5:$B$14=C$3)),\"\")","v":0},{"$f":"IF($B$4<>\"\",SUMPRODUCT(1*(ORARIO!$C$5:$G$14=$B19)*(ORARIO!$B$5:$B$14=D$3)),\"\")","v":0},{"$f":"IF($B$4<>\"\",SUMPRODUCT(1*(ORARIO!$C$5:$G$14=$B19)*(ORARIO!$B$5:$B$14=E$3)),\"\")","v":0},{"$f":"IF($B$4<>\"\",SUMPRODUCT(1*(ORARIO!$C$5:$G$14=$B19)*(ORARIO!$B$5:$B$14=F$3)),\"\")","v":0},{"$f":"IF($B$4<>\"\",SUMPRODUCT(1*(ORARIO!$C$5:$G$14=$B19)*(ORARIO!$B$5:$B$14=G$3)),\"\")","v":0},{"$f":"IF($B$4<>\"\",SUMPRODUCT(1*(ORARIO!$C$5:$G$14=$B19)*(ORARIO!$B$5:$B$14=H$3)),\"\")","v":1},{"$f":"IF($B$4<>\"\",SUMPRODUCT(1*(ORARIO!$C$5:$G$14=$B19)*(ORARIO!$B$5:$B$14=I$3)),\"\")","v":0},{"$f":"IF($B$4<>\"\",SUMPRODUCT(1*(ORARIO!$C$5:$G$14=$B19)*(ORARIO!$B$5:$B$14=J$3)),\"\")","v":0},null,{"$f":"IF($B19<>\"\",SUMPRODUCT(1*(ORARIO!$H$5:$L$14=$B19)*(ORARIO!$B$5:$B$14=L$3)),\"\")","v":0},{"$f":"IF($B19<>\"\",SUMPRODUCT(1*(ORARIO!$H$5:$L$14=$B19)*(ORARIO!$B$5:$B$14=M$3)),\"\")","v":0},{"$f":"IF($B19<>\"\",SUMPRODUCT(1*(ORARIO!$H$5:$L$14=$B19)*(ORARIO!$B$5:$B$14=N$3)),\"\")","v":0},{"$f":"IF($B19<>\"\",SUMPRODUCT(1*(ORARIO!$H$5:$L$14=$B19)*(ORARIO!$B$5:$B$14=O$3)),\"\")","v":0},{"$f":"IF($B19<>\"\",SUMPRODUCT(1*(ORARIO!$H$5:$L$14=$B19)*(ORARIO!$B$5:$B$14=P$3)),\"\")","v":0},{"$f":"IF($B19<>\"\",SUMPRODUCT(1*(ORARIO!$H$5:$L$14=$B19)*(ORARIO!$B$5:$B$14=Q$3)),\"\")","v":0},{"$f":"IF($B19<>\"\",SUMPRODUCT(1*(ORARIO!$H$5:$L$14=$B19)*(ORARIO!$B$5:$B$14=R$3)),\"\")","v":0},{"$f":"IF($B19<>\"\",SUMPRODUCT(1*(ORARIO!$H$5:$L$14=$B19)*(ORARIO!$B$5:$B$14=S$3)),\"\")","v":0},null,{"$f":"IF($B19<>\"\",SUMPRODUCT(1*(ORARIO!$M$5:$Q$14=$B19)*(ORARIO!$B$5:$B$14=U$3)),\"\")","v":0},{"$f":"IF($B19<>\"\",SUMPRODUCT(1*(ORARIO!$M$5:$Q$14=$B19)*(ORARIO!$B$5:$B$14=V$3)),\"\")","v":0},{"$f":"IF($B19<>\"\",SUMPRODUCT(1*(ORARIO!$M$5:$Q$14=$B19)*(ORARIO!$B$5:$B$14=W$3)),\"\")","v":0},{"$f":"IF($B19<>\"\",SUMPRODUCT(1*(ORARIO!$M$5:$Q$14=$B19)*(ORARIO!$B$5:$B$14=X$3)),\"\")","v":0},{"$f":"IF($B19<>\"\",SUMPRODUCT(1*(ORARIO!$M$5:$Q$14=$B19)*(ORARIO!$B$5:$B$14=Y$3)),\"\")","v":0},{"$f":"IF($B19<>\"\",SUMPRODUCT(1*(ORARIO!$M$5:$Q$14=$B19)*(ORARIO!$B$5:$B$14=Z$3)),\"\")","v":0},{"$f":"IF($B19<>\"\",SUMPRODUCT(1*(ORARIO!$M$5:$Q$14=$B19)*(ORARIO!$B$5:$B$14=AA$3)),\"\")","v":0},{"$f":"IF($B19<>\"\",SUMPRODUCT(1*(ORARIO!$M$5:$Q$14=$B19)*(ORARIO!$B$5:$B$14=AB$3)),\"\")","v":0},null,{"$f":"IF($B19<>\"\",SUMPRODUCT(1*(ORARIO!$R$5:$V$14=$B19)*(ORARIO!$B$5:$B$14=AD$3)),\"\")","v":0},{"$f":"IF($B19<>\"\",SUMPRODUCT(1*(ORARIO!$R$5:$V$14=$B19)*(ORARIO!$B$5:$B$14=AE$3)),\"\")","v":0},{"$f":"IF($B19<>\"\",SUMPRODUCT(1*(ORARIO!$R$5:$V$14=$B19)*(ORARIO!$B$5:$B$14=AF$3)),\"\")","v":0},{"$f":"IF($B19<>\"\",SUMPRODUCT(1*(ORARIO!$R$5:$V$14=$B19)*(ORARIO!$B$5:$B$14=AG$3)),\"\")","v":0},{"$f":"IF($B19<>\"\",SUMPRODUCT(1*(ORARIO!$R$5:$V$14=$B19)*(ORARIO!$B$5:$B$14=AH$3)),\"\")","v":0},{"$f":"IF($B19<>\"\",SUMPRODUCT(1*(ORARIO!$R$5:$V$14=$B19)*(ORARIO!$B$5:$B$14=AI$3)),\"\")","v":0},{"$f":"IF($B19<>\"\",SUMPRODUCT(1*(ORARIO!$R$5:$V$14=$B19)*(ORARIO!$B$5:$B$14=AJ$3)),\"\")","v":0},{"$f":"IF($B19<>\"\",SUMPRODUCT(1*(ORARIO!$R$5:$V$14=$B19)*(ORARIO!$B$5:$B$14=AK$3)),\"\")","v":0},null,{"$f":"IF($B19<>\"\",SUMPRODUCT(1*(ORARIO!$W$5:$AA$14=$B19)*(ORARIO!$B$5:$B$14=AM$3)),\"\")","v":0},{"$f":"IF($B19<>\"\",SUMPRODUCT(1*(ORARIO!$W$5:$AA$14=$B19)*(ORARIO!$B$5:$B$14=AN$3)),\"\")","v":0},{"$f":"IF($B19<>\"\",SUMPRODUCT(1*(ORARIO!$W$5:$AA$14=$B19)*(ORARIO!$B$5:$B$14=AO$3)),\"\")","v":0},{"$f":"IF($B19<>\"\",SUMPRODUCT(1*(ORARIO!$W$5:$AA$14=$B19)*(ORARIO!$B$5:$B$14=AP$3)),\"\")","v":0},{"$f":"IF($B19<>\"\",SUMPRODUCT(1*(ORARIO!$W$5:$AA$14=$B19)*(ORARIO!$B$5:$B$14=AQ$3)),\"\")","v":0},{"$f":"IF($B19<>\"\",SUMPRODUCT(1*(ORARIO!$W$5:$AA$14=$B19)*(ORARIO!$B$5:$B$14=AR$3)),\"\")","v":0},{"$f":"IF($B19<>\"\",SUMPRODUCT(1*(ORARIO!$W$5:$AA$14=$B19)*(ORARIO!$B$5:$B$14=AS$3)),\"\")","v":0},{"$f":"IF($B19<>\"\",SUMPRODUCT(1*(ORARIO!$W$5:$AA$14=$B19)*(ORARIO!$B$5:$B$14=AT$3)),\"\")","v":0}]
[null,"B nar",{"$f":"IF($B$4<>\"\",SUMPRODUCT(1*(ORARIO!$C$5:$G$14=$B20)*(ORARIO!$B$5:$B$14=C$3)),\"\")","v":0},{"$f":"IF($B$4<>\"\",SUMPRODUCT(1*(ORARIO!$C$5:$G$14=$B20)*(ORARIO!$B$5:$B$14=D$3)),\"\")","v":0},{"$f":"IF($B$4<>\"\",SUMPRODUCT(1*(ORARIO!$C$5:$G$14=$B20)*(ORARIO!$B$5:$B$14=E$3)),\"\")","v":0},{"$f":"IF($B$4<>\"\",SUMPRODUCT(1*(ORARIO!$C$5:$G$14=$B20)*(ORARIO!$B$5:$B$14=F$3)),\"\")","v":0},{"$f":"IF($B$4<>\"\",SUMPRODUCT(1*(ORARIO!$C$5:$G$14=$B20)*(ORARIO!$B$5:$B$14=G$3)),\"\")","v":0},{"$f":"IF($B$4<>\"\",SUMPRODUCT(1*(ORARIO!$C$5:$G$14=$B20)*(ORARIO!$B$5:$B$14=H$3)),\"\")","v":0},{"$f":"IF($B$4<>\"\",SUMPRODUCT(1*(ORARIO!$C$5:$G$14=$B20)*(ORARIO!$B$5:$B$14=I$3)),\"\")","v":0},{"$f":"IF($B$4<>\"\",SUMPRODUCT(1*(ORARIO!$C$5:$G$14=$B20)*(ORARIO!$B$5:$B$14=J$3)),\"\")","v":0},null,{"$f":"IF($B20<>\"\",SUMPRODUCT(1*(ORARIO!$H$5:$L$14=$B20)*(ORARIO!$B$5:$B$14=L$3)),\"\")","v":0},{"$f":"IF($B20<>\"\",SUMPRODUCT(1*(ORARIO!$H$5:$L$14=$B20)*(ORARIO!$B$5:$B$14=M$3)),\"\")","v":0},{"$f":"IF($B20<>\"\",SUMPRODUCT(1*(ORARIO!$H$5:$L$14=$B20)*(ORARIO!$B$5:$B$14=N$3)),\"\")","v":0},{"$f":"IF($B20<>\"\",SUMPRODUCT(1*(ORARIO!$H$5:$L$14=$B20)*(ORARIO!$B$5:$B$14=O$3)),\"\")","v":0},{"$f":"IF($B20<>\"\",SUMPRODUCT(1*(ORARIO!$H$5:$L$14=$B20)*(ORARIO!$B$5:$B$14=P$3)),\"\")","v":0},{"$f":"IF($B20<>\"\",SUMPRODUCT(1*(ORARIO!$H$5:$L$14=$B20)*(ORARIO!$B$5:$B$14=Q$3)),\"\")","v":0},{"$f":"IF($B20<>\"\",SUMPRODUCT(1*(ORARIO!$H$5:$L$14=$B20)*(ORARIO!$B$5:$B$14=R$3)),\"\")","v":0},{"$f":"IF($B20<>\"\",SUMPRODUCT(1*(ORARIO!$H$5:$L$14=$B20)*(ORARIO!$B$5:$B$14=S$3)),\"\")","v":0},null,{"$f":"IF($B20<>\"\",SUMPRODUCT(1*(ORARIO!$M$5:$Q$14=$B20)*(ORARIO!$B$5:$B$14=U$3)),\"\")","v":0},{"$f":"IF($B20<>\"\",SUMPRODUCT(1*(ORARIO!$M$5:$Q$14=$B20)*(ORARIO!$B$5:$B$14=V$3)),\"\")","v":0},{"$f":"IF($B20<>\"\",SUMPRODUCT(1*(ORARIO!$M$5:$Q$14=$B20)*(ORARIO!$B$5:$B$14=W$3)),\"\")","v":0},{"$f":"IF($B20<>\"\",SUMPRODUCT(1*(ORARIO!$M$5:$Q$14=$B20)*(ORARIO!$B$5:$B$14=X$3)),\"\")","v":0},{"$f":"IF($B20<>\"\",SUMPRODUCT(1*(ORARIO!$M$5:$Q$14=$B20)*(ORARIO!$B$5:$B$14=Y$3)),\"\")","v":0},{"$f":"IF($B20<>\"\",SUMPRODUCT(1*(ORARIO!$M$5:$Q$14=$B20)*(ORARIO!$B$5:$B$14=Z$3)),\"\")","v":0},{"$f":"IF($B20<>\"\",SUMPRODUCT(1*(ORARIO!$M$5:$Q$14=$B20)*(ORARIO!$B$5:$B$14=AA$3)),\"\")","v":0},{"$f":"IF($B20<>\"\",SUMPRODUCT(1*(ORARIO!$M$5:$Q$14=$B20)*(ORARIO!$B$5:$B$14=AB$3)),\"\")","v":0},null,{"$f":"IF($B20<>\"\",SUMPRODUCT(1*(ORARIO!$R$5:$V$14=$B20)*(ORARIO!$B$5:$B$14=AD$3)),\"\")","v":0},{"$f":"IF($B20<>\"\",SUMPRODUCT(1*(ORARIO!$R$5:$V$14=$B20)*(ORARIO!$B$5:$B$14=AE$3)),\"\")","v":0},{"$f":"IF($B20<>\"\",SUMPRODUCT(1*(ORARIO!$R$5:$V$14=$B20)*(ORARIO!$B$5:$B$14=AF$3)),\"\")","v":0},{"$f":"IF($B20<>\"\",SUMPRODUCT(1*(ORARIO!$R$5:$V$14=$B20)*(ORARIO!$B$5:$B$14=AG$3)),\"\")","v":0},{"$f":"IF($B20<>\"\",SUMPRODUCT(1*(ORARIO!$R$5:$V$14=$B20)*(ORARIO!$B$5:$B$14=AH$3)),\"\")","v":0},{"$f":"IF($B20<>\"\",SUMPRODUCT(1*(ORARIO!$R$5:$V$14=$B20)*(ORARIO!$B$5:$B$14=AI$3)),\"\")","v":0},{"$f":"IF($B20<>\"\",SUMPRODUCT(1*(ORARIO!$R$5:$V$14=$B20)*(ORARIO!$B$5:$B$14=AJ$3)),\"\")","v":0},{"$f":"IF($B20<>\"\",SUMPRODUCT(1*(ORARIO!$R$5:$V$14=$B20)*(ORARIO!$B$5:$B$14=AK$3)),\"\")","v":0},null,{"$f":"IF($B20<>\"\",SUMPRODUCT(1*(ORARIO!$W$5:$AA$14=$B20)*(ORARIO!$B$5:$B$14=AM$3)),\"\")","v":0},{"$f":"IF($B20<>\"\",SUMPRODUCT(1*(ORARIO!$W$5:$AA$14=$B20)*(ORARIO!$B$5:$B$14=AN$3)),\"\")","v":0},{"$f":"IF($B20<>\"\",SUMPRODUCT(1*(ORARIO!$W$5:$AA$14=$B20)*(ORARIO!$B$5:$B$14=AO$3)),\"\")","v":0},{"$f":"IF($B20<>\"\",SUMPRODUCT(1*(ORARIO!$W$5:$AA$14=$B20)*(ORARIO!$B$5:$B$14=AP$3)),\"\")","v":0},{"$f":"IF($B20<>\"\",SUMPRODUCT(1*(ORARIO!$W$5:$AA$14=$B20)*(ORARIO!$B$5:$B$14=AQ$3)),\"\")","v":0},{"$f":"IF($B20<>\"\",SUMPRODUCT(1*(ORARIO!$W$5:$AA$14=$B20)*(ORARIO!$B$5:$B$14=AR$3)),\"\")","v":0},{"$f":"IF($B20<>\"\",SUMPRODUCT(1*(ORARIO!$W$5:$AA$14=$B20)*(ORARIO!$B$5:$B$14=AS$3)),\"\")","v":0},{"$f":"IF($B20<>\"\",SUMPRODUCT(1*(ORARIO!$W$5:$AA$14=$B20)*(ORARIO!$B$5:$B$14=AT$3)),\"\")","v":0}]
[null,"B zgo",{"$f":"IF($B$4<>\"\",SUMPRODUCT(1*(ORARIO!$C$5:$G$14=$B21)*(ORARIO!$B$5:$B$14=C$3)),\"\")","v":0},{"$f":"IF($B$4<>\"\",SUMPRODUCT(1*(ORARIO!$C$5:$G$14=$B21)*(ORARIO!$B$5:$B$14=D$3)),\"\")","v":0},{"$f":"IF($B$4<>\"\",SUMPRODUCT(1*(ORARIO!$C$5:$G$14=$B21)*(ORARIO!$B$5:$B$14=E$3)),\"\")","v":0},{"$f":"IF($B$4<>\"\",SUMPRODUCT(1*(ORARIO!$C$5:$G$14=$B21)*(ORARIO!$B$5:$B$14=F$3)),\"\")","v":0},{"$f":"IF($B$4<>\"\",SUMPRODUCT(1*(ORARIO!$C$5:$G$14=$B21)*(ORARIO!$B$5:$B$14=G$3)),\"\")","v":0},{"$f":"IF($B$4<>\"\",SUMPRODUCT(1*(ORARIO!$C$5:$G$14=$B21)*(ORARIO!$B$5:$B$14=H$3)),\"\")","v":0},{"$f":"IF($B$4<>\"\",SUMPRODUCT(1*(ORARIO!$C$5:$G$14=$B21)*(ORARIO!$B$5:$B$14=I$3)),\"\")","v":0},{"$f":"IF($B$4<>\"\",SUMPRODUCT(1*(ORARIO!$C$5:$G$14=$B21)*(ORARIO!$B$5:$B$14=J$3)),\"\")","v":0},null,{"$f":"IF($B21<>\"\",SUMPRODUCT(1*(ORARIO!$H$5:$L$14=$B21)*(ORARIO!$B$5:$B$14=L$3)),\"\")","v":0},{"$f":"IF($B21<>\"\",SUMPRODUCT(1*(ORARIO!$H$5:$L$14=$B21)*(ORARIO!$B$5:$B$14=M$3)),\"\")","v":0},{"$f":"IF($B21<>\"\",SUMPRODUCT(1*(ORARIO!$H$5:$L$14=$B21)*(ORARIO!$B$5:$B$14=N$3)),\"\")","v":0},{"$f":"IF($B21<>\"\",SUMPRODUCT(1*(ORARIO!$H$5:$L$14=$B21)*(ORARIO!$B$5:$B$14=O$3)),\"\")","v":0},{"$f":"IF($B21<>\"\",SUMPRODUCT(1*(ORARIO!$H$5:$L$14=$B21)*(ORARIO!$B$5:$B$14=P$3)),\"\")","v":0},{"$f":"IF($B21<>\"\",SUMPRODUCT(1*(ORARIO!$H$5:$L$14=$B21)*(ORARIO!$B$5:$B$14=Q$3)),\"\")","v":0},{"$f":"IF($B21<>\"\",SUMPRODUCT(1*(ORARIO!$H$5:$L$14=$B21)*(ORARIO!$B$5:$B$14=R$3)),\"\")","v":0},{"$f":"IF($B21<>\"\",SUMPRODUCT(1*(ORARIO!$H$5:$L$14=$B21)*(ORARIO!$B$5:$B$14=S$3)),\"\")","v":0},null,{"$f":"IF($B21<>\"\",SUMPRODUCT(1*(ORARIO!$M$5:$Q$14=$B21)*(ORARIO!$B$5:$B$14=U$3)),\"\")","v":0},{"$f":"IF($B21<>\"\",SUMPRODUCT(1*(ORARIO!$M$5:$Q$14=$B21)*(ORARIO!$B$5:$B$14=V$3)),\"\")","v":0},{"$f":"IF($B21<>\"\",SUMPRODUCT(1*(ORARIO!$M$5:$Q$14=$B21)*(ORARIO!$B$5:$B$14=W$3)),\"\")","v":0},{"$f":"IF($B21<>\"\",SUMPRODUCT(1*(ORARIO!$M$5:$Q$14=$B21)*(ORARIO!$B$5:$B$14=X$3)),\"\")","v":0},{"$f":"IF($B21<>\"\",SUMPRODUCT(1*(ORARIO!$M$5:$Q$14=$B21)*(ORARIO!$B$5:$B$14=Y$3)),\"\")","v":0},{"$f":"IF($B21<>\"\",SUMPRODUCT(1*(ORARIO!$M$5:$Q$14=$B21)*(ORARIO!$B$5:$B$14=Z$3)),\"\")","v":0},{"$f":"IF($B21<>\"\",SUMPRODUCT(1*(ORARIO!$M$5:$Q$14=$B21)*(ORARIO!$B$5:$B$14=AA$3)),\"\")","v":0},{"$f":"IF($B21<>\"\",SUMPRODUCT(1*(ORARIO!$M$5:$Q$14=$B21)*(ORARIO!$B$5:$B$14=AB$3)),\"\")","v":0},null,{"$f":"IF($B21<>\"\",SUMPRODUCT(1*(ORARIO!$R$5:$V$14=$B21)*(ORARIO!$B$5:$B$14=AD$3)),\"\")","v":0},{"$f":"IF($B21<>\"\",SUMPRODUCT(1*(ORARIO!$R$5:$V$14=$B21)*(ORARIO!$B$5:$B$14=AE$3)),\"\")","v":0},{"$f":"IF($B21<>\"\",SUMPRODUCT(1*(ORARIO!$R$5:$V$14=$B21)*(ORARIO!$B$5:$B$14=AF$3)),\"\")","v":0},{"$f":"IF($B21<>\"\",SUMPRODUCT(1*(ORARIO!$R$5:$V$14=$B21)*(ORARIO!$B$5:$B$14=AG$3)),\"\")","v":0},{"$f":"IF($B21<>\"\",SUMPRODUCT(1*(ORARIO!$R$5:$V$14=$B21)*(ORARIO!$B$5:$B$14=AH$3)),\"\")","v":0},{"$f":"IF($B21<>\"\",SUMPRODUCT(1*(ORARIO!$R$5:$V$14=$B21)*(ORARIO!$B$5:$B$14=AI$3)),\"\")","v":0},{"$f":"IF($B21<>\"\",SUMPRODUCT(1*(ORARIO!$R$5:$V$14=$B21)*(ORARIO!$B$5:$B$14=AJ$3)),\"\")","v":0},{"$f":"IF($B21<>\"\",SUMPRODUCT(1*(ORARIO!$R$5:$V$14=$B21)*(ORARIO!$B$5:$B$14=AK$3)),\"\")","v":0},null,{"$f":"IF($B21<>\"\",SUMPRODUCT(1*(ORARIO!$W$5:$AA$14=$B21)*(ORARIO!$B$5:$B$14=AM$3)),\"\")","v":0},{"$f":"IF($B21<>\"\",SUMPRODUCT(1*(ORARIO!$W$5:$AA$14=$B21)*(ORARIO!$B$5:$B$14=AN$3)),\"\")","v":0},{"$f":"IF($B21<>\"\",SUMPRODUCT(1*(ORARIO!$W$5:$AA$14=$B21)*(ORARIO!$B$5:$B$14=AO$3)),\"\")","v":1},{"$f":"IF($B21<>\"\",SUMPRODUCT(1*(ORARIO!$W$5:$AA$14=$B21)*(ORARIO!$B$5:$B$14=AP$3)),\"\")","v":0},{"$f":"IF($B21<>\"\",SUMPRODUCT(1*(ORARIO!$W$5:$AA$14=$B21)*(ORARIO!$B$5:$B$14=AQ$3)),\"\")","v":0},{"$f":"IF($B21<>\"\",SUMPRODUCT(1*(ORARIO!$W$5:$AA$14=$B21)*(ORARIO!$B$5:$B$14=AR$3)),\"\")","v":0},{"$f":"IF($B21<>\"\",SUMPRODUCT(1*(ORARIO!$W$5:$AA$14=$B21)*(ORARIO!$B$5:$B$14=AS$3)),\"\")","v":0},{"$f":"IF($B21<>\"\",SUMPRODUCT(1*(ORARIO!$W$5:$AA$14=$B21)*(ORARIO!$B$5:$B$14=AT$3)),\"\")","v":0}]
[null,"B geo",{"$f":"IF($B$4<>\"\",SUMPRODUCT(1*(ORARIO!$C$5:$G$14=$B22)*(ORARIO!$B$5:$B$14=C$3)),\"\")","v":0},{"$f":"IF($B$4<>\"\",SUMPRODUCT(1*(ORARIO!$C$5:$G$14=$B22)*(ORARIO!$B$5:$B$14=D$3)),\"\")","v":0},{"$f":"IF($B$4<>\"\",SUMPRODUCT(1*(ORARIO!$C$5:$G$14=$B22)*(ORARIO!$B$5:$B$14=E$3)),\"\")","v":0},{"$f":"IF($B$4<>\"\",SUMPRODUCT(1*(ORARIO!$C$5:$G$14=$B22)*(ORARIO!$B$5:$B$14=F$3)),\"\")","v":0},{"$f":"IF($B$4<>\"\",SUMPRODUCT(1*(ORARIO!$C$5:$G$14=$B22)*(ORARIO!$B$5:$B$14=G$3)),\"\")","v":0},{"$f":"IF($B$4<>\"\",SUMPRODUCT(1*(ORARIO!$C$5:$G$14=$B22)*(ORARIO!$B$5:$B$14=H$3)),\"\")","v":0},{"$f":"IF($B$4<>\"\",SUMPRODUCT(1*(ORARIO!$C$5:$G$14=$B22)*(ORARIO!$B$5:$B$14=I$3)),\"\")","v":0},{"$f":"IF($B$4<>\"\",SUMPRODUCT(1*(ORARIO!$C$5:$G$14=$B22)*(ORARIO!$B$5:$B$14=J$3)),\"\")","v":0},null,{"$f":"IF($B22<>\"\",SUMPRODUCT(1*(ORARIO!$H$5:$L$14=$B22)*(ORARIO!$B$5:$B$14=L$3)),\"\")","v":0},{"$f":"IF($B22<>\"\",SUMPRODUCT(1*(ORARIO!$H$5:$L$14=$B22)*(ORARIO!$B$5:$B$14=M$3)),\"\")","v":0},{"$f":"IF($B22<>\"\",SUMPRODUCT(1*(ORARIO!$H$5:$L$14=$B22)*(ORARIO!$B$5:$B$14=N$3)),\"\")","v":0},{"$f":"IF($B22<>\"\",SUMPRODUCT(1*(ORARIO!$H$5:$L$14=$B22)*(ORARIO!$B$5:$B$14=O$3)),\"\")","v":0},{"$f":"IF($B22<>\"\",SUMPRODUCT(1*(ORARIO!$H$5:$L$14=$B22)*(ORARIO!$B$5:$B$14=P$3)),\"\")","v":0},{"$f":"IF($B22<>\"\",SUMPRODUCT(1*(ORARIO!$H$5:$L$14=$B22)*(ORARIO!$B$5:$B$14=Q$3)),\"\")","v":0},{"$f":"IF($B22<>\"\",SUMPRODUCT(1*(ORARIO!$H$5:$L$14=$B22)*(ORARIO!$B$5:$B$14=R$3)),\"\")","v":0},{"$f":"IF($B22<>\"\",SUMPRODUCT(1*(ORARIO!$H$5:$L$14=$B22)*(ORARIO!$B$5:$B$14=S$3)),\"\")","v":0},null,{"$f":"IF($B22<>\"\",SUMPRODUCT(1*(ORARIO!$M$5:$Q$14=$B22)*(ORARIO!$B$5:$B$14=U$3)),\"\")","v":0},{"$f":"IF($B22<>\"\",SUMPRODUCT(1*(ORARIO!$M$5:$Q$14=$B22)*(ORARIO!$B$5:$B$14=V$3)),\"\")","v":0},{"$f":"IF($B22<>\"\",SUMPRODUCT(1*(ORARIO!$M$5:$Q$14=$B22)*(ORARIO!$B$5:$B$14=W$3)),\"\")","v":0},{"$f":"IF($B22<>\"\",SUMPRODUCT(1*(ORARIO!$M$5:$Q$14=$B22)*(ORARIO!$B$5:$B$14=X$3)),\"\")","v":0},{"$f":"IF($B22<>\"\",SUMPRODUCT(1*(ORARIO!$M$5:$Q$14=$B22)*(ORARIO!$B$5:$B$14=Y$3)),\"\")","v":0},{"$f":"IF($B22<>\"\",SUMPRODUCT(1*(ORARIO!$M$5:$Q$14=$B22)*(ORARIO!$B$5:$B$14=Z$3)),\"\")","v":0},{"$f":"IF($B22<>\"\",SUMPRODUCT(1*(ORARIO!$M$5:$Q$14=$B22)*(ORARIO!$B$5:$B$14=AA$3)),\"\")","v":0},{"$f":"IF($B22<>\"\",SUMPRODUCT(1*(ORARIO!$M$5:$Q$14=$B22)*(ORARIO!$B$5:$B$14=AB$3)),\"\")","v":0},null,{"$f":"IF($B22<>\"\",SUMPRODUCT(1*(ORARIO!$R$5:$V$14=$B22)*(ORARIO!$B$5:$B$14=AD$3)),\"\")","v":0},{"$f":"IF($B22<>\"\",SUMPRODUCT(1*(ORARIO!$R$5:$V$14=$B22)*(ORARIO!$B$5:$B$14=AE$3)),\"\")","v":0},{"$f":"IF($B22<>\"\",SUMPRODUCT(1*(ORARIO!$R$5:$V$14=$B22)*(ORARIO!$B$5:$B$14=AF$3)),\"\")","v":0},{"$f":"IF($B22<>\"\",SUMPRODUCT(1*(ORARIO!$R$5:$V$14=$B22)*(ORARIO!$B$5:$B$14=AG$3)),\"\")","v":0},{"$f":"IF($B22<>\"\",SUMPRODUCT(1*(ORARIO!$R$5:$V$14=$B22)*(ORARIO!$B$5:$B$14=AH$3)),\"\")","v":0},{"$f":"IF($B22<>\"\",SUMPRODUCT(1*(ORARIO!$R$5:$V$14=$B22)*(ORARIO!$B$5:$B$14=AI$3)),\"\")","v":0},{"$f":"IF($B22<>\"\",SUMPRODUCT(1*(ORARIO!$R$5:$V$14=$B22)*(ORARIO!$B$5:$B$14=AJ$3)),\"\")","v":0},{"$f":"IF($B22<>\"\",SUMPRODUCT(1*(ORARIO!$R$5:$V$14=$B22)*(ORARIO!$B$5:$B$14=AK$3)),\"\")","v":0},null,{"$f":"IF($B22<>\"\",SUMPRODUCT(1*(ORARIO!$W$5:$AA$14=$B22)*(ORARIO!$B$5:$B$14=AM$3)),\"\")","v":0},{"$f":"IF($B22<>\"\",SUMPRODUCT(1*(ORARIO!$W$5:$AA$14=$B22)*(ORARIO!$B$5:$B$14=AN$3)),\"\")","v":0},{"$f":"IF($B22<>\"\",SUMPRODUCT(1*(ORARIO!$W$5:$AA$14=$B22)*(ORARIO!$B$5:$B$14=AO$3)),\"\")","v":0},{"$f":"IF($B22<>\"\",SUMPRODUCT(1*(ORARIO!$W$5:$AA$14=$B22)*(ORARIO!$B$5:$B$14=AP$3)),\"\")","v":0},{"$f":"IF($B22<>\"\",SUMPRODUCT(1*(ORARIO!$W$5:$AA$14=$B22)*(ORARIO!$B$5:$B$14=AQ$3)),\"\")","v":0},{"$f":"IF($B22<>\"\",SUMPRODUCT(1*(ORARIO!$W$5:$AA$14=$B22)*(ORARIO!$B$5:$B$14=AR$3)),\"\")","v":0},{"$f":"IF($B22<>\"\",SUMPRODUCT(1*(ORARIO!$W$5:$AA$14=$B22)*(ORARIO!$B$5:$B$14=AS$3)),\"\")","v":0},{"$f":"IF($B22<>\"\",SUMPRODUCT(1*(ORARIO!$W$5:$AA$14=$B22)*(ORARIO!$B$5:$B$14=AT$3)),\"\")","v":0}]
[null,"B lik",{"$f":"IF($B$4<>\"\",SUMPRODUCT(1*(ORARIO!$C$5:$G$14=$B23)*(ORARIO!$B$5:$B$14=C$3)),\"\")","v":0},{"$f":"IF($B$4<>\"\",SUMPRODUCT(1*(ORARIO!$C$5:$G$14=$B23)*(ORARIO!$B$5:$B$14=D$3)),\"\")","v":0},{"$f":"IF($B$4<>\"\",SUMPRODUCT(1*(ORARIO!$C$5:$G$14=$B23)*(ORARIO!$B$5:$B$14=E$3)),\"\")","v":0},{"$f":"IF($B$4<>\"\",SUMPRODUCT(1*(ORARIO!$C$5:$G$14=$B23)*(ORARIO!$B$5:$B$14=F$3)),\"\")","v":0},{"$f":"IF($B$4<>\"\",SUMPRODUCT(1*(ORARIO!$C$5:$G$14=$B23)*(ORARIO!$B$5:$B$14=G$3)),\"\")","v":0},{"$f":"IF($B$4<>\"\",SUMPRODUCT(1*(ORARIO!$C$5:$G$14=$B23)*(ORARIO!$B$5:$B$14=H$3)),\"\")","v":0},{"$f":"IF($B$4<>\"\",SUMPRODUCT(1*(ORARIO!$C$5:$G$14=$B23)*(ORARIO!$B$5:$B$14=I$3)),\"\")","v":0},{"$f":"IF($B$4<>\"\",SUMPRODUCT(1*(ORARIO!$C$5:$G$14=$B23)*(ORARIO!$B$5:$B$14=J$3)),\"\")","v":0},null,{"$f":"IF($B23<>\"\",SUMPRODUCT(1*(ORARIO!$H$5:$L$14=$B23)*(ORARIO!$B$5:$B$14=L$3)),\"\")","v":0},{"$f":"IF($B23<>\"\",SUMPRODUCT(1*(ORARIO!$H$5:$L$14=$B23)*(ORARIO!$B$5:$B$14=M$3)),\"\")","v":0},{"$f":"IF($B23<>\"\",SUMPRODUCT(1*(ORARIO!$H$5:$L$14=$B23)*(ORARIO!$B$5:$B$14=N$3)),\"\")","v":0},{"$f":"IF($B23<>\"\",SUMPRODUCT(1*(ORARIO!$H$5:$L$14=$B23)*(ORARIO!$B$5:$B$14=O$3)),\"\")","v":0},{"$f":"IF($B23<>\"\",SUMPRODUCT(1*(ORARIO!$H$5:$L$14=$B23)*(ORARIO!$B$5:$B$14=P$3)),\"\")","v":0},{"$f":"IF($B23<>\"\",SUMPRODUCT(1*(ORARIO!$H$5:$L$14=$B23)*(ORARIO!$B$5:$B$14=Q$3)),\"\")","v":0},{"$f":"IF($B23<>\"\",SUMPRODUCT(1*(ORARIO!$H$5:$L$14=$B23)*(ORARIO!$B$5:$B$14=R$3)),\"\")","v":0},{"$f":"IF($B23<>\"\",SUMPRODUCT(1*(ORARIO!$H$5:$L$14=$B23)*(ORARIO!$B$5:$B$14=S$3)),\"\")","v":0},null,{"$f":"IF($B23<>\"\",SUMPRODUCT(1*(ORARIO!$M$5:$Q$14=$B23)*(ORARIO!$B$5:$B$14=U$3)),\"\")","v":0},{"$f":"IF($B23<>\"\",SUMPRODUCT(1*(ORARIO!$M$5:$Q$14=$B23)*(ORARIO!$B$5:$B$14=V$3)),\"\")","v":0},{"$f":"IF($B23<>\"\",SUMPRODUCT(1*(ORARIO!$M$5:$Q$14=$B23)*(ORARIO!$B$5:$B$14=W$3)),\"\")","v":0},{"$f":"IF($B23<>\"\",SUMPRODUCT(1*(ORARIO!$M$5:$Q$14=$B23)*(ORARIO!$B$5:$B$14=X$3)),\"\")","v":0},{"$f":"IF($B23<>\"\",SUMPRODUCT(1*(ORARIO!$M$5:$Q$14=$B23)*(ORARIO!$B$5:$B$14=Y$3)),\"\")","v":0},{"$f":"IF($B23<>\"\",SUMPRODUCT(1*(ORARIO!$M$5:$Q$14=$B23)*(ORARIO!$B$5:$B$14=Z$3)),\"\")","v":0},{"$f":"IF($B23<>\"\",SUMPRODUCT(1*(ORARIO!$M$5:$Q$14=$B23)*(ORARIO!$B$5:$B$14=AA$3)),\"\")","v":0},{"$f":"IF($B23<>\"\",SUMPRODUCT(1*(ORARIO!$M$5:$Q$14=$B23)*(ORARIO!$B$5:$B$14=AB$3)),\"\")","v":0},null,{"$f":"IF($B23<>\"\",SUMPRODUCT(1*(ORARIO!$R$5:$V$14=$B23)*(ORARIO!$B$5:$B$14=AD$3)),\"\")","v":0},{"$f":"IF($B23<>\"\",SUMPRODUCT(1*(ORARIO!$R$5:$V$14=$B23)*(ORARIO!$B$5:$B$14=AE$3)),\"\")","v":0},{"$f":"IF($B23<>\"\",SUMPRODUCT(1*(ORARIO!$R$5:$V$14=$B23)*(ORARIO!$B$5:$B$14=AF$3)),\"\")","v":0},{"$f":"IF($B23<>\"\",SUMPRODUCT(1*(ORARIO!$R$5:$V$14=$B23)*(ORARIO!$B$5:$B$14=AG$3)),\"\")","v":0},{"$f":"IF($B23<>\"\",SUMPRODUCT(1*(ORARIO!$R$5:$V$14=$B23)*(ORARIO!$B$5:$B$14=AH$3)),\"\")","v":0},{"$f":"IF($B23<>\"\",SUMPRODUCT(1*(ORARIO!$R$5:$V$14=$B23)*(ORARIO!$B$5:$B$14=AI$3)),\"\")","v":0},{"$f":"IF($B23<>\"\",SUMPRODUCT(1*(ORARIO!$R$5:$V$14=$B23)*(ORARIO!$B$5:$B$14=AJ$3)),\"\")","v":0},{"$f":"IF($B23<>\"\",SUMPRODUCT(1*(ORARIO!$R$5:$V$14=$B23)*(ORARIO!$B$5:$B$14=AK$3)),\"\")","v":0},null,{"$f":"IF($B23<>\"\",SUMPRODUCT(1*(ORARIO!$W$5:$AA$14=$B23)*(ORARIO!$B$5:$B$14=AM$3)),\"\")","v":0},{"$f":"IF($B23<>\"\",SUMPRODUCT(1*(ORARIO!$W$5:$AA$14=$B23)*(ORARIO!$B$5:$B$14=AN$3)),\"\")","v":0},{"$f":"IF($B23<>\"\",SUMPRODUCT(1*(ORARIO!$W$5:$AA$14=$B23)*(ORARIO!$B$5:$B$14=AO$3)),\"\")","v":0},{"$f":"IF($B23<>\"\",SUMPRODUCT(1*(ORARIO!$W$5:$AA$14=$B23)*(ORARIO!$B$5:$B$14=AP$3)),\"\")","v":0},{"$f":"IF($B23<>\"\",SUMPRODUCT(1*(ORARIO!$W$5:$AA$14=$B23)*(ORARIO!$B$5:$B$14=AQ$3)),\"\")","v":0},{"$f":"IF($B23<>\"\",SUMPRODUCT(1*(ORARIO!$W$5:$AA$14=$B23)*(ORARIO!$B$5:$B$14=AR$3)),\"\")","v":0},{"$f":"IF($B23<>\"\",SUMPRODUCT(1*(ORARIO!$W$5:$AA$14=$B23)*(ORARIO!$B$5:$B$14=AS$3)),\"\")","v":0},{"$f":"IF($B23<>\"\",SUMPRODUCT(1*(ORARIO!$W$5:$AA$14=$B23)*(ORARIO!$B$5:$B$14=AT$3)),\"\")","v":0}]
[null,"B gla",{"$f":"IF($B$4<>\"\",SUMPRODUCT(1*(ORARIO!$C$5:$G$14=$B24)*(ORARIO!$B$5:$B$14=C$3)),\"\")","v":0},{"$f":"IF($B$4<>\"\",SUMPRODUCT(1*(ORARIO!$C$5:$G$14=$B24)*(ORARIO!$B$5:$B$14=D$3)),\"\")","v":0},{"$f":"IF($B$4<>\"\",SUMPRODUCT(1*(ORARIO!$C$5:$G$14=$B24)*(ORARIO!$B$5:$B$14=E$3)),\"\")","v":0},{"$f":"IF($B$4<>\"\",SUMPRODUCT(1*(ORARIO!$C$5:$G$14=$B24)*(ORARIO!$B$5:$B$14=F$3)),\"\")","v":0},{"$f":"IF($B$4<>\"\",SUMPRODUCT(1*(ORARIO!$C$5:$G$14=$B24)*(ORARIO!$B$5:$B$14=G$3)),\"\")","v":0},{"$f":"IF($B$4<>\"\",SUMPRODUCT(1*(ORARIO!$C$5:$G$14=$B24)*(ORARIO!$B$5:$B$14=H$3)),\"\")","v":0},{"$f":"IF($B$4<>\"\",SUMPRODUCT(1*(ORARIO!$C$5:$G$14=$B24)*(ORARIO!$B$5:$B$14=I$3)),\"\")","v":0},{"$f":"IF($B$4<>\"\",SUMPRODUCT(1*(ORARIO!$C$5:$G$14=$B24)*(ORARIO!$B$5:$B$14=J$3)),\"\")","v":0},null,{"$f":"IF($B24<>\"\",SUMPRODUCT(1*(ORARIO!$H$5:$L$14=$B24)*(ORARIO!$B$5:$B$14=L$3)),\"\")","v":0},{"$f":"IF($B24<>\"\",SUMPRODUCT(1*(ORARIO!$H$5:$L$14=$B24)*(ORARIO!$B$5:$B$14=M$3)),\"\")","v":0},{"$f":"IF($B24<>\"\",SUMPRODUCT(1*(ORARIO!$H$5:$L$14=$B24)*(ORARIO!$B$5:$B$14=N$3)),\"\")","v":0},{"$f":"IF($B24<>\"\",SUMPRODUCT(1*(ORARIO!$H$5:$L$14=$B24)*(ORARIO!$B$5:$B$14=O$3)),\"\")","v":0},{"$f":"IF($B24<>\"\",SUMPRODUCT(1*(ORARIO!$H$5:$L$14=$B24)*(ORARIO!$B$5:$B$14=P$3)),\"\")","v":0},{"$f":"IF($B24<>\"\",SUMPRODUCT(1*(ORARIO!$H$5:$L$14=$B24)*(ORARIO!$B$5:$B$14=Q$3)),\"\")","v":0},{"$f":"IF($B24<>\"\",SUMPRODUCT(1*(ORARIO!$H$5:$L$14=$B24)*(ORARIO!$B$5:$B$14=R$3)),\"\")","v":0},{"$f":"IF($B24<>\"\",SUMPRODUCT(1*(ORARIO!$H$5:$L$14=$B24)*(ORARIO!$B$5:$B$14=S$3)),\"\")","v":0},null,{"$f":"IF($B24<>\"\",SUMPRODUCT(1*(ORARIO!$M$5:$Q$14=$B24)*(ORARIO!$B$5:$B$14=U$3)),\"\")","v":0},{"$f":"IF($B24<>\"\",SUMPRODUCT(1*(ORARIO!$M$5:$Q$14=$B24)*(ORARIO!$B$5:$B$14=V$3)),\"\")","v":0},{"$f":"IF($B24<>\"\",SUMPRODUCT(1*(ORARIO!$M$5:$Q$14=$B24)*(ORARIO!$B$5:$B$14=W$3)),\"\")","v":0},{"$f":"IF($B24<>\"\",SUMPRODUCT(1*(ORARIO!$M$5:$Q$14=$B24)*(ORARIO!$B$5:$B$14=X$3)),\"\")","v":0},{"$f":"IF($B24<>\"\",SUMPRODUCT(1*(ORARIO!$M$5:$Q$14=$B24)*(ORARIO!$B$5:$B$14=Y$3)),\"\")","v":0},{"$f":"IF($B24<>\"\",SUMPRODUCT(1*(ORARIO!$M$5:$Q$14=$B24)*(ORARIO!$B$5:$B$14=Z$3)),\"\")","v":0},{"$f":"IF($B24<>\"\",SUMPRODUCT(1*(ORARIO!$M$5:$Q$14=$B24)*(ORARIO!$B$5:$B$14=AA$3)),\"\")","v":0},{"$f":"IF($B24<>\"\",SUMPRODUCT(1*(ORARIO!$M$5:$Q$14=$B24)*(ORARIO!$B$5:$B$14=AB$3)),\"\")","v":0},null,{"$f":"IF($B24<>\"\",SUMPRODUCT(1*(ORARIO!$R$5:$V$14=$B24)*(ORARIO!$B$5:$B$14=AD$3)),\"\")","v":0},{"$f":"IF($B24<>\"\",SUMPRODUCT(1*(ORARIO!$R$5:$V$14=$B24)*(ORARIO!$B$5:$B$14=AE$3)),\"\")","v":0},{"$f":"IF($B24<>\"\",SUMPRODUCT(1*(ORARIO!$R$5:$V$14=$B24)*(ORARIO!$B$5:$B$14=AF$3)),\"\")","v":0},{"$f":"IF($B24<>\"\",SUMPRODUCT(1*(ORARIO!$R$5:$V$14=$B24)*(ORARIO!$B$5:$B$14=AG$3)),\"\")","v":0},{"$f":"IF($B24<>\"\",SUMPRODUCT(1*(ORARIO!$R$5:$V$14=$B24)*(ORARIO!$B$5:$B$14=AH$3)),\"\")","v":0},{"$f":"IF($B24<>\"\",SUMPRODUCT(1*(ORARIO!$R$5:$V$14=$B24)*(ORARIO!$B$5:$B$14=AI$3)),\"\")","v":0},{"$f":"IF($B24<>\"\",SUMPRODUCT(1*(ORARIO!$R$5:$V$14=$B24)*(ORARIO!$B$5:$B$14=AJ$3)),\"\")","v":0},{"$f":"IF($B24<>\"\",SUMPRODUCT(1*(ORARIO!$R$5:$V$14=$B24)*(ORARIO!$B$5:$B$14=AK$3)),\"\")","v":0},null,{"$f":"IF($B24<>\"\",SUMPRODUCT(1*(ORARIO!$W$5:$AA$14=$B24)*(ORARIO!$B$5:$B$14=AM$3)),\"\")","v":0},{"$f":"IF($B24<>\"\",SUMPRODUCT(1*(ORARIO!$W$5:$AA$14=$B24)*(ORARIO!$B$5:$B$14=AN$3)),\"\")","v":0},{"$f":"IF($B24<>\"\",SUMPRODUCT(1*(ORARIO!$W$5:$AA$14=$B24)*(ORARIO!$B$5:$B$14=AO$3)),\"\")","v":0},{"$f":"IF($B24<>\"\",SUMPRODUCT(1*(ORARIO!$W$5:$AA$14=$B24)*(ORARIO!$B$5:$B$14=AP$3)),\"\")","v":0},{"$f":"IF($B24<>\"\",SUMPRODUCT(1*(ORARIO!$W$5:$AA$14=$B24)*(ORARIO!$B$5:$B$14=AQ$3)),\"\")","v":0},{"$f":"IF($B24<>\"\",SUMPRODUCT(1*(ORARIO!$W$5:$AA$14=$B24)*(ORARIO!$B$5:$B$14=AR$3)),\"\")","v":0},{"$f":"IF($B24<>\"\",SUMPRODUCT(1*(ORARIO!$W$5:$AA$14=$B24)*(ORARIO!$B$5:$B$14=AS$3)),\"\")","v":0},{"$f":"IF($B24<>\"\",SUMPRODUCT(1*(ORARIO!$W$5:$AA$14=$B24)*(ORARIO!$B$5:$B$14=AT$3)),\"\")","v":0}]
[null,"B tel",{"$f":"IF($B$4<>\"\",SUMPRODUCT(1*(ORARIO!$C$5:$G$14=$B25)*(ORARIO!$B$5:$B$14=C$3)),\"\")","v":0},{"$f":"IF($B$4<>\"\",SUMPRODUCT(1*(ORARIO!$C$5:$G$14=$B25)*(ORARIO!$B$5:$B$14=D$3)),\"\")","v":0},{"$f":"IF($B$4<>\"\",SUMPRODUCT(1*(ORARIO!$C$5:$G$14=$B25)*(ORARIO!$B$5:$B$14=E$3)),\"\")","v":0},{"$f":"IF($B$4<>\"\",SUMPRODUCT(1*(ORARIO!$C$5:$G$14=$B25)*(ORARIO!$B$5:$B$14=F$3)),\"\")","v":0},{"$f":"IF($B$4<>\"\",SUMPRODUCT(1*(ORARIO!$C$5:$G$14=$B25)*(ORARIO!$B$5:$B$14=G$3)),\"\")","v":0},{"$f":"IF($B$4<>\"\",SUMPRODUCT(1*(ORARIO!$C$5:$G$14=$B25)*(ORARIO!$B$5:$B$14=H$3)),\"\")","v":0},{"$f":"IF($B$4<>\"\",SUMPRODUCT(1*(ORARIO!$C$5:$G$14=$B25)*(ORARIO!$B$5:$B$14=I$3)),\"\")","v":0},{"$f":"IF($B$4<>\"\",SUMPRODUCT(1*(ORARIO!$C$5:$G$14=$B25)*(ORARIO!$B$5:$B$14=J$3)),\"\")","v":0},null,{"$f":"IF($B25<>\"\",SUMPRODUCT(1*(ORARIO!$H$5:$L$14=$B25)*(ORARIO!$B$5:$B$14=L$3)),\"\")","v":0},{"$f":"IF($B25<>\"\",SUMPRODUCT(1*(ORARIO!$H$5:$L$14=$B25)*(ORARIO!$B$5:$B$14=M$3)),\"\")","v":0},{"$f":"IF($B25<>\"\",SUMPRODUCT(1*(ORARIO!$H$5:$L$14=$B25)*(ORARIO!$B$5:$B$14=N$3)),\"\")","v":0},{"$f":"IF($B25<>\"\",SUMPRODUCT(1*(ORARIO!$H$5:$L$14=$B25)*(ORARIO!$B$5:$B$14=O$3)),\"\")","v":0},{"$f":"IF($B25<>\"\",SUMPRODUCT(1*(ORARIO!$H$5:$L$14=$B25)*(ORARIO!$B$5:$B$14=P$3)),\"\")","v":0},{"$f":"IF($B25<>\"\",SUMPRODUCT(1*(ORARIO!$H$5:$L$14=$B25)*(ORARIO!$B$5:$B$14=Q$3)),\"\")","v":0},{"$f":"IF($B25<>\"\",SUMPRODUCT(1*(ORARIO!$H$5:$L$14=$B25)*(ORARIO!$B$5:$B$14=R$3)),\"\")","v":0},{"$f":"IF($B25<>\"\",SUMPRODUCT(1*(ORARIO!$H$5:$L$14=$B25)*(ORARIO!$B$5:$B$14=S$3)),\"\")","v":0},null,{"$f":"IF($B25<>\"\",SUMPRODUCT(1*(ORARIO!$M$5:$Q$14=$B25)*(ORARIO!$B$5:$B$14=U$3)),\"\")","v":0},{"$f":"IF($B25<>\"\",SUMPRODUCT(1*(ORARIO!$M$5:$Q$14=$B25)*(ORARIO!$B$5:$B$14=V$3)),\"\")","v":0},{"$f":"IF($B25<>\"\",SUMPRODUCT(1*(ORARIO!$M$5:$Q$14=$B25)*(ORARIO!$B$5:$B$14=W$3)),\"\")","v":0},{"$f":"IF($B25<>\"\",SUMPRODUCT(1*(ORARIO!$M$5:$Q$14=$B25)*(ORARIO!$B$5:$B$14=X$3)),\"\")","v":0},{"$f":"IF($B25<>\"\",SUMPRODUCT(1*(ORARIO!$M$5:$Q$14=$B25)*(ORARIO!$B$5:$B$14=Y$3)),\"\")","v":0},{"$f":"IF($B25<>\"\",SUMPRODUCT(1*(ORARIO!$M$5:$Q$14=$B25)*(ORARIO!$B$5:$B$14=Z$3)),\"\")","v":0},{"$f":"IF($B25<>\"\",SUMPRODUCT(1*(ORARIO!$M$5:$Q$14=$B25)*(ORARIO!$B$5:$B$14=AA$3)),\"\")","v":0},{"$f":"IF($B25<>\"\",SUMPRODUCT(1*(ORARIO!$M$5:$Q$14=$B25)*(ORARIO!$B$5:$B$14=AB$3)),\"\")","v":0},null,{"$f":"IF($B25<>\"\",SUMPRODUCT(1*(ORARIO!$R$5:$V$14=$B25)*(ORARIO!$B$5:$B$14=AD$3)),\"\")","v":0},{"$f":"IF($B25<>\"\",SUMPRODUCT(1*(ORARIO!$R$5:$V$14=$B25)*(ORARIO!$B$5:$B$14=AE$3)),\"\")","v":0},{"$f":"IF($B25<>\"\",SUMPRODUCT(1*(ORARIO!$R$5:$V$14=$B25)*(ORARIO!$B$5:$B$14=AF$3)),\"\")","v":0},{"$f":"IF($B25<>\"\",SUMPRODUCT(1*(ORARIO!$R$5:$V$14=$B25)*(ORARIO!$B$5:$B$14=AG$3)),\"\")","v":0},{"$f":"IF($B25<>\"\",SUMPRODUCT(1*(ORARIO!$R$5:$V$14=$B25)*(ORARIO!$B$5:$B$14=AH$3)),\"\")","v":0},{"$f":"IF($B25<>\"\",SUMPRODUCT(1*(ORARIO!$R$5:$V$14=$B25)*(ORARIO!$B$5:$B$14=AI$3)),\"\")","v":0},{"$f":"IF($B25<>\"\",SUMPRODUCT(1*(ORARIO!$R$5:$V$14=$B25)*(ORARIO!$B$5:$B$14=AJ$3)),\"\")","v":0},{"$f":"IF($B25<>\"\",SUMPRODUCT(1*(ORARIO!$R$5:$V$14=$B25)*(ORARIO!$B$5:$B$14=AK$3)),\"\")","v":0},null,{"$f":"IF($B25<>\"\",SUMPRODUCT(1*(ORARIO!$W$5:$AA$14=$B25)*(ORARIO!$B$5:$B$14=AM$3)),\"\")","v":0},{"$f":"IF($B25<>\"\",SUMPRODUCT(1*(ORARIO!$W$5:$AA$14=$B25)*(ORARIO!$B$5:$B$14=AN$3)),\"\")","v":0},{"$f":"IF($B25<>\"\",SUMPRODUCT(1*(ORARIO!$W$5:$AA$14=$B25)*(ORARIO!$B$5:$B$14=AO$3)),\"\")","v":0},{"$f":"IF($B25<>\"\",SUMPRODUCT(1*(ORARIO!$W$5:$AA$14=$B25)*(ORARIO!$B$5:$B$14=AP$3)),\"\")","v":0},{"$f":"IF($B25<>\"\",SUMPRODUCT(1*(ORARIO!$W$5:$AA$14=$B25)*(ORARIO!$B$5:$B$14=AQ$3)),\"\")","v":0},{"$f":"IF($B25<>\"\",SUMPRODUCT(1*(ORARIO!$W$5:$AA$14=$B25)*(ORARIO!$B$5:$B$14=AR$3)),\"\")","v":0},{"$f":"IF($B25<>\"\",SUMPRODUCT(1*(ORARIO!$W$5:$AA$14=$B25)*(ORARIO!$B$5:$B$14=AS$3)),\"\")","v":0},{"$f":"IF($B25<>\"\",SUMPRODUCT(1*(ORARIO!$W$5:$AA$14=$B25)*(ORARIO!$B$5:$B$14=AT$3)),\"\")","v":0}]
[null,"B ver",{"$f":"IF($B$4<>\"\",SUMPRODUCT(1*(ORARIO!$C$5:$G$14=$B26)*(ORARIO!$B$5:$B$14=C$3)),\"\")","v":0},{"$f":"IF($B$4<>\"\",SUMPRODUCT(1*(ORARIO!$C$5:$G$14=$B26)*(ORARIO!$B$5:$B$14=D$3)),\"\")","v":0},{"$f":"IF($B$4<>\"\",SUMPRODUCT(1*(ORARIO!$C$5:$G$14=$B26)*(ORARIO!$B$5:$B$14=E$3)),\"\")","v":0},{"$f":"IF($B$4<>\"\",SUMPRODUCT(1*(ORARIO!$C$5:$G$14=$B26)*(ORARIO!$B$5:$B$14=F$3)),\"\")","v":0},{"$f":"IF($B$4<>\"\",SUMPRODUCT(1*(ORARIO!$C$5:$G$14=$B26)*(ORARIO!$B$5:$B$14=G$3)),\"\")","v":0},{"$f":"IF($B$4<>\"\",SUMPRODUCT(1*(ORARIO!$C$5:$G$14=$B26)*(ORARIO!$B$5:$B$14=H$3)),\"\")","v":0},{"$f":"IF($B$4<>\"\",SUMPRODUCT(1*(ORARIO!$C$5:$G$14=$B26)*(ORARIO!$B$5:$B$14=I$3)),\"\")","v":0},{"$f":"IF($B$4<>\"\",SUMPRODUCT(1*(ORARIO!$C$5:$G$14=$B26)*(ORARIO!$B$5:$B$14=J$3)),\"\")","v":0},null,{"$f":"IF($B26<>\"\",SUMPRODUCT(1*(ORARIO!$H$5:$L$14=$B26)*(ORARIO!$B$5:$B$14=L$3)),\"\")","v":0},{"$f":"IF($B26<>\"\",SUMPRODUCT(1*(ORARIO!$H$5:$L$14=$B26)*(ORARIO!$B$5:$B$14=M$3)),\"\")","v":0},{"$f":"IF($B26<>\"\",SUMPRODUCT(1*(ORARIO!$H$5:$L$14=$B26)*(ORARIO!$B$5:$B$14=N$3)),\"\")","v":0},{"$f":"IF($B26<>\"\",SUMPRODUCT(1*(ORARIO!$H$5:$L$14=$B26)*(ORARIO!$B$5:$B$14=O$3)),\"\")","v":0},{"$f":"IF($B26<>\"\",SUMPRODUCT(1*(ORARIO!$H$5:$L$14=$B26)*(ORARIO!$B$5:$B$14=P$3)),\"\")","v":0},{"$f":"IF($B26<>\"\",SUMPRODUCT(1*(ORARIO!$H$5:$L$14=$B26)*(ORARIO!$B$5:$B$14=Q$3)),\"\")","v":0},{"$f":"IF($B26<>\"\",SUMPRODUCT(1*(ORARIO!$H$5:$L$14=$B26)*(ORARIO!$B$5:$B$14=R$3)),\"\")","v":0},{"$f":"IF($B26<>\"\",SUMPRODUCT(1*(ORARIO!$H$5:$L$14=$B26)*(ORARIO!$B$5:$B$14=S$3)),\"\")","v":0},null,{"$f":"IF($B26<>\"\",SUMPRODUCT(1*(ORARIO!$M$5:$Q$14=$B26)*(ORARIO!$B$5:$B$14=U$3)),\"\")","v":0},{"$f":"IF($B26<>\"\",SUMPRODUCT(1*(ORARIO!$M$5:$Q$14=$B26)*(ORARIO!$B$5:$B$14=V$3)),\"\")","v":0},{"$f":"IF($B26<>\"\",SUMPRODUCT(1*(ORARIO!$M$5:$Q$14=$B26)*(ORARIO!$B$5:$B$14=W$3)),\"\")","v":0},{"$f":"IF($B26<>\"\",SUMPRODUCT(1*(ORARIO!$M$5:$Q$14=$B26)*(ORARIO!$B$5:$B$14=X$3)),\"\")","v":0},{"$f":"IF($B26<>\"\",SUMPRODUCT(1*(ORARIO!$M$5:$Q$14=$B26)*(ORARIO!$B$5:$B$14=Y$3)),\"\")","v":0},{"$f":"IF($B26<>\"\",SUMPRODUCT(1*(ORARIO!$M$5:$Q$14=$B26)*(ORARIO!$B$5:$B$14=Z$3)),\"\")","v":0},{"$f":"IF($B26<>\"\",SUMPRODUCT(1*(ORARIO!$M$5:$Q$14=$B26)*(ORARIO!$B$5:$B$14=AA$3)),\"\")","v":0},{"$f":"IF($B26<>\"\",SUMPRODUCT(1*(ORARIO!$M$5:$Q$14=$B26)*(ORARIO!$B$5:$B$14=AB$3)),\"\")","v":0},null,{"$f":"IF($B26<>\"\",SUMPRODUCT(1*(ORARIO!$R$5:$V$14=$B26)*(ORARIO!$B$5:$B$14=AD$3)),\"\")","v":0},{"$f":"IF($B26<>\"\",SUMPRODUCT(1*(ORARIO!$R$5:$V$14=$B26)*(ORARIO!$B$5:$B$14=AE$3)),\"\")","v":0},{"$f":"IF($B26<>\"\",SUMPRODUCT(1*(ORARIO!$R$5:$V$14=$B26)*(ORARIO!$B$5:$B$14=AF$3)),\"\")","v":0},{"$f":"IF($B26<>\"\",SUMPRODUCT(1*(ORARIO!$R$5:$V$14=$B26)*(ORARIO!$B$5:$B$14=AG$3)),\"\")","v":0},{"$f":"IF($B26<>\"\",SUMPRODUCT(1*(ORARIO!$R$5:$V$14=$B26)*(ORARIO!$B$5:$B$14=AH$3)),\"\")","v":0},{"$f":"IF($B26<>\"\",SUMPRODUCT(1*(ORARIO!$R$5:$V$14=$B26)*(ORARIO!$B$5:$B$14=AI$3)),\"\")","v":0},{"$f":"IF($B26<>\"\",SUMPRODUCT(1*(ORARIO!$R$5:$V$14=$B26)*(ORARIO!$B$5:$B$14=AJ$3)),\"\")","v":0},{"$f":"IF($B26<>\"\",SUMPRODUCT(1*(ORARIO!$R$5:$V$14=$B26)*(ORARIO!$B$5:$B$14=AK$3)),\"\")","v":0},null,{"$f":"IF($B26<>\"\",SUMPRODUCT(1*(ORARIO!$W$5:$AA$14=$B26)*(ORARIO!$B$5:$B$14=AM$3)),\"\")","v":0},{"$f":"IF($B26<>\"\",SUMPRODUCT(1*(ORARIO!$W$5:$AA$14=$B26)*(ORARIO!$B$5:$B$14=AN$3)),\"\")","v":0},{"$f":"IF($B26<>\"\",SUMPRODUCT(1*(ORARIO!$W$5:$AA$14=$B26)*(ORARIO!$B$5:$B$14=AO$3)),\"\")","v":0},{"$f":"IF($B26<>\"\",SUMPRODUCT(1*(ORARIO!$W$5:$AA$14=$B26)*(ORARIO!$B$5:$B$14=AP$3)),\"\")","v":0},{"$f":"IF($B26<>\"\",SUMPRODUCT(1*(ORARIO!$W$5:$AA$14=$B26)*(ORARIO!$B$5:$B$14=AQ$3)),\"\")","v":0},{"$f":"IF($B26<>\"\",SUMPRODUCT(1*(ORARIO!$W$5:$AA$14=$B26)*(ORARIO!$B$5:$B$14=AR$3)),\"\")","v":0},{"$f":"IF($B26<>\"\",SUMPRODUCT(1*(ORARIO!$W$5:$AA$14=$B26)*(ORARIO!$B$5:$B$14=AS$3)),\"\")","v":0},{"$f":"IF($B26<>\"\",SUMPRODUCT(1*(ORARIO!$W$5:$AA$14=$B26)*(ORARIO!$B$5:$B$14=AT$3)),\"\")","v":0}]
[null,"B sop",{"$f":"IF($B$4<>\"\",SUMPRODUCT(1*(ORARIO!$C$5:$G$14=$B27)*(ORARIO!$B$5:$B$14=C$3)),\"\")","v":0},{"$f":"IF($B$4<>\"\",SUMPRODUCT(1*(ORARIO!$C$5:$G$14=$B27)*(ORARIO!$B$5:$B$14=D$3)),\"\")","v":0},{"$f":"IF($B$4<>\"\",SUMPRODUCT(1*(ORARIO!$C$5:$G$14=$B27)*(ORARIO!$B$5:$B$14=E$3)),\"\")","v":0},{"$f":"IF($B$4<>\"\",SUMPRODUCT(1*(ORARIO!$C$5:$G$14=$B27)*(ORARIO!$B$5:$B$14=F$3)),\"\")","v":0},{"$f":"IF($B$4<>\"\",SUMPRODUCT(1*(ORARIO!$C$5:$G$14=$B27)*(ORARIO!$B$5:$B$14=G$3)),\"\")","v":0},{"$f":"IF($B$4<>\"\",SUMPRODUCT(1*(ORARIO!$C$5:$G$14=$B27)*(ORARIO!$B$5:$B$14=H$3)),\"\")","v":0},{"$f":"IF($B$4<>\"\",SUMPRODUCT(1*(ORARIO!$C$5:$G$14=$B27)*(ORARIO!$B$5:$B$14=I$3)),\"\")","v":0},{"$f":"IF($B$4<>\"\",SUMPRODUCT(1*(ORARIO!$C$5:$G$14=$B27)*(ORARIO!$B$5:$B$14=J$3)),\"\")","v":0},null,{"$f":"IF($B27<>\"\",SUMPRODUCT(1*(ORARIO!$H$5:$L$14=$B27)*(ORARIO!$B$5:$B$14=L$3)),\"\")","v":0},{"$f":"IF($B27<>\"\",SUMPRODUCT(1*(ORARIO!$H$5:$L$14=$B27)*(ORARIO!$B$5:$B$14=M$3)),\"\")","v":0},{"$f":"IF($B27<>\"\",SUMPRODUCT(1*(ORARIO!$H$5:$L$14=$B27)*(ORARIO!$B$5:$B$14=N$3)),\"\")","v":0},{"$f":"IF($B27<>\"\",SUMPRODUCT(1*(ORARIO!$H$5:$L$14=$B27)*(ORARIO!$B$5:$B$14=O$3)),\"\")","v":0},{"$f":"IF($B27<>\"\",SUMPRODUCT(1*(ORARIO!$H$5:$L$14=$B27)*(ORARIO!$B$5:$B$14=P$3)),\"\")","v":0},{"$f":"IF($B27<>\"\",SUMPRODUCT(1*(ORARIO!$H$5:$L$14=$B27)*(ORARIO!$B$5:$B$14=Q$3)),\"\")","v":0},{"$f":"IF($B27<>\"\",SUMPRODUCT(1*(ORARIO!$H$5:$L$14=$B27)*(ORARIO!$B$5:$B$14=R$3)),\"\")","v":0},{"$f":"IF($B27<>\"\",SUMPRODUCT(1*(ORARIO!$H$5:$L$14=$B27)*(ORARIO!$B$5:$B$14=S$3)),\"\")","v":0},null,{"$f":"IF($B27<>\"\",SUMPRODUCT(1*(ORARIO!$M$5:$Q$14=$B27)*(ORARIO!$B$5:$B$14=U$3)),\"\")","v":0},{"$f":"IF($B27<>\"\",SUMPRODUCT(1*(ORARIO!$M$5:$Q$14=$B27)*(ORARIO!$B$5:$B$14=V$3)),\"\")","v":0},{"$f":"IF($B27<>\"\",SUMPRODUCT(1*(ORARIO!$M$5:$Q$14=$B27)*(ORARIO!$B$5:$B$14=W$3)),\"\")","v":0},{"$f":"IF($B27<>\"\",SUMPRODUCT(1*(ORARIO!$M$5:$Q$14=$B27)*(ORARIO!$B$5:$B$14=X$3)),\"\")","v":0},{"$f":"IF($B27<>\"\",SUMPRODUCT(1*(ORARIO!$M$5:$Q$14=$B27)*(ORARIO!$B$5:$B$14=Y$3)),\"\")","v":0},{"$f":"IF($B27<>\"\",SUMPRODUCT(1*(ORARIO!$M$5:$Q$14=$B27)*(ORARIO!$B$5:$B$14=Z$3)),\"\")","v":0},{"$f":"IF($B27<>\"\",SUMPRODUCT(1*(ORARIO!$M$5:$Q$14=$B27)*(ORARIO!$B$5:$B$14=AA$3)),\"\")","v":0},{"$f":"IF($B27<>\"\",SUMPRODUCT(1*(ORARIO!$M$5:$Q$14=$B27)*(ORARIO!$B$5:$B$14=AB$3)),\"\")","v":0},null,{"$f":"IF($B27<>\"\",SUMPRODUCT(1*(ORARIO!$R$5:$V$14=$B27)*(ORARIO!$B$5:$B$14=AD$3)),\"\")","v":0},{"$f":"IF($B27<>\"\",SUMPRODUCT(1*(ORARIO!$R$5:$V$14=$B27)*(ORARIO!$B$5:$B$14=AE$3)),\"\")","v":0},{"$f":"IF($B27<>\"\",SUMPRODUCT(1*(ORARIO!$R$5:$V$14=$B27)*(ORARIO!$B$5:$B$14=AF$3)),\"\")","v":0},{"$f":"IF($B27<>\"\",SUMPRODUCT(1*(ORARIO!$R$5:$V$14=$B27)*(ORARIO!$B$5:$B$14=AG$3)),\"\")","v":0},{"$f":"IF($B27<>\"\",SUMPRODUCT(1*(ORARIO!$R$5:$V$14=$B27)*(ORARIO!$B$5:$B$14=AH$3)),\"\")","v":0},{"$f":"IF($B27<>\"\",SUMPRODUCT(1*(ORARIO!$R$5:$V$14=$B27)*(ORARIO!$B$5:$B$14=AI$3)),\"\")","v":0},{"$f":"IF($B27<>\"\",SUMPRODUCT(1*(ORARIO!$R$5:$V$14=$B27)*(ORARIO!$B$5:$B$14=AJ$3)),\"\")","v":0},{"$f":"IF($B27<>\"\",SUMPRODUCT(1*(ORARIO!$R$5:$V$14=$B27)*(ORARIO!$B$5:$B$14=AK$3)),\"\")","v":0},null,{"$f":"IF($B27<>\"\",SUMPRODUCT(1*(ORARIO!$W$5:$AA$14=$B27)*(ORARIO!$B$5:$B$14=AM$3)),\"\")","v":0},{"$f":"IF($B27<>\"\",SUMPRODUCT(1*(ORARIO!$W$5:$AA$14=$B27)*(ORARIO!$B$5:$B$14=AN$3)),\"\")","v":0},{"$f":"IF($B27<>\"\",SUMPRODUCT(1*(ORARIO!$W$5:$AA$14=$B27)*(ORARIO!$B$5:$B$14=AO$3)),\"\")","v":0},{"$f":"IF($B27<>\"\",SUMPRODUCT(1*(ORARIO!$W$5:$AA$14=$B27)*(ORARIO!$B$5:$B$14=AP$3)),\"\")","v":0},{"$f":"IF($B27<>\"\",SUMPRODUCT(1*(ORARIO!$W$5:$AA$14=$B27)*(ORARIO!$B$5:$B$14=AQ$3)),\"\")","v":0},{"$f":"IF($B27<>\"\",SUMPRODUCT(1*(ORARIO!$W$5:$AA$14=$B27)*(ORARIO!$B$5:$B$14=AR$3)),\"\")","v":0},{"$f":"IF($B27<>\"\",SUMPRODUCT(1*(ORARIO!$W$5:$AA$14=$B27)*(ORARIO!$B$5:$B$14=AS$3)),\"\")","v":0},{"$f":"IF($B27<>\"\",SUMPRODUCT(1*(ORARIO!$W$5:$AA$14=$B27)*(ORARIO!$B$5:$B$14=AT$3)),\"\")","v":0}]
[null,"C slo",{"$f":"IF($B$4<>\"\",SUMPRODUCT(1*(ORARIO!$C$5:$G$14=$B28)*(ORARIO!$B$5:$B$14=C$3)),\"\")","v":0},{"$f":"IF($B$4<>\"\",SUMPRODUCT(1*(ORARIO!$C$5:$G$14=$B28)*(ORARIO!$B$5:$B$14=D$3)),\"\")","v":0},{"$f":"IF($B$4<>\"\",SUMPRODUCT(1*(ORARIO!$C$5:$G$14=$B28)*(ORARIO!$B$5:$B$14=E$3)),\"\")","v":0},{"$f":"IF($B$4<>\"\",SUMPRODUCT(1*(ORARIO!$C$5:$G$14=$B28)*(ORARIO!$B$5:$B$14=F$3)),\"\")","v":0},{"$f":"IF($B$4<>\"\",SUMPRODUCT(1*(ORARIO!$C$5:$G$14=$B28)*(ORARIO!$B$5:$B$14=G$3)),\"\")","v":0},{"$f":"IF($B$4<>\"\",SUMPRODUCT(1*(ORARIO!$C$5:$G$14=$B28)*(ORARIO!$B$5:$B$14=H$3)),\"\")","v":0},{"$f":"IF($B$4<>\"\",SUMPRODUCT(1*(ORARIO!$C$5:$G$14=$B28)*(ORARIO!$B$5:$B$14=I$3)),\"\")","v":0},{"$f":"IF($B$4<>\"\",SUMPRODUCT(1*(ORARIO!$C$5:$G$14=$B28)*(ORARIO!$B$5:$B$14=J$3)),\"\")","v":0},null,{"$f":"IF($B28<>\"\",SUMPRODUCT(1*(ORARIO!$H$5:$L$14=$B28)*(ORARIO!$B$5:$B$14=L$3)),\"\")","v":0},{"$f":"IF($B28<>\"\",SUMPRODUCT(1*(ORARIO!$H$5:$L$14=$B28)*(ORARIO!$B$5:$B$14=M$3)),\"\")","v":0},{"$f":"IF($B28<>\"\",SUMPRODUCT(1*(ORARIO!$H$5:$L$14=$B28)*(ORARIO!$B$5:$B$14=N$3)),\"\")","v":0},{"$f":"IF($B28<>\"\",SUMPRODUCT(1*(ORARIO!$H$5:$L$14=$B28)*(ORARIO!$B$5:$B$14=O$3)),\"\")","v":0},{"$f":"IF($B28<>\"\",SUMPRODUCT(1*(ORARIO!$H$5:$L$14=$B28)*(ORARIO!$B$5:$B$14=P$3)),\"\")","v":0},{"$f":"IF($B28<>\"\",SUMPRODUCT(1*(ORARIO!$H$5:$L$14=$B28)*(ORARIO!$B$5:$B$14=Q$3)),\"\")","v":0},{"$f":"IF($B28<>\"\",SUMPRODUCT(1*(ORARIO!$H$5:$L$14=$B28)*(ORARIO!$B$5:$B$14=R$3)),\"\")","v":0},{"$f":"IF($B28<>\"\",SUMPRODUCT(1*(ORARIO!$H$5:$L$14=$B28)*(ORARIO!$B$5:$B$14=S$3)),\"\")","v":0},null,{"$f":"IF($B28<>\"\",SUMPRODUCT(1*(ORARIO!$M$5:$Q$14=$B28)*(ORARIO!$B$5:$B$14=U$3)),\"\")","v":0},{"$f":"IF($B28<>\"\",SUMPRODUCT(1*(ORARIO!$M$5:$Q$14=$B28)*(ORARIO!$B$5:$B$14=V$3)),\"\")","v":0},{"$f":"IF($B28<>\"\",SUMPRODUCT(1*(ORARIO!$M$5:$Q$14=$B28)*(ORARIO!$B$5:$B$14=W$3)),\"\")","v":0},{"$f":"IF($B28<>\"\",SUMPRODUCT(1*(ORARIO!$M$5:$Q$14=$B28)*(ORARIO!$B$5:$B$14=X$3)),\"\")","v":0},{"$f":"IF($B28<>\"\",SUMPRODUCT(1*(ORARIO!$M$5:$Q$14=$B28)*(ORARIO!$B$5:$B$14=Y$3)),\"\")","v":0},{"$f":"IF($B28<>\"\",SUMPRODUCT(1*(ORARIO!$M$5:$Q$14=$B28)*(ORARIO!$B$5:$B$14=Z$3)),\"\")","v":0},{"$f":"IF($B28<>\"\",SUMPRODUCT(1*(ORARIO!$M$5:$Q$14=$B28)*(ORARIO!$B$5:$B$14=AA$3)),\"\")","v":0},{"$f":"IF($B28<>\"\",SUMPRODUCT(1*(ORARIO!$M$5:$Q$14=$B28)*(ORARIO!$B$5:$B$14=AB$3)),\"\")","v":0},null,{"$f":"IF($B28<>\"\",SUMPRODUCT(1*(ORARIO!$R$5:$V$14=$B28)*(ORARIO!$B$5:$B$14=AD$3)),\"\")","v":0},{"$f":"IF($B28<>\"\",SUMPRODUCT(1*(ORARIO!$R$5:$V$14=$B28)*(ORARIO!$B$5:$B$14=AE$3)),\"\")","v":0},{"$f":"IF($B28<>\"\",SUMPRODUCT(1*(ORARIO!$R$5:$V$14=$B28)*(ORARIO!$B$5:$B$14=AF$3)),\"\")","v":0},{"$f":"IF($B28<>\"\",SUMPRODUCT(1*(ORARIO!$R$5:$V$14=$B28)*(ORARIO!$B$5:$B$14=AG$3)),\"\")","v":0},{"$f":"IF($B28<>\"\",SUMPRODUCT(1*(ORARIO!$R$5:$V$14=$B28)*(ORARIO!$B$5:$B$14=AH$3)),\"\")","v":0},{"$f":"IF($B28<>\"\",SUMPRODUCT(1*(ORARIO!$R$5:$V$14=$B28)*(ORARIO!$B$5:$B$14=AI$3)),\"\")","v":0},{"$f":"IF($B28<>\"\",SUMPRODUCT(1*(ORARIO!$R$5:$V$14=$B28)*(ORARIO!$B$5:$B$14=AJ$3)),\"\")","v":0},{"$f":"IF($B28<>\"\",SUMPRODUCT(1*(ORARIO!$R$5:$V$14=$B28)*(ORARIO!$B$5:$B$14=AK$3)),\"\")","v":0},null,{"$f":"IF($B28<>\"\",SUMPRODUCT(1*(ORARIO!$W$5:$AA$14=$B28)*(ORARIO!$B$5:$B$14=AM$3)),\"\")","v":0},{"$f":"IF($B28<>\"\",SUMPRODUCT(1*(ORARIO!$W$5:$AA$14=$B28)*(ORARIO!$B$5:$B$14=AN$3)),\"\")","v":0},{"$f":"IF($B28<>\"\",SUMPRODUCT(1*(ORARIO!$W$5:$AA$14=$B28)*(ORARIO!$B$5:$B$14=AO$3)),\"\")","v":0},{"$f":"IF($B28<>\"\",SUMPRODUCT(1*(ORARIO!$W$5:$AA$14=$B28)*(ORARIO!$B$5:$B$14=AP$3)),\"\")","v":0},{"$f":"IF($B28<>\"\",SUMPRODUCT(1*(ORARIO!$W$5:$AA$14=$B28)*(ORARIO!$B$5:$B$14=AQ$3)),\"\")","v":0},{"$f":"IF($B28<>\"\",SUMPRODUCT(1*(ORARIO!$W$5:$AA$14=$B28)*(ORARIO!$B$5:$B$14=AR$3)),\"\")","v":0},{"$f":"IF($B28<>\"\",SUMPRODUCT(1*(ORARIO!$W$5:$AA$14=$B28)*(ORARIO!$B$5:$B$14=AS$3)),\"\")","v":0},{"$f":"IF($B28<>\"\",SUMPRODUCT(1*(ORARIO!$W$5:$AA$14=$B28)*(ORARIO!$B$5:$B$14=AT$3)),\"\")","v":0}]
[null,"C ita",{"$f":"IF($B$4<>\"\",SUMPRODUCT(1*(ORARIO!$C$5:$G$14=$B29)*(ORARIO!$B$5:$B$14=C$3)),\"\")","v":0},{"$f":"IF($B$4<>\"\",SUMPRODUCT(1*(ORARIO!$C$5:$G$14=$B29)*(ORARIO!$B$5:$B$14=D$3)),\"\")","v":0},{"$f":"IF($B$4<>\"\",SUMPRODUCT(1*(ORARIO!$C$5:$G$14=$B29)*(ORARIO!$B$5:$B$14=E$3)),\"\")","v":0},{"$f":"IF($B$4<>\"\",SUMPRODUCT(1*(ORARIO!$C$5:$G$14=$B29)*(ORARIO!$B$5:$B$14=F$3)),\"\")","v":0},{"$f":"IF($B$4<>\"\",SUMPRODUCT(1*(ORARIO!$C$5:$G$14=$B29)*(ORARIO!$B$5:$B$14=G$3)),\"\")","v":0},{"$f":"IF($B$4<>\"\",SUMPRODUCT(1*(ORARIO!$C$5:$G$14=$B29)*(ORARIO!$B$5:$B$14=H$3)),\"\")","v":0},{"$f":"IF($B$4<>\"\",SUMPRODUCT(1*(ORARIO!$C$5:$G$14=$B29)*(ORARIO!$B$5:$B$14=I$3)),\"\")","v":0},{"$f":"IF($B$4<>\"\",SUMPRODUCT(1*(ORARIO!$C$5:$G$14=$B29)*(ORARIO!$B$5:$B$14=J$3)),\"\")","v":0},null,{"$f":"IF($B29<>\"\",SUMPRODUCT(1*(ORARIO!$H$5:$L$14=$B29)*(ORARIO!$B$5:$B$14=L$3)),\"\")","v":0},{"$f":"IF($B29<>\"\",SUMPRODUCT(1*(ORARIO!$H$5:$L$14=$B29)*(ORARIO!$B$5:$B$14=M$3)),\"\")","v":0},{"$f":"IF($B29<>\"\",SUMPRODUCT(1*(ORARIO!$H$5:$L$14=$B29)*(ORARIO!$B$5:$B$14=N$3)),\"\")","v":0},{"$f":"IF($B29<>\"\",SUMPRODUCT(1*(ORARIO!$H$5:$L$14=$B29)*(ORARIO!$B$5:$B$14=O$3)),\"\")","v":0},{"$f":"IF($B29<>\"\",SUMPRODUCT(1*(ORARIO!$H$5:$L$14=$B29)*(ORARIO!$B$5:$B$14=P$3)),\"\")","v":0},{"$f":"IF($B29<>\"\",SUMPRODUCT(1*(ORARIO!$H$5:$L$14=$B29)*(ORARIO!$B$5:$B$14=Q$3)),\"\")","v":0},{"$f":"IF($B29<>\"\",SUMPRODUCT(1*(ORARIO!$H$5:$L$14=$B29)*(ORARIO!$B$5:$B$14=R$3)),\"\")","v":0},{"$f":"IF($B29<>\"\",SUMPRODUCT(1*(ORARIO!$H$5:$L$14=$B29)*(ORARIO!$B$5:$B$14=S$3)),\"\")","v":0},null,{"$f":"IF($B29<>\"\",SUMPRODUCT(1*(ORARIO!$M$5:$Q$14=$B29)*(ORARIO!$B$5:$B$14=U$3)),\"\")","v":0},{"$f":"IF($B29<>\"\",SUMPRODUCT(1*(ORARIO!$M$5:$Q$14=$B29)*(ORARIO!$B$5:$B$14=V$3)),\"\")","v":0},{"$f":"IF($B29<>\"\",SUMPRODUCT(1*(ORARIO!$M$5:$Q$14=$B29)*(ORARIO!$B$5:$B$14=W$3)),\"\")","v":0},{"$f":"IF($B29<>\"\",SUMPRODUCT(1*(ORARIO!$M$5:$Q$14=$B29)*(ORARIO!$B$5:$B$14=X$3)),\"\")","v":0},{"$f":"IF($B29<>\"\",SUMPRODUCT(1*(ORARIO!$M$5:$Q$14=$B29)*(ORARIO!$B$5:$B$14=Y$3)),\"\")","v":0},{"$f":"IF($B29<>\"\",SUMPRODUCT(1*(ORARIO!$M$5:$Q$14=$B29)*(ORARIO!$B$5:$B$14=Z$3)),\"\")","v":0},{"$f":"IF($B29<>\"\",SUMPRODUCT(1*(ORARIO!$M$5:$Q$14=$B29)*(ORARIO!$B$5:$B$14=AA$3)),\"\")","v":0},{"$f":"IF($B29<>\"\",SUMPRODUCT(1*(ORARIO!$M$5:$Q$14=$B29)*(ORARIO!$B$5:$B$14=AB$3)),\"\")","v":0},null,{"$f":"IF($B29<>\"\",SUMPRODUCT(1*(ORARIO!$R$5:$V$14=$B29)*(ORARIO!$B$5:$B$14=AD$3)),\"\")","v":0},{"$f":"IF($B29<>\"\",SUMPRODUCT(1*(ORARIO!$R$5:$V$14=$B29)*(ORARIO!$B$5:$B$14=AE$3)),\"\")","v":0},{"$f":"IF($B29<>\"\",SUMPRODUCT(1*(ORARIO!$R$5:$V$14=$B29)*(ORARIO!$B$5:$B$14=AF$3)),\"\")","v":0},{"$f":"IF($B29<>\"\",SUMPRODUCT(1*(ORARIO!$R$5:$V$14=$B29)*(ORARIO!$B$5:$B$14=AG$3)),\"\")","v":0},{"$f":"IF($B29<>\"\",SUMPRODUCT(1*(ORARIO!$R$5:$V$14=$B29)*(ORARIO!$B$5:$B$14=AH$3)),\"\")","v":0},{"$f":"IF($B29<>\"\",SUMPRODUCT(1*(ORARIO!$R$5:$V$14=$B29)*(ORARIO!$B$5:$B$14=AI$3)),\"\")","v":0},{"$f":"IF($B29<>\"\",SUMPRODUCT(1*(ORARIO!$R$5:$V$14=$B29)*(ORARIO!$B$5:$B$14=AJ$3)),\"\")","v":0},{"$f":"IF($B29<>\"\",SUMPRODUCT(1*(ORARIO!$R$5:$V$14=$B29)*(ORARIO!$B$5:$B$14=AK$3)),\"\")","v":0},null,{"$f":"IF($B29<>\"\",SUMPRODUCT(1*(ORARIO!$W$5:$AA$14=$B29)*(ORARIO!$B$5:$B$14=AM$3)),\"\")","v":0},{"$f":"IF($B29<>\"\",SUMPRODUCT(1*(ORARIO!$W$5:$AA$14=$B29)*(ORARIO!$B$5:$B$14=AN$3)),\"\")","v":0},{"$f":"IF($B29<>\"\",SUMPRODUCT(1*(ORARIO!$W$5:$AA$14=$B29)*(ORARIO!$B$5:$B$14=AO$3)),\"\")","v":0},{"$f":"IF($B29<>\"\",SUMPRODUCT(1*(ORARIO!$W$5:$AA$14=$B29)*(ORARIO!$B$5:$B$14=AP$3)),\"\")","v":0},{"$f":"IF($B29<>\"\",SUMPRODUCT(1*(ORARIO!$W$5:$AA$14=$B29)*(ORARIO!$B$5:$B$14=AQ$3)),\"\")","v":0},{"$f":"IF($B29<>\"\",SUMPRODUCT(1*(ORARIO!$W$5:$AA$14=$B29)*(ORARIO!$B$5:$B$14=AR$3)),\"\")","v":0},{"$f":"IF($B29<>\"\",SUMPRODUCT(1*(ORARIO!$W$5:$AA$14=$B29)*(ORARIO!$B$5:$B$14=AS$3)),\"\")","v":0},{"$f":"IF($B29<>\"\",SUMPRODUCT(1*(ORARIO!$W$5:$AA$14=$B29)*(ORARIO!$B$5:$B$14=AT$3)),\"\")","v":0}]
[null,"C ang",{"$f":"IF($B$4<>\"\",SUMPRODUCT(1*(ORARIO!$C$5:$G$14=$B30)*(ORARIO!$B$5:$B$14=C$3)),\"\")","v":0},{"$f":"IF($B$4<>\"\",SUMPRODUCT(1*(ORARIO!$C$5:$G$14=$B30)*(ORARIO!$B$5:$B$14=D$3)),\"\")","v":0},{"$f":"IF($B$4<>\"\",SUMPRODUCT(1*(ORARIO!$C$5:$G$14=$B30)*(ORARIO!$B$5:$B$14=E$3)),\"\")","v":0},{"$f":"IF($B$4<>\"\",SUMPRODUCT(1*(ORARIO!$C$5:$G$14=$B30)*(ORARIO!$B$5:$B$14=F$3)),\"\")","v":0},{"$f":"IF($B$4<>\"\",SUMPRODUCT(1*(ORARIO!$C$5:$G$14=$B30)*(ORARIO!$B$5:$B$14=G$3)),\"\")","v":0},{"$f":"IF($B$4<>\"\",SUMPRODUCT(1*(ORARIO!$C$5:$G$14=$B30)*(ORARIO!$B$5:$B$14=H$3)),\"\")","v":0},{"$f":"IF($B$4<>\"\",SUMPRODUCT(1*(ORARIO!$C$5:$G$14=$B30)*(ORARIO!$B$5:$B$14=I$3)),\"\")","v":0},{"$f":"IF($B$4<>\"\",SUMPRODUCT(1*(ORARIO!$C$5:$G$14=$B30)*(ORARIO!$B$5:$B$14=J$3)),\"\")","v":0},null,{"$f":"IF($B30<>\"\",SUMPRODUCT(1*(ORARIO!$H$5:$L$14=$B30)*(ORARIO!$B$5:$B$14=L$3)),\"\")","v":0},{"$f":"IF($B30<>\"\",SUMPRODUCT(1*(ORARIO!$H$5:$L$14=$B30)*(ORARIO!$B$5:$B$14=M$3)),\"\")","v":0},{"$f":"IF($B30<>\"\",SUMPRODUCT(1*(ORARIO!$H$5:$L$14=$B30)*(ORARIO!$B$5:$B$14=N$3)),\"\")","v":0},{"$f":"IF($B30<>\"\",SUMPRODUCT(1*(ORARIO!$H$5:$L$14=$B30)*(ORARIO!$B$5:$B$14=O$3)),\"\")","v":0},{"$f":"IF($B30<>\"\",SUMPRODUCT(1*(ORARIO!$H$5:$L$14=$B30)*(ORARIO!$B$5:$B$14=P$3)),\"\")","v":0},{"$f":"IF($B30<>\"\",SUMPRODUCT(1*(ORARIO!$H$5:$L$14=$B30)*(ORARIO!$B$5:$B$14=Q$3)),\"\")","v":0},{"$f":"IF($B30<>\"\",SUMPRODUCT(1*(ORARIO!$H$5:$L$14=$B30)*(ORARIO!$B$5:$B$14=R$3)),\"\")","v":0},{"$f":"IF($B30<>\"\",SUMPRODUCT(1*(ORARIO!$H$5:$L$14=$B30)*(ORARIO!$B$5:$B$14=S$3)),\"\")","v":0},null,{"$f":"IF($B30<>\"\",SUMPRODUCT(1*(ORARIO!$M$5:$Q$14=$B30)*(ORARIO!$B$5:$B$14=U$3)),\"\")","v":0},{"$f":"IF($B30<>\"\",SUMPRODUCT(1*(ORARIO!$M$5:$Q$14=$B30)*(ORARIO!$B$5:$B$14=V$3)),\"\")","v":0},{"$f":"IF($B30<>\"\",SUMPRODUCT(1*(ORARIO!$M$5:$Q$14=$B30)*(ORARIO!$B$5:$B$14=W$3)),\"\")","v":0},{"$f":"IF($B30<>\"\",SUMPRODUCT(1*(ORARIO!$M$5:$Q$14=$B30)*(ORARIO!$B$5:$B$14=X$3)),\"\")","v":0},{"$f":"IF($B30<>\"\",SUMPRODUCT(1*(ORARIO!$M$5:$Q$14=$B30)*(ORARIO!$B$5:$B$14=Y$3)),\"\")","v":0},{"$f":"IF($B30<>\"\",SUMPRODUCT(1*(ORARIO!$M$5:$Q$14=$B30)*(ORARIO!$B$5:$B$14=Z$3)),\"\")","v":0},{"$f":"IF($B30<>\"\",SUMPRODUCT(1*(ORARIO!$M$5:$Q$14=$B30)*(ORARIO!$B$5:$B$14=AA$3)),\"\")","v":0},{"$f":"IF($B30<>\"\",SUMPRODUCT(1*(ORARIO!$M$5:$Q$14=$B30)*(ORARIO!$B$5:$B$14=AB$3)),\"\")","v":0},null,{"$f":"IF($B30<>\"\",SUMPRODUCT(1*(ORARIO!$R$5:$V$14=$B30)*(ORARIO!$B$5:$B$14=AD$3)),\"\")","v":0},{"$f":"IF($B30<>\"\",SUMPRODUCT(1*(ORARIO!$R$5:$V$14=$B30)*(ORARIO!$B$5:$B$14=AE$3)),\"\")","v":0},{"$f":"IF($B30<>\"\",SUMPRODUCT(1*(ORARIO!$R$5:$V$14=$B30)*(ORARIO!$B$5:$B$14=AF$3)),\"\")","v":0},{"$f":"IF($B30<>\"\",SUMPRODUCT(1*(ORARIO!$R$5:$V$14=$B30)*(ORARIO!$B$5:$B$14=AG$3)),\"\")","v":0},{"$f":"IF($B30<>\"\",SUMPRODUCT(1*(ORARIO!$R$5:$V$14=$B30)*(ORARIO!$B$5:$B$14=AH$3)),\"\")","v":0},{"$f":"IF($B30<>\"\",SUMPRODUCT(1*(ORARIO!$R$5:$V$14=$B30)*(ORARIO!$B$5:$B$14=AI$3)),\"\")","v":0},{"$f":"IF($B30<>\"\",SUMPRODUCT(1*(ORARIO!$R$5:$V$14=$B30)*(ORARIO!$B$5:$B$14=AJ$3)),\"\")","v":0},{"$f":"IF($B30<>\"\",SUMPRODUCT(1*(ORARIO!$R$5:$V$14=$B30)*(ORARIO!$B$5:$B$14=AK$3)),\"\")","v":0},null,{"$f":"IF($B30<>\"\",SUMPRODUCT(1*(ORARIO!$W$5:$AA$14=$B30)*(ORARIO!$B$5:$B$14=AM$3)),\"\")","v":0},{"$f":"IF($B30<>\"\",SUMPRODUCT(1*(ORARIO!$W$5:$AA$14=$B30)*(ORARIO!$B$5:$B$14=AN$3)),\"\")","v":0},{"$f":"IF($B30<>\"\",SUMPRODUCT(1*(ORARIO!$W$5:$AA$14=$B30)*(ORARIO!$B$5:$B$14=AO$3)),\"\")","v":0},{"$f":"IF($B30<>\"\",SUMPRODUCT(1*(ORARIO!$W$5:$AA$14=$B30)*(ORARIO!$B$5:$B$14=AP$3)),\"\")","v":0},{"$f":"IF($B30<>\"\",SUMPRODUCT(1*(ORARIO!$W$5:$AA$14=$B30)*(ORARIO!$B$5:$B$14=AQ$3)),\"\")","v":0},{"$f":"IF($B30<>\"\",SUMPRODUCT(1*(ORARIO!$W$5:$AA$14=$B30)*(ORARIO!$B$5:$B$14=AR$3)),\"\")","v":0},{"$f":"IF($B30<>\"\",SUMPRODUCT(1*(ORARIO!$W$5:$AA$14=$B30)*(ORARIO!$B$5:$B$14=AS$3)),\"\")","v":0},{"$f":"IF($B30<>\"\",SUMPRODUCT(1*(ORARIO!$W$5:$AA$14=$B30)*(ORARIO!$B$5:$B$14=AT$3)),\"\")","v":0}]
[null,"C mat",{"$f":"IF($B$4<>\"\",SUMPRODUCT(1*(ORARIO!$C$5:$G$14=$B31)*(ORARIO!$B$5:$B$14=C$3)),\"\")","v":0},{"$f":"IF($B$4<>\"\",SUMPRODUCT(1*(ORARIO!$C$5:$G$14=$B31)*(ORARIO!$B$5:$B$14=D$3)),\"\")","v":0},{"$f":"IF($B$4<>\"\",SUMPRODUCT(1*(ORARIO!$C$5:$G$14=$B31)*(ORARIO!$B$5:$B$14=E$3)),\"\")","v":0},{"$f":"IF($B$4<>\"\",SUMPRODUCT(1*(ORARIO!$C$5:$G$14=$B31)*(ORARIO!$B$5:$B$14=F$3)),\"\")","v":1},{"$f":"IF($B$4<>\"\",SUMPRODUCT(1*(ORARIO!$C$5:$G$14=$B31)*(ORARIO!$B$5:$B$14=G$3)),\"\")","v":0},{"$f":"IF($B$4<>\"\",SUMPRODUCT(1*(ORARIO!$C$5:$G$14=$B31)*(ORARIO!$B$5:$B$14=H$3)),\"\")","v":0},{"$f":"IF($B$4<>\"\",SUMPRODUCT(1*(ORARIO!$C$5:$G$14=$B31)*(ORARIO!$B$5:$B$14=I$3)),\"\")","v":0},{"$f":"IF($B$4<>\"\",SUMPRODUCT(1*(ORARIO!$C$5:$G$14=$B31)*(ORARIO!$B$5:$B$14=J$3)),\"\")","v":0},null,{"$f":"IF($B31<>\"\",SUMPRODUCT(1*(ORARIO!$H$5:$L$14=$B31)*(ORARIO!$B$5:$B$14=L$3)),\"\")","v":0},{"$f":"IF($B31<>\"\",SUMPRODUCT(1*(ORARIO!$H$5:$L$14=$B31)*(ORARIO!$B$5:$B$14=M$3)),\"\")","v":0},{"$f":"IF($B31<>\"\",SUMPRODUCT(1*(ORARIO!$H$5:$L$14=$B31)*(ORARIO!$B$5:$B$14=N$3)),\"\")","v":0},{"$f":"IF($B31<>\"\",SUMPRODUCT(1*(ORARIO!$H$5:$L$14=$B31)*(ORARIO!$B$5:$B$14=O$3)),\"\")","v":0},{"$f":"IF($B31<>\"\",SUMPRODUCT(1*(ORARIO!$H$5:$L$14=$B31)*(ORARIO!$B$5:$B$14=P$3)),\"\")","v":0},{"$f":"IF($B31<>\"\",SUMPRODUCT(1*(ORARIO!$H$5:$L$14=$B31)*(ORARIO!$B$5:$B$14=Q$3)),\"\")","v":0},{"$f":"IF($B31<>\"\",SUMPRODUCT(1*(ORARIO!$H$5:$L$14=$B31)*(ORARIO!$B$5:$B$14=R$3)),\"\")","v":0},{"$f":"IF($B31<>\"\",SUMPRODUCT(1*(ORARIO!$H$5:$L$14=$B31)*(ORARIO!$B$5:$B$14=S$3)),\"\")","v":0},null,{"$f":"IF($B31<>\"\",SUMPRODUCT(1*(ORARIO!$M$5:$Q$14=$B31)*(ORARIO!$B$5:$B$14=U$3)),\"\")","v":0},{"$f":"IF($B31<>\"\",SUMPRODUCT(1*(ORARIO!$M$5:$Q$14=$B31)*(ORARIO!$B$5:$B$14=V$3)),\"\")","v":0},{"$f":"IF($B31<>\"\",SUMPRODUCT(1*(ORARIO!$M$5:$Q$14=$B31)*(ORARIO!$B$5:$B$14=W$3)),\"\")","v":0},{"$f":"IF($B31<>\"\",SUMPRODUCT(1*(ORARIO!$M$5:$Q$14=$B31)*(ORARIO!$B$5:$B$14=X$3)),\"\")","v":0},{"$f":"IF($B31<>\"\",SUMPRODUCT(1*(ORARIO!$M$5:$Q$14=$B31)*(ORARIO!$B$5:$B$14=Y$3)),\"\")","v":0},{"$f":"IF($B31<>\"\",SUMPRODUCT(1*(ORARIO!$M$5:$Q$14=$B31)*(ORARIO!$B$5:$B$14=Z$3)),\"\")","v":0},{"$f":"IF($B31<>\"\",SUMPRODUCT(1*(ORARIO!$M$5:$Q$14=$B31)*(ORARIO!$B$5:$B$14=AA$3)),\"\")","v":0},{"$f":"IF($B31<>\"\",SUMPRODUCT(1*(ORARIO!$M$5:$Q$14=$B31)*(ORARIO!$B$5:$B$14=AB$3)),\"\")","v":0},null,{"$f":"IF($B31<>\"\",SUMPRODUCT(1*(ORARIO!$R$5:$V$14=$B31)*(ORARIO!$B$5:$B$14=AD$3)),\"\")","v":0},{"$f":"IF($B31<>\"\",SUMPRODUCT(1*(ORARIO!$R$5:$V$14=$B31)*(ORARIO!$B$5:$B$14=AE$3)),\"\")","v":0},{"$f":"IF($B31<>\"\",SUMPRODUCT(1*(ORARIO!$R$5:$V$14=$B31)*(ORARIO!$B$5:$B$14=AF$3)),\"\")","v":0},{"$f":"IF($B31<>\"\",SUMPRODUCT(1*(ORARIO!$R$5:$V$14=$B31)*(ORARIO!$B$5:$B$14=AG$3)),\"\")","v":0},{"$f":"IF($B31<>\"\",SUMPRODUCT(1*(ORARIO!$R$5:$V$14=$B31)*(ORARIO!$B$5:$B$14=AH$3)),\"\")","v":0},{"$f":"IF($B31<>\"\",SUMPRODUCT(1*(ORARIO!$R$5:$V$14=$B31)*(ORARIO!$B$5:$B$14=AI$3)),\"\")","v":0},{"$f":"IF($B31<>\"\",SUMPRODUCT(1*(ORARIO!$R$5:$V$14=$B31)*(ORARIO!$B$5:$B$14=AJ$3)),\"\")","v":0},{"$f":"IF($B31<>\"\",SUMPRODUCT(1*(ORARIO!$R$5:$V$14=$B31)*(ORARIO!$B$5:$B$14=AK$3)),\"\")","v":0},null,{"$f":"IF($B31<>\"\",SUMPRODUCT(1*(ORARIO!$W$5:$AA$14=$B31)*(ORARIO!$B$5:$B$14=AM$3)),\"\")","v":0},{"$f":"IF($B31<>\"\",SUMPRODUCT(1*(ORARIO!$W$5:$AA$14=$B31)*(ORARIO!$B$5:$B$14=AN$3)),\"\")","v":0},{"$f":"IF($B31<>\"\",SUMPRODUCT(1*(ORARIO!$W$5:$AA$14=$B31)*(ORARIO!$B$5:$B$14=AO$3)),\"\")","v":0},{"$f":"IF($B31<>\"\",SUMPRODUCT(1*(ORARIO!$W$5:$AA$14=$B31)*(ORARIO!$B$5:$B$14=AP$3)),\"\")","v":0},{"$f":"IF($B31<>\"\",SUMPRODUCT(1*(ORARIO!$W$5:$AA$14=$B31)*(ORARIO!$B$5:$B$14=AQ$3)),\"\")","v":0},{"$f":"IF($B31<>\"\",SUMPRODUCT(1*(ORARIO!$W$5:$AA$14=$B31)*(ORARIO!$B$5:$B$14=AR$3)),\"\")","v":0},{"$f":"IF($B31<>\"\",SUMPRODUCT(1*(ORARIO!$W$5:$AA$14=$B31)*(ORARIO!$B$5:$B$14=AS$3)),\"\")","v":0},{"$f":"IF($B31<>\"\",SUMPRODUCT(1*(ORARIO!$W$5:$AA$14=$B31)*(ORARIO!$B$5:$B$14=AT$3)),\"\")","v":0}]
[null,"C nar",{"$f":"IF($B$4<>\"\",SUMPRODUCT(1*(ORARIO!$C$5:$G$14=$B32)*(ORARIO!$B$5:$B$14=C$3)),\"\")","v":0},{"$f":"IF($B$4<>\"\",SUMPRODUCT(1*(ORARIO!$C$5:$G$14=$B32)*(ORARIO!$B$5:$B$14=D$3)),\"\")","v":0},{"$f":"IF($B$4<>\"\",SUMPRODUCT(1*(ORARIO!$C$5:$G$14=$B32)*(ORARIO!$B$5:$B$14=E$3)),\"\")","v":0},{"$f":"IF($B$4<>\"\",SUMPRODUCT(1*(ORARIO!$C$5:$G$14=$B32)*(ORARIO!$B$5:$B$14=F$3)),\"\")","v":0},{"$f":"IF($B$4<>\"\",SUMPRODUCT(1*(ORARIO!$C$5:$G$14=$B32)*(ORARIO!$B$5:$B$14=G$3)),\"\")","v":0},{"$f":"IF($B$4<>\"\",SUMPRODUCT(1*(ORARIO!$C$5:$G$14=$B32)*(ORARIO!$B$5:$B$14=H$3)),\"\")","v":0},{"$f":"IF($B$4<>\"\",SUMPRODUCT(1*(ORARIO!$C$5:$G$14=$B32)*(ORARIO!$B$5:$B$14=I$3)),\"\")","v":0},{"$f":"IF($B$4<>\"\",SUMPRODUCT(1*(ORARIO!$C$5:$G$14=$B32)*(ORARIO!$B$5:$B$14=J$3)),\"\")","v":0},null,{"$f":"IF($B32<>\"\",SUMPRODUCT(1*(ORARIO!$H$5:$L$14=$B32)*(ORARIO!$B$5:$B$14=L$3)),\"\")","v":0},{"$f":"IF($B32<>\"\",SUMPRODUCT(1*(ORARIO!$H$5:$L$14=$B32)*(ORARIO!$B$5:$B$14=M$3)),\"\")","v":0},{"$f":"IF($B32<>\"\",SUMPRODUCT(1*(ORARIO!$H$5:$L$14=$B32)*(ORARIO!$B$5:$B$14=N$3)),\"\")","v":0},{"$f":"IF($B32<>\"\",SUMPRODUCT(1*(ORARIO!$H$5:$L$14=$B32)*(ORARIO!$B$5:$B$14=O$3)),\"\")","v":0},{"$f":"IF($B32<>\"\",SUMPRODUCT(1*(ORARIO!$H$5:$L$14=$B32)*(ORARIO!$B$5:$B$14=P$3)),\"\")","v":0},{"$f":"IF($B32<>\"\",SUMPRODUCT(1*(ORARIO!$H$5:$L$14=$B32)*(ORARIO!$B$5:$B$14=Q$3)),\"\")","v":0},{"$f":"IF($B32<>\"\",SUMPRODUCT(1*(ORARIO!$H$5:$L$14=$B32)*(ORARIO!$B$5:$B$14=R$3)),\"\")","v":0},{"$f":"IF($B32<>\"\",SUMPRODUCT(1*(ORARIO!$H$5:$L$14=$B32)*(ORARIO!$B$5:$B$14=S$3)),\"\")","v":0},null,{"$f":"IF($B32<>\"\",SUMPRODUCT(1*(ORARIO!$M$5:$Q$14=$B32)*(ORARIO!$B$5:$B$14=U$3)),\"\")","v":0},{"$f":"IF($B32<>\"\",SUMPRODUCT(1*(ORARIO!$M$5:$Q$14=$B32)*(ORARIO!$B$5:$B$14=V$3)),\"\")","v":0},{"$f":"IF($B32<>\"\",SUMPRODUCT(1*(ORARIO!$M$5:$Q$14=$B32)*(ORARIO!$B$5:$B$14=W$3)),\"\")","v":0},{"$f":"IF($B32<>\"\",SUMPRODUCT(1*(ORARIO!$M$5:$Q$14=$B32)*(ORARIO!$B$5:$B$14=X$3)),\"\")","v":0},{"$f":"IF($B32<>\"\",SUMPRODUCT(1*(ORARIO!$M$5:$Q$14=$B32)*(ORARIO!$B$5:$B$14=Y$3)),\"\")","v":0},{"$f":"IF($B32<>\"\",SUMPRODUCT(1*(ORARIO!$M$5:$Q$14=$B32)*(ORARIO!$B$5:$B$14=Z$3)),\"\")","v":0},{"$f":"IF($B32<>\"\",SUMPRODUCT(1*(ORARIO!$M$5:$Q$14=$B32)*(ORARIO!$B$5:$B$14=AA$3)),\"\")","v":0},{"$f":"IF($B32<>\"\",SUMPRODUCT(1*(ORARIO!$M$5:$Q$14=$B32)*(ORARIO!$B$5:$B$14=AB$3)),\"\")","v":0},null,{"$f":"IF($B32<>\"\",SUMPRODUCT(1*(ORARIO!$R$5:$V$14=$B32)*(ORARIO!$B$5:$B$14=AD$3)),\"\")","v":0},{"$f":"IF($B32<>\"\",SUMPRODUCT(1*(ORARIO!$R$5:$V$14=$B32)*(ORARIO!$B$5:$B$14=AE$3)),\"\")","v":0},{"$f":"IF($B32<>\"\",SUMPRODUCT(1*(ORARIO!$R$5:$V$14=$B32)*(ORARIO!$B$5:$B$14=AF$3)),\"\")","v":0},{"$f":"IF($B32<>\"\",SUMPRODUCT(1*(ORARIO!$R$5:$V$14=$B32)*(ORARIO!$B$5:$B$14=AG$3)),\"\")","v":0},{"$f":"IF($B32<>\"\",SUMPRODUCT(1*(ORARIO!$R$5:$V$14=$B32)*(ORARIO!$B$5:$B$14=AH$3)),\"\")","v":0},{"$f":"IF($B32<>\"\",SUMPRODUCT(1*(ORARIO!$R$5:$V$14=$B32)*(ORARIO!$B$5:$B$14=AI$3)),\"\")","v":0},{"$f":"IF($B32<>\"\",SUMPRODUCT(1*(ORARIO!$R$5:$V$14=$B32)*(ORARIO!$B$5:$B$14=AJ$3)),\"\")","v":0},{"$f":"IF($B32<>\"\",SUMPRODUCT(1*(ORARIO!$R$5:$V$14=$B32)*(ORARIO!$B$5:$B$14=AK$3)),\"\")","v":0},null,{"$f":"IF($B32<>\"\",SUMPRODUCT(1*(ORARIO!$W$5:$AA$14=$B32)*(ORARIO!$B$5:$B$14=AM$3)),\"\")","v":0},{"$f":"IF($B32<>\"\",SUMPRODUCT(1*(ORARIO!$W$5:$AA$14=$B32)*(ORARIO!$B$5:$B$14=AN$3)),\"\")","v":0},{"$f":"IF($B32<>\"\",SUMPRODUCT(1*(ORARIO!$W$5:$AA$14=$B32)*(ORARIO!$B$5:$B$14=AO$3)),\"\")","v":0},{"$f":"IF($B32<>\"\",SUMPRODUCT(1*(ORARIO!$W$5:$AA$14=$B32)*(ORARIO!$B$5:$B$14=AP$3)),\"\")","v":0},{"$f":"IF($B32<>\"\",SUMPRODUCT(1*(ORARIO!$W$5:$AA$14=$B32)*(ORARIO!$B$5:$B$14=AQ$3)),\"\")","v":0},{"$f":"IF($B32<>\"\",SUMPRODUCT(1*(ORARIO!$W$5:$AA$14=$B32)*(ORARIO!$B$5:$B$14=AR$3)),\"\")","v":0},{"$f":"IF($B32<>\"\",SUMPRODUCT(1*(ORARIO!$W$5:$AA$14=$B32)*(ORARIO!$B$5:$B$14=AS$3)),\"\")","v":0},{"$f":"IF($B32<>\"\",SUMPRODUCT(1*(ORARIO!$W$5:$AA$14=$B32)*(ORARIO!$B$5:$B$14=AT$3)),\"\")","v":0}]
[null,"C zgo",{"$f":"IF($B$4<>\"\",SUMPRODUCT(1*(ORARIO!$C$5:$G$14=$B33)*(ORARIO!$B$5:$B$14=C$3)),\"\")","v":0},{"$f":"IF($B$4<>\"\",SUMPRODUCT(1*(ORARIO!$C$5:$G$14=$B33)*(ORARIO!$B$5:$B$14=D$3)),\"\")","v":0},{"$f":"IF($B$4<>\"\",SUMPRODUCT(1*(ORARIO!$C$5:$G$14=$B33)*(ORARIO!$B$5:$B$14=E$3)),\"\")","v":0},{"$f":"IF($B$4<>\"\",SUMPRODUCT(1*(ORARIO!$C$5:$G$14=$B33)*(ORARIO!$B$5:$B$14=F$3)),\"\")","v":0},{"$f":"IF($B$4<>\"\",SUMPRODUCT(1*(ORARIO!$C$5:$G$14=$B33)*(ORARIO!$B$5:$B$14=G$3)),\"\")","v":0},{"$f":"IF($B$4<>\"\",SUMPRODUCT(1*(ORARIO!$C$5:$G$14=$B33)*(ORARIO!$B$5:$B$14=H$3)),\"\")","v":0},{"$f":"IF($B$4<>\"\",SUMPRODUCT(1*(ORARIO!$C$5:$G$14=$B33)*(ORARIO!$B$5:$B$14=I$3)),\"\")","v":0},{"$f":"IF($B$4<>\"\",SUMPRODUCT(1*(ORARIO!$C$5:$G$14=$B33)*(ORARIO!$B$5:$B$14=J$3)),\"\")","v":0},null,{"$f":"IF($B33<>\"\",SUMPRODUCT(1*(ORARIO!$H$5:$L$14=$B33)*(ORARIO!$B$5:$B$14=L$3)),\"\")","v":0},{"$f":"IF($B33<>\"\",SUMPRODUCT(1*(ORARIO!$H$5:$L$14=$B33)*(ORARIO!$B$5:$B$14=M$3)),\"\")","v":0},{"$f":"IF($B33<>\"\",SUMPRODUCT(1*(ORARIO!$H$5:$L$14=$B33)*(ORARIO!$B$5:$B$14=N$3)),\"\")","v":0},{"$f":"IF($B33<>\"\",SUMPRODUCT(1*(ORARIO!$H$5:$L$14=$B33)*(ORARIO!$B$5:$B$14=O$3)),\"\")","v":0},{"$f":"IF($B33<>\"\",SUMPRODUCT(1*(ORARIO!$H$5:$L$14=$B33)*(ORARIO!$B$5:$B$14=P$3)),\"\")","v":0},{"$f":"IF($B33<>\"\",SUMPRODUCT(1*(ORARIO!$H$5:$L$14=$B33)*(ORARIO!$B$5:$B$14=Q$3)),\"\")","v":0},{"$f":"IF($B33<>\"\",SUMPRODUCT(1*(ORARIO!$H$5:$L$14=$B33)*(ORARIO!$B$5:$B$14=R$3)),\"\")","v":0},{"$f":"IF($B33<>\"\",SUMPRODUCT(1*(ORARIO!$H$5:$L$14=$B33)*(ORARIO!$B$5:$B$14=S$3)),\"\")","v":0},null,{"$f":"IF($B33<>\"\",SUMPRODUCT(1*(ORARIO!$M$5:$Q$14=$B33)*(ORARIO!$B$5:$B$14=U$3)),\"\")","v":0},{"$f":"IF($B33<>\"\",SUMPRODUCT(1*(ORARIO!$M$5:$Q$14=$B33)*(ORARIO!$B$5:$B$14=V$3)),\"\")","v":0},{"$f":"IF($B33<>\"\",SUMPRODUCT(1*(ORARIO!$M$5:$Q$14=$B33)*(ORARIO!$B$5:$B$14=W$3)),\"\")","v":0},{"$f":"IF($B33<>\"\",SUMPRODUCT(1*(ORARIO!$M$5:$Q$14=$B33)*(ORARIO!$B$5:$B$14=X$3)),\"\")","v":0},{"$f":"IF($B33<>\"\",SUMPRODUCT(1*(ORARIO!$M$5:$Q$14=$B33)*(ORARIO!$B$5:$B$14=Y$3)),\"\")","v":0},{"$f":"IF($B33<>\"\",SUMPRODUCT(1*(ORARIO!$M$5:$Q$14=$B33)*(ORARIO!$B$5:$B$14=Z$3)),\"\")","v":0},{"$f":"IF($B33<>\"\",SUMPRODUCT(1*(ORARIO!$M$5:$Q$14=$B33)*(ORARIO!$B$5:$B$14=AA$3)),\"\")","v":0},{"$f":"IF($B33<>\"\",SUMPRODUCT(1*(ORARIO!$M$5:$Q$14=$B33)*(ORARIO!$B$5:$B$14=AB$3)),\"\")","v":0},null,{"$f":"IF($B33<>\"\",SUMPRODUCT(1*(ORARIO!$R$5:$V$14=$B33)*(ORARIO!$B$5:$B$14=AD$3)),\"\")","v":0},{"$f":"IF($B33<>\"\",SUMPRODUCT(1*(ORARIO!$R$5:$V$14=$B33)*(ORARIO!$B$5:$B$14=AE$3)),\"\")","v":0},{"$f":"IF($B33<>\"\",SUMPRODUCT(1*(ORARIO!$R$5:$V$14=$B33)*(ORARIO!$B$5:$B$14=AF$3)),\"\")","v":0},{"$f":"IF($B33<>\"\",SUMPRODUCT(1*(ORARIO!$R$5:$V$14=$B33)*(ORARIO!$B$5:$B$14=AG$3)),\"\")","v":0},{"$f":"IF($B33<>\"\",SUMPRODUCT(1*(ORARIO!$R$5:$V$14=$B33)*(ORARIO!$B$5:$B$14=AH$3)),\"\")","v":0},{"$f":"IF($B33<>\"\",SUMPRODUCT(1*(ORARIO!$R$5:$V$14=$B33)*(ORARIO!$B$5:$B$14=AI$3)),\"\")","v":0},{"$f":"IF($B33<>\"\",SUMPRODUCT(1*(ORARIO!$R$5:$V$14=$B33)*(ORARIO!$B$5:$B$14=AJ$3)),\"\")","v":0},{"$f":"IF($B33<>\"\",SUMPRODUCT(1*(ORARIO!$R$5:$V$14=$B33)*(ORARIO!$B$5:$B$14=AK$3)),\"\")","v":0},null,{"$f":"IF($B33<>\"\",SUMPRODUCT(1*(ORARIO!$W$5:$AA$14=$B33)*(ORARIO!$B$5:$B$14=AM$3)),\"\")","v":0},{"$f":"IF($B33<>\"\",SUMPRODUCT(1*(ORARIO!$W$5:$AA$14=$B33)*(ORARIO!$B$5:$B$14=AN$3)),\"\")","v":0},{"$f":"IF($B33<>\"\",SUMPRODUCT(1*(ORARIO!$W$5:$AA$14=$B33)*(ORARIO!$B$5:$B$14=AO$3)),\"\")","v":0},{"$f":"IF($B33<>\"\",SUMPRODUCT(1*(ORARIO!$W$5:$AA$14=$B33)*(ORARIO!$B$5:$B$14=AP$3)),\"\")","v":0},{"$f":"IF($B33<>\"\",SUMPRODUCT(1*(ORARIO!$W$5:$AA$14=$B33)*(ORARIO!$B$5:$B$14=AQ$3)),\"\")","v":0},{"$f":"IF($B33<>\"\",SUMPRODUCT(1*(ORARIO!$W$5:$AA$14=$B33)*(ORARIO!$B$5:$B$14=AR$3)),\"\")","v":0},{"$f":"IF($B33<>\"\",SUMPRODUCT(1*(ORARIO!$W$5:$AA$14=$B33)*(ORARIO!$B$5:$B$14=AS$3)),\"\")","v":0},{"$f":"IF($B33<>\"\",SUMPRODUCT(1*(ORARIO!$W$5:$AA$14=$B33)*(ORARIO!$B$5:$B$14=AT$3)),\"\")","v":0}]
[null,"C geo",{"$f":"IF($B$4<>\"\",SUMPRODUCT(1*(ORARIO!$C$5:$G$14=$B34)*(ORARIO!$B$5:$B$14=C$3)),\"\")","v":0},{"$f":"IF($B$4<>\"\",SUMPRODUCT(1*(ORARIO!$C$5:$G$14=$B34)*(ORARIO!$B$5:$B$14=D$3)),\"\")","v":0},{"$f":"IF($B$4<>\"\",SUMPRODUCT(1*(ORARIO!$C$5:$G$14=$B34)*(ORARIO!$B$5:$B$14=E$3)),\"\")","v":1},{"$f":"IF($B$4<>\"\",SUMPRODUCT(1*(ORARIO!$C$5:$G$14=$B34)*(ORARIO!$B$5:$B$14=F$3)),\"\")","v":0},{"$f":"IF($B$4<>\"\",SUMPRODUCT(1*(ORARIO!$C$5:$G$14=$B34)*(ORARIO!$B$5:$B$14=G$3)),\"\")","v":0},{"$f":"IF($B$4<>\"\",SUMPRODUCT(1*(ORARIO!$C$5:$G$14=$B34)*(ORARIO!$B$5:$B$14=H$3)),\"\")","v":0},{"$f":"IF($B$4<>\"\",SUMPRODUCT(1*(ORARIO!$C$5:$G$14=$B34)*(ORARIO!$B$5:$B$14=I$3)),\"\")","v":0},{"$f":"IF($B$4<>\"\",SUMPRODUCT(1*(ORARIO!$C$5:$G$14=$B34)*(ORARIO!$B$5:$B$14=J$3)),\"\")","v":0},null,{"$f":"IF($B34<>\"\",SUMPRODUCT(1*(ORARIO!$H$5:$L$14=$B34)*(ORARIO!$B$5:$B$14=L$3)),\"\")","v":0},{"$f":"IF($B34<>\"\",SUMPRODUCT(1*(ORARIO!$H$5:$L$14=$B34)*(ORARIO!$B$5:$B$14=M$3)),\"\")","v":0},{"$f":"IF($B34<>\"\",SUMPRODUCT(1*(ORARIO!$H$5:$L$14=$B34)*(ORARIO!$B$5:$B$14=N$3)),\"\")","v":0},{"$f":"IF($B34<>\"\",SUMPRODUCT(1*(ORARIO!$H$5:$L$14=$B34)*(ORARIO!$B$5:$B$14=O$3)),\"\")","v":0},{"$f":"IF($B34<>\"\",SUMPRODUCT(1*(ORARIO!$H$5:$L$14=$B34)*(ORARIO!$B$5:$B$14=P$3)),\"\")","v":0},{"$f":"IF($B34<>\"\",SUMPRODUCT(1*(ORARIO!$H$5:$L$14=$B34)*(ORARIO!$B$5:$B$14=Q$3)),\"\")","v":0},{"$f":"IF($B34<>\"\",SUMPRODUCT(1*(ORARIO!$H$5:$L$14=$B34)*(ORARIO!$B$5:$B$14=R$3)),\"\")","v":0},{"$f":"IF($B34<>\"\",SUMPRODUCT(1*(ORARIO!$H$5:$L$14=$B34)*(ORARIO!$B$5:$B$14=S$3)),\"\")","v":0},null,{"$f":"IF($B34<>\"\",SUMPRODUCT(1*(ORARIO!$M$5:$Q$14=$B34)*(ORARIO!$B$5:$B$14=U$3)),\"\")","v":0},{"$f":"IF($B34<>\"\",SUMPRODUCT(1*(ORARIO!$M$5:$Q$14=$B34)*(ORARIO!$B$5:$B$14=V$3)),\"\")","v":0},{"$f":"IF($B34<>\"\",SUMPRODUCT(1*(ORARIO!$M$5:$Q$14=$B34)*(ORARIO!$B$5:$B$14=W$3)),\"\")","v":0},{"$f":"IF($B34<>\"\",SUMPRODUCT(1*(ORARIO!$M$5:$Q$14=$B34)*(ORARIO!$B$5:$B$14=X$3)),\"\")","v":0},{"$f":"IF($B34<>\"\",SUMPRODUCT(1*(ORARIO!$M$5:$Q$14=$B34)*(ORARIO!$B$5:$B$14=Y$3)),\"\")","v":0},{"$f":"IF($B34<>\"\",SUMPRODUCT(1*(ORARIO!$M$5:$Q$14=$B34)*(ORARIO!$B$5:$B$14=Z$3)),\"\")","v":0},{"$f":"IF($B34<>\"\",SUMPRODUCT(1*(ORARIO!$M$5:$Q$14=$B34)*(ORARIO!$B$5:$B$14=AA$3)),\"\")","v":0},{"$f":"IF($B34<>\"\",SUMPRODUCT(1*(ORARIO!$M$5:$Q$14=$B34)*(ORARIO!$B$5:$B$14=AB$3)),\"\")","v":0},null,{"$f":"IF($B34<>\"\",SUMPRODUCT(1*(ORARIO!$R$5:$V$14=$B34)*(ORARIO!$B$5:$B$14=AD$3)),\"\")","v":0},{"$f":"IF($B34<>\"\",SUMPRODUCT(1*(ORARIO!$R$5:$V$14=$B34)*(ORARIO!$B$5:$B$14=AE$3)),\"\")","v":0},{"$f":"IF($B34<>\"\",SUMPRODUCT(1*(ORARIO!$R$5:$V$14=$B34)*(ORARIO!$B$5:$B$14=AF$3)),\"\")","v":0},{"$f":"IF($B34<>\"\",SUMPRODUCT(1*(ORARIO!$R$5:$V$14=$B34)*(ORARIO!$B$5:$B$14=AG$3)),\"\")","v":0},{"$f":"IF($B34<>\"\",SUMPRODUCT(1*(ORARIO!$R$5:$V$14=$B34)*(ORARIO!$B$5:$B$14=AH$3)),\"\")","v":0},{"$f":"IF($B34<>\"\",SUMPRODUCT(1*(ORARIO!$R$5:$V$14=$B34)*(ORARIO!$B$5:$B$14=AI$3)),\"\")","v":0},{"$f":"IF($B34<>\"\",SUMPRODUCT(1*(ORARIO!$R$5:$V$14=$B34)*(ORARIO!$B$5:$B$14=AJ$3)),\"\")","v":0},{"$f":"IF($B34<>\"\",SUMPRODUCT(1*(ORARIO!$R$5:$V$14=$B34)*(ORARIO!$B$5:$B$14=AK$3)),\"\")","v":0},null,{"$f":"IF($B34<>\"\",SUMPRODUCT(1*(ORARIO!$W$5:$AA$14=$B34)*(ORARIO!$B$5:$B$14=AM$3)),\"\")","v":0},{"$f":"IF($B34<>\"\",SUMPRODUCT(1*(ORARIO!$W$5:$AA$14=$B34)*(ORARIO!$B$5:$B$14=AN$3)),\"\")","v":0},{"$f":"IF($B34<>\"\",SUMPRODUCT(1*(ORARIO!$W$5:$AA$14=$B34)*(ORARIO!$B$5:$B$14=AO$3)),\"\")","v":0},{"$f":"IF($B34<>\"\",SUMPRODUCT(1*(ORARIO!$W$5:$AA$14=$B34)*(ORARIO!$B$5:$B$14=AP$3)),\"\")","v":0},{"$f":"IF($B34<>\"\",SUMPRODUCT(1*(ORARIO!$W$5:$AA$14=$B34)*(ORARIO!$B$5:$B$14=AQ$3)),\"\")","v":0},{"$f":"IF($B34<>\"\",SUMPRODUCT(1*(ORARIO!$W$5:$AA$14=$B34)*(ORARIO!$B$5:$B$14=AR$3)),\"\")","v":0},{"$f":"IF($B34<>\"\",SUMPRODUCT(1*(ORARIO!$W$5:$AA$14=$B34)*(ORARIO!$B$5:$B$14=AS$3)),\"\")","v":0},{"$f":"IF($B34<>\"\",SUMPRODUCT(1*(ORARIO!$W$5:$AA$14=$B34)*(ORARIO!$B$5:$B$14=AT$3)),\"\")","v":0}]
[null,"C lik",{"$f":"IF($B$4<>\"\",SUMPRODUCT(1*(ORARIO!$C$5:$G$14=$B35)*(ORARIO!$B$5:$B$14=C$3)),\"\")","v":0},{"$f":"IF($B$4<>\"\",SUMPRODUCT(1*(ORARIO!$C$5:$G$14=$B35)*(ORARIO!$B$5:$B$14=D$3)),\"\")","v":0},{"$f":"IF($B$4<>\"\",SUMPRODUCT(1*(ORARIO!$C$5:$G$14=$B35)*(ORARIO!$B$5:$B$14=E$3)),\"\")","v":0},{"$f":"IF($B$4<>\"\",SUMPRODUCT(1*(ORARIO!$C$5:$G$14=$B35)*(ORARIO!$B$5:$B$14=F$3)),\"\")","v":0},{"$f":"IF($B$4<>\"\",SUMPRODUCT(1*(ORARIO!$C$5:$G$14=$B35)*(ORARIO!$B$5:$B$14=G$3)),\"\")","v":0},{"$f":"IF($B$4<>\"\",SUMPRODUCT(1*(ORARIO!$C$5:$G$14=$B35)*(ORARIO!$B$5:$B$14=H$3)),\"\")","v":0},{"$f":"IF($B$4<>\"\",SUMPRODUCT(1*(ORARIO!$C$5:$G$14=$B35)*(ORARIO!$B$5:$B$14=I$3)),\"\")","v":0},{"$f":"IF($B$4<>\"\",SUMPRODUCT(1*(ORARIO!$C$5:$G$14=$B35)*(ORARIO!$B$5:$B$14=J$3)),\"\")","v":0},null,{"$f":"IF($B35<>\"\",SUMPRODUCT(1*(ORARIO!$H$5:$L$14=$B35)*(ORARIO!$B$5:$B$14=L$3)),\"\")","v":0},{"$f":"IF($B35<>\"\",SUMPRODUCT(1*(ORARIO!$H$5:$L$14=$B35)*(ORARIO!$B$5:$B$14=M$3)),\"\")","v":0},{"$f":"IF($B35<>\"\",SUMPRODUCT(1*(ORARIO!$H$5:$L$14=$B35)*(ORARIO!$B$5:$B$14=N$3)),\"\")","v":0},{"$f":"IF($B35<>\"\",SUMPRODUCT(1*(ORARIO!$H$5:$L$14=$B35)*(ORARIO!$B$5:$B$14=O$3)),\"\")","v":0},{"$f":"IF($B35<>\"\",SUMPRODUCT(1*(ORARIO!$H$5:$L$14=$B35)*(ORARIO!$B$5:$B$14=P$3)),\"\")","v":0},{"$f":"IF($B35<>\"\",SUMPRODUCT(1*(ORARIO!$H$5:$L$14=$B35)*(ORARIO!$B$5:$B$14=Q$3)),\"\")","v":0},{"$f":"IF($B35<>\"\",SUMPRODUCT(1*(ORARIO!$H$5:$L$14=$B35)*(ORARIO!$B$5:$B$14=R$3)),\"\")","v":0},{"$f":"IF($B35<>\"\",SUMPRODUCT(1*(ORARIO!$H$5:$L$14=$B35)*(ORARIO!$B$5:$B$14=S$3)),\"\")","v":0},null,{"$f":"IF($B35<>\"\",SUMPRODUCT(1*(ORARIO!$M$5:$Q$14=$B35)*(ORARIO!$B$5:$B$14=U$3)),\"\")","v":0},{"$f":"IF($B35<>\"\",SUMPRODUCT(1*(ORARIO!$M$5:$Q$14=$B35)*(ORARIO!$B$5:$B$14=V$3)),\"\")","v":0},{"$f":"IF($B35<>\"\",SUMPRODUCT(1*(ORARIO!$M$5:$Q$14=$B35)*(ORARIO!$B$5:$B$14=W$3)),\"\")","v":0},{"$f":"IF($B35<>\"\",SUMPRODUCT(1*(ORARIO!$M$5:$Q$14=$B35)*(ORARIO!$B$5:$B$14=X$3)),\"\")","v":0},{"$f":"IF($B35<>\"\",SUMPRODUCT(1*(ORARIO!$M$5:$Q$14=$B35)*(ORARIO!$B$5:$B$14=Y$3)),\"\")","v":0},{"$f":"IF($B35<>\"\",SUMPRODUCT(1*(ORARIO!$M$5:$Q$14=$B35)*(ORARIO!$B$5:$B$14=Z$3)),\"\")","v":0},{"$f":"IF($B35<>\"\",SUMPRODUCT(1*(ORARIO!$M$5:$Q$14=$B35)*(ORARIO!$B$5:$B$14=AA$3)),\"\")","v":0},{"$f":"IF($B35<>\"\",SUMPRODUCT(1*(ORARIO!$M$5:$Q$14=$B35)*(ORARIO!$B$5:$B$14=AB$3)),\"\")","v":0},null,{"$f":"IF($B35<>\"\",SUMPRODUCT(1*(ORARIO!$R$5:$V$14=$B35)*(ORARIO!$B$5:$B$14=AD$3)),\"\")","v":0},{"$f":"IF($B35<>\"\",SUMPRODUCT(1*(ORARIO!$R$5:$V$14=$B35)*(ORARIO!$B$5:$B$14=AE$3)),\"\")","v":0},{"$f":"IF($B35<>\"\",SUMPRODUCT(1*(ORARIO!$R$5:$V$14=$B35)*(ORARIO!$B$5:$B$14=AF$3)),\"\")","v":0},{"$f":"IF($B35<>\"\",SUMPRODUCT(1*(ORARIO!$R$5:$V$14=$B35)*(ORARIO!$B$5:$B$14=AG$3)),\"\")","v":0},{"$f":"IF($B35<>\"\",SUMPRODUCT(1*(ORARIO!$R$5:$V$14=$B35)*(ORARIO!$B$5:$B$14=AH$3)),\"\")","v":0},{"$f":"IF($B35<>\"\",SUMPRODUCT(1*(ORARIO!$R$5:$V$14=$B35)*(ORARIO!$B$5:$B$14=AI$3)),\"\")","v":0},{"$f":"IF($B35<>\"\",SUMPRODUCT(1*(ORARIO!$R$5:$V$14=$B35)*(ORARIO!$B$5:$B$14=AJ$3)),\"\")","v":0},{"$f":"IF($B35<>\"\",SUMPRODUCT(1*(ORARIO!$R$5:$V$14=$B35)*(ORARIO!$B$5:$B$14=AK$3)),\"\")","v":0},null,{"$f":"IF($B35<>\"\",SUMPRODUCT(1*(ORARIO!$W$5:$AA$14=$B35)*(ORARIO!$B$5:$B$14=AM$3)),\"\")","v":0},{"$f":"IF($B35<>\"\",SUMPRODUCT(1*(ORARIO!$W$5:$AA$14=$B35)*(ORARIO!$B$5:$B$14=AN$3)),\"\")","v":0},{"$f":"IF($B35<>\"\",SUMPRODUCT(1*(ORARIO!$W$5:$AA$14=$B35)*(ORARIO!$B$5:$B$14=AO$3)),\"\")","v":0},{"$f":"IF($B35<>\"\",SUMPRODUCT(1*(ORARIO!$W$5:$AA$14=$B35)*(ORARIO!$B$5:$B$14=AP$3)),\"\")","v":0},{"$f":"IF($B35<>\"\",SUMPRODUCT(1*(ORARIO!$W$5:$AA$14=$B35)*(ORARIO!$B$5:$B$14=AQ$3)),\"\")","v":0},{"$f":"IF($B35<>\"\",SUMPRODUCT(1*(ORARIO!$W$5:$AA$14=$B35)*(ORARIO!$B$5:$B$14=AR$3)),\"\")","v":0},{"$f":"IF($B35<>\"\",SUMPRODUCT(1*(ORARIO!$W$5:$AA$14=$B35)*(ORARIO!$B$5:$B$14=AS$3)),\"\")","v":0},{"$f":"IF($B35<>\"\",SUMPRODUCT(1*(ORARIO!$W$5:$AA$14=$B35)*(ORARIO!$B$5:$B$14=AT$3)),\"\")","v":0}]
[null,"C gla",{"$f":"IF($B$4<>\"\",SUMPRODUCT(1*(ORARIO!$C$5:$G$14=$B36)*(ORARIO!$B$5:$B$14=C$3)),\"\")","v":0},{"$f":"IF($B$4<>\"\",SUMPRODUCT(1*(ORARIO!$C$5:$G$14=$B36)*(ORARIO!$B$5:$B$14=D$3)),\"\")","v":0},{"$f":"IF($B$4<>\"\",SUMPRODUCT(1*(ORARIO!$C$5:$G$14=$B36)*(ORARIO!$B$5:$B$14=E$3)),\"\")","v":0},{"$f":"IF($B$4<>\"\",SUMPRODUCT(1*(ORARIO!$C$5:$G$14=$B36)*(ORARIO!$B$5:$B$14=F$3)),\"\")","v":0},{"$f":"IF($B$4<>\"\",SUMPRODUCT(1*(ORARIO!$C$5:$G$14=$B36)*(ORARIO!$B$5:$B$14=G$3)),\"\")","v":0},{"$f":"IF($B$4<>\"\",SUMPRODUCT(1*(ORARIO!$C$5:$G$14=$B36)*(ORARIO!$B$5:$B$14=H$3)),\"\")","v":0},{"$f":"IF($B$4<>\"\",SUMPRODUCT(1*(ORARIO!$C$5:$G$14=$B36)*(ORARIO!$B$5:$B$14=I$3)),\"\")","v":0},{"$f":"IF($B$4<>\"\",SUMPRODUCT(1*(ORARIO!$C$5:$G$14=$B36)*(ORARIO!$B$5:$B$14=J$3)),\"\")","v":0},null,{"$f":"IF($B36<>\"\",SUMPRODUCT(1*(ORARIO!$H$5:$L$14=$B36)*(ORARIO!$B$5:$B$14=L$3)),\"\")","v":0},{"$f":"IF($B36<>\"\",SUMPRODUCT(1*(ORARIO!$H$5:$L$14=$B36)*(ORARIO!$B$5:$B$14=M$3)),\"\")","v":0},{"$f":"IF($B36<>\"\",SUMPRODUCT(1*(ORARIO!$H$5:$L$14=$B36)*(ORARIO!$B$5:$B$14=N$3)),\"\")","v":0},{"$f":"IF($B36<>\"\",SUMPRODUCT(1*(ORARIO!$H$5:$L$14=$B36)*(ORARIO!$B$5:$B$14=O$3)),\"\")","v":0},{"$f":"IF($B36<>\"\",SUMPRODUCT(1*(ORARIO!$H$5:$L$14=$B36)*(ORARIO!$B$5:$B$14=P$3)),\"\")","v":0},{"$f":"IF($B36<>\"\",SUMPRODUCT(1*(ORARIO!$H$5:$L$14=$B36)*(ORARIO!$B$5:$B$14=Q$3)),\"\")","v":0},{"$f":"IF($B36<>\"\",SUMPRODUCT(1*(ORARIO!$H$5:$L$14=$B36)*(ORARIO!$B$5:$B$14=R$3)),\"\")","v":0},{"$f":"IF($B36<>\"\",SUMPRODUCT(1*(ORARIO!$H$5:$L$14=$B36)*(ORARIO!$B$5:$B$14=S$3)),\"\")","v":0},null,{"$f":"IF($B36<>\"\",SUMPRODUCT(1*(ORARIO!$M$5:$Q$14=$B36)*(ORARIO!$B$5:$B$14=U$3)),\"\")","v":0},{"$f":"IF($B36<>\"\",SUMPRODUCT(1*(ORARIO!$M$5:$Q$14=$B36)*(ORARIO!$B$5:$B$14=V$3)),\"\")","v":0},{"$f":"IF($B36<>\"\",SUMPRODUCT(1*(ORARIO!$M$5:$Q$14=$B36)*(ORARIO!$B$5:$B$14=W$3)),\"\")","v":0},{"$f":"IF($B36<>\"\",SUMPRODUCT(1*(ORARIO!$M$5:$Q$14=$B36)*(ORARIO!$B$5:$B$14=X$3)),\"\")","v":0},{"$f":"IF($B36<>\"\",SUMPRODUCT(1*(ORARIO!$M$5:$Q$14=$B36)*(ORARIO!$B$5:$B$14=Y$3)),\"\")","v":0},{"$f":"IF($B36<>\"\",SUMPRODUCT(1*(ORARIO!$M$5:$Q$14=$B36)*(ORARIO!$B$5:$B$14=Z$3)),\"\")","v":0},{"$f":"IF($B36<>\"\",SUMPRODUCT(1*(ORARIO!$M$5:$Q$14=$B36)*(ORARIO!$B$5:$B$14=AA$3)),\"\")","v":0},{"$f":"IF($B36<>\"\",SUMPRODUCT(1*(ORARIO!$M$5:$Q$14=$B36)*(ORARIO!$B$5:$B$14=AB$3)),\"\")","v":0},null,{"$f":"IF($B36<>\"\",SUMPRODUCT(1*(ORARIO!$R$5:$V$14=$B36)*(ORARIO!$B$5:$B$14=AD$3)),\"\")","v":0},{"$f":"IF($B36<>\"\",SUMPRODUCT(1*(ORARIO!$R$5:$V$14=$B36)*(ORARIO!$B$5:$B$14=AE$3)),\"\")","v":0},{"$f":"IF($B36<>\"\",SUMPRODUCT(1*(ORARIO!$R$5:$V$14=$B36)*(ORARIO!$B$5:$B$14=AF$3)),\"\")","v":0},{"$f":"IF($B36<>\"\",SUMPRODUCT(1*(ORARIO!$R$5:$V$14=$B36)*(ORARIO!$B$5:$B$14=AG$3)),\"\")","v":0},{"$f":"IF($B36<>\"\",SUMPRODUCT(1*(ORARIO!$R$5:$V$14=$B36)*(ORARIO!$B$5:$B$14=AH$3)),\"\")","v":0},{"$f":"IF($B36<>\"\",SUMPRODUCT(1*(ORARIO!$R$5:$V$14=$B36)*(ORARIO!$B$5:$B$14=AI$3)),\"\")","v":0},{"$f":"IF($B36<>\"\",SUMPRODUCT(1*(ORARIO!$R$5:$V$14=$B36)*(ORARIO!$B$5:$B$14=AJ$3)),\"\")","v":0},{"$f":"IF($B36<>\"\",SUMPRODUCT(1*(ORARIO!$R$5:$V$14=$B36)*(ORARIO!$B$5:$B$14=AK$3)),\"\")","v":0},null,{"$f":"IF($B36<>\"\",SUMPRODUCT(1*(ORARIO!$W$5:$AA$14=$B36)*(ORARIO!$B$5:$B$14=AM$3)),\"\")","v":0},{"$f":"IF($B36<>\"\",SUMPRODUCT(1*(ORARIO!$W$5:$AA$14=$B36)*(ORARIO!$B$5:$B$14=AN$3)),\"\")","v":0},{"$f":"IF($B36<>\"\",SUMPRODUCT(1*(ORARIO!$W$5:$AA$14=$B36)*(ORARIO!$B$5:$B$14=AO$3)),\"\")","v":0},{"$f":"IF($B36<>\"\",SUMPRODUCT(1*(ORARIO!$W$5:$AA$14=$B36)*(ORARIO!$B$5:$B$14=AP$3)),\"\")","v":0},{"$f":"IF($B36<>\"\",SUMPRODUCT(1*(ORARIO!$W$5:$AA$14=$B36)*(ORARIO!$B$5:$B$14=AQ$3)),\"\")","v":0},{"$f":"IF($B36<>\"\",SUMPRODUCT(1*(ORARIO!$W$5:$AA$14=$B36)*(ORARIO!$B$5:$B$14=AR$3)),\"\")","v":0},{"$f":"IF($B36<>\"\",SUMPRODUCT(1*(ORARIO!$W$5:$AA$14=$B36)*(ORARIO!$B$5:$B$14=AS$3)),\"\")","v":0},{"$f":"IF($B36<>\"\",SUMPRODUCT(1*(ORARIO!$W$5:$AA$14=$B36)*(ORARIO!$B$5:$B$14=AT$3)),\"\")","v":0}]
[null,"C tel",{"$f":"IF($B$4<>\"\",SUMPRODUCT(1*(ORARIO!$C$5:$G$14=$B37)*(ORARIO!$B$5:$B$14=C$3)),\"\")","v":0},{"$f":"IF($B$4<>\"\",SUMPRODUCT(1*(ORARIO!$C$5:$G$14=$B37)*(ORARIO!$B$5:$B$14=D$3)),\"\")","v":0},{"$f":"IF($B$4<>\"\",SUMPRODUCT(1*(ORARIO!$C$5:$G$14=$B37)*(ORARIO!$B$5:$B$14=E$3)),\"\")","v":0},{"$f":"IF($B$4<>\"\",SUMPRODUCT(1*(ORARIO!$C$5:$G$14=$B37)*(ORARIO!$B$5:$B$14=F$3)),\"\")","v":0},{"$f":"IF($B$4<>\"\",SUMPRODUCT(1*(ORARIO!$C$5:$G$14=$B37)*(ORARIO!$B$5:$B$14=G$3)),\"\")","v":0},{"$f":"IF($B$4<>\"\",SUMPRODUCT(1*(ORARIO!$C$5:$G$14=$B37)*(ORARIO!$B$5:$B$14=H$3)),\"\")","v":0},{"$f":"IF($B$4<>\"\",SUMPRODUCT(1*(ORARIO!$C$5:$G$14=$B37)*(ORARIO!$B$5:$B$14=I$3)),\"\")","v":0},{"$f":"IF($B$4<>\"\",SUMPRODUCT(1*(ORARIO!$C$5:$G$14=$B37)*(ORARIO!$B$5:$B$14=J$3)),\"\")","v":0},null,{"$f":"IF($B37<>\"\",SUMPRODUCT(1*(ORARIO!$H$5:$L$14=$B37)*(ORARIO!$B$5:$B$14=L$3)),\"\")","v":0},{"$f":"IF($B37<>\"\",SUMPRODUCT(1*(ORARIO!$H$5:$L$14=$B37)*(ORARIO!$B$5:$B$14=M$3)),\"\")","v":0},{"$f":"IF($B37<>\"\",SUMPRODUCT(1*(ORARIO!$H$5:$L$14=$B37)*(ORARIO!$B$5:$B$14=N$3)),\"\")","v":0},{"$f":"IF($B37<>\"\",SUMPRODUCT(1*(ORARIO!$H$5:$L$14=$B37)*(ORARIO!$B$5:$B$14=O$3)),\"\")","v":0},{"$f":"IF($B37<>\"\",SUMPRODUCT(1*(ORARIO!$H$5:$L$14=$B37)*(ORARIO!$B$5:$B$14=P$3)),\"\")","v":0},{"$f":"IF($B37<>\"\",SUMPRODUCT(1*(ORARIO!$H$5:$L$14=$B37)*(ORARIO!$B$5:$B$14=Q$3)),\"\")","v":0},{"$f":"IF($B37<>\"\",SUMPRODUCT(1*(ORARIO!$H$5:$L$14=$B37)*(ORARIO!$B$5:$B$14=R$3)),\"\")","v":0},{"$f":"IF($B37<>\"\",SUMPRODUCT(1*(ORARIO!$H$5:$L$14=$B37)*(ORARIO!$B$5:$B$14=S$3)),\"\")","v":0},null,{"$f":"IF($B37<>\"\",SUMPRODUCT(1*(ORARIO!$M$5:$Q$14=$B37)*(ORARIO!$B$5:$B$14=U$3)),\"\")","v":0},{"$f":"IF($B37<>\"\",SUMPRODUCT(1*(ORARIO!$M$5:$Q$14=$B37)*(ORARIO!$B$5:$B$14=V$3)),\"\")","v":0},{"$f":"IF($B37<>\"\",SUMPRODUCT(1*(ORARIO!$M$5:$Q$14=$B37)*(ORARIO!$B$5:$B$14=W$3)),\"\")","v":0},{"$f":"IF($B37<>\"\",SUMPRODUCT(1*(ORARIO!$M$5:$Q$14=$B37)*(ORARIO!$B$5:$B$14=X$3)),\"\")","v":0},{"$f":"IF($B37<>\"\",SUMPRODUCT(1*(ORARIO!$M$5:$Q$14=$B37)*(ORARIO!$B$5:$B$14=Y$3)),\"\")","v":0},{"$f":"IF($B37<>\"\",SUMPRODUCT(1*(ORARIO!$M$5:$Q$14=$B37)*(ORARIO!$B$5:$B$14=Z$3)),\"\")","v":0},{"$f":"IF($B37<>\"\",SUMPRODUCT(1*(ORARIO!$M$5:$Q$14=$B37)*(ORARIO!$B$5:$B$14=AA$3)),\"\")","v":0},{"$f":"IF($B37<>\"\",SUMPRODUCT(1*(ORARIO!$M$5:$Q$14=$B37)*(ORARIO!$B$5:$B$14=AB$3)),\"\")","v":0},null,{"$f":"IF($B37<>\"\",SUMPRODUCT(1*(ORARIO!$R$5:$V$14=$B37)*(ORARIO!$B$5:$B$14=AD$3)),\"\")","v":0},{"$f":"IF($B37<>\"\",SUMPRODUCT(1*(ORARIO!$R$5:$V$14=$B37)*(ORARIO!$B$5:$B$14=AE$3)),\"\")","v":0},{"$f":"IF($B37<>\"\",SUMPRODUCT(1*(ORARIO!$R$5:$V$14=$B37)*(ORARIO!$B$5:$B$14=AF$3)),\"\")","v":0},{"$f":"IF($B37<>\"\",SUMPRODUCT(1*(ORARIO!$R$5:$V$14=$B37)*(ORARIO!$B$5:$B$14=AG$3)),\"\")","v":0},{"$f":"IF($B37<>\"\",SUMPRODUCT(1*(ORARIO!$R$5:$V$14=$B37)*(ORARIO!$B$5:$B$14=AH$3)),\"\")","v":0},{"$f":"IF($B37<>\"\",SUMPRODUCT(1*(ORARIO!$R$5:$V$14=$B37)*(ORARIO!$B$5:$B$14=AI$3)),\"\")","v":0},{"$f":"IF($B37<>\"\",SUMPRODUCT(1*(ORARIO!$R$5:$V$14=$B37)*(ORARIO!$B$5:$B$14=AJ$3)),\"\")","v":0},{"$f":"IF($B37<>\"\",SUMPRODUCT(1*(ORARIO!$R$5:$V$14=$B37)*(ORARIO!$B$5:$B$14=AK$3)),\"\")","v":0},null,{"$f":"IF($B37<>\"\",SUMPRODUCT(1*(ORARIO!$W$5:$AA$14=$B37)*(ORARIO!$B$5:$B$14=AM$3)),\"\")","v":0},{"$f":"IF($B37<>\"\",SUMPRODUCT(1*(ORARIO!$W$5:$AA$14=$B37)*(ORARIO!$B$5:$B$14=AN$3)),\"\")","v":0},{"$f":"IF($B37<>\"\",SUMPRODUCT(1*(ORARIO!$W$5:$AA$14=$B37)*(ORARIO!$B$5:$B$14=AO$3)),\"\")","v":0},{"$f":"IF($B37<>\"\",SUMPRODUCT(1*(ORARIO!$W$5:$AA$14=$B37)*(ORARIO!$B$5:$B$14=AP$3)),\"\")","v":0},{"$f":"IF($B37<>\"\",SUMPRODUCT(1*(ORARIO!$W$5:$AA$14=$B37)*(ORARIO!$B$5:$B$14=AQ$3)),\"\")","v":0},{"$f":"IF($B37<>\"\",SUMPRODUCT(1*(ORARIO!$W$5:$AA$14=$B37)*(ORARIO!$B$5:$B$14=AR$3)),\"\")","v":0},{"$f":"IF($B37<>\"\",SUMPRODUCT(1*(ORARIO!$W$5:$AA$14=$B37)*(ORARIO!$B$5:$B$14=AS$3)),\"\")","v":0},{"$f":"IF($B37<>\"\",SUMPRODUCT(1*(ORARIO!$W$5:$AA$14=$B37)*(ORARIO!$B$5:$B$14=AT$3)),\"\")","v":0}]
[null,"C ver",{"$f":"IF($B$4<>\"\",SUMPRODUCT(1*(ORARIO!$C$5:$G$14=$B38)*(ORARIO!$B$5:$B$14=C$3)),\"\")","v":0},{"$f":"IF($B$4<>\"\",SUMPRODUCT(1*(ORARIO!$C$5:$G$14=$B38)*(ORARIO!$B$5:$B$14=D$3)),\"\")","v":0},{"$f":"IF($B$4<>\"\",SUMPRODUCT(1*(ORARIO!$C$5:$G$14=$B38)*(ORARIO!$B$5:$B$14=E$3)),\"\")","v":0},{"$f":"IF($B$4<>\"\",SUMPRODUCT(1*(ORARIO!$C$5:$G$14=$B38)*(ORARIO!$B$5:$B$14=F$3)),\"\")","v":0},{"$f":"IF($B$4<>\"\",SUMPRODUCT(1*(ORARIO!$C$5:$G$14=$B38)*(ORARIO!$B$5:$B$14=G$3)),\"\")","v":0},{"$f":"IF($B$4<>\"\",SUMPRODUCT(1*(ORARIO!$C$5:$G$14=$B38)*(ORARIO!$B$5:$B$14=H$3)),\"\")","v":0},{"$f":"IF($B$4<>\"\",SUMPRODUCT(1*(ORARIO!$C$5:$G$14=$B38)*(ORARIO!$B$5:$B$14=I$3)),\"\")","v":0},{"$f":"IF($B$4<>\"\",SUMPRODUCT(1*(ORARIO!$C$5:$G$14=$B38)*(ORARIO!$B$5:$B$14=J$3)),\"\")","v":0},null,{"$f":"IF($B38<>\"\",SUMPRODUCT(1*(ORARIO!$H$5:$L$14=$B38)*(ORARIO!$B$5:$B$14=L$3)),\"\")","v":0},{"$f":"IF($B38<>\"\",SUMPRODUCT(1*(ORARIO!$H$5:$L$14=$B38)*(ORARIO!$B$5:$B$14=M$3)),\"\")","v":0},{"$f":"IF($B38<>\"\",SUMPRODUCT(1*(ORARIO!$H$5:$L$14=$B38)*(ORARIO!$B$5:$B$14=N$3)),\"\")","v":0},{"$f":"IF($B38<>\"\",SUMPRODUCT(1*(ORARIO!$H$5:$L$14=$B38)*(ORARIO!$B$5:$B$14=O$3)),\"\")","v":0},{"$f":"IF($B38<>\"\",SUMPRODUCT(1*(ORARIO!$H$5:$L$14=$B38)*(ORARIO!$B$5:$B$14=P$3)),\"\")","v":0},{"$f":"IF($B38<>\"\",SUMPRODUCT(1*(ORARIO!$H$5:$L$14=$B38)*(ORARIO!$B$5:$B$14=Q$3)),\"\")","v":0},{"$f":"IF($B38<>\"\",SUMPRODUCT(1*(ORARIO!$H$5:$L$14=$B38)*(ORARIO!$B$5:$B$14=R$3)),\"\")","v":0},{"$f":"IF($B38<>\"\",SUMPRODUCT(1*(ORARIO!$H$5:$L$14=$B38)*(ORARIO!$B$5:$B$14=S$3)),\"\")","v":0},null,{"$f":"IF($B38<>\"\",SUMPRODUCT(1*(ORARIO!$M$5:$Q$14=$B38)*(ORARIO!$B$5:$B$14=U$3)),\"\")","v":0},{"$f":"IF($B38<>\"\",SUMPRODUCT(1*(ORARIO!$M$5:$Q$14=$B38)*(ORARIO!$B$5:$B$14=V$3)),\"\")","v":0},{"$f":"IF($B38<>\"\",SUMPRODUCT(1*(ORARIO!$M$5:$Q$14=$B38)*(ORARIO!$B$5:$B$14=W$3)),\"\")","v":0},{"$f":"IF($B38<>\"\",SUMPRODUCT(1*(ORARIO!$M$5:$Q$14=$B38)*(ORARIO!$B$5:$B$14=X$3)),\"\")","v":0},{"$f":"IF($B38<>\"\",SUMPRODUCT(1*(ORARIO!$M$5:$Q$14=$B38)*(ORARIO!$B$5:$B$14=Y$3)),\"\")","v":0},{"$f":"IF($B38<>\"\",SUMPRODUCT(1*(ORARIO!$M$5:$Q$14=$B38)*(ORARIO!$B$5:$B$14=Z$3)),\"\")","v":0},{"$f":"IF($B38<>\"\",SUMPRODUCT(1*(ORARIO!$M$5:$Q$14=$B38)*(ORARIO!$B$5:$B$14=AA$3)),\"\")","v":0},{"$f":"IF($B38<>\"\",SUMPRODUCT(1*(ORARIO!$M$5:$Q$14=$B38)*(ORARIO!$B$5:$B$14=AB$3)),\"\")","v":0},null,{"$f":"IF($B38<>\"\",SUMPRODUCT(1*(ORARIO!$R$5:$V$14=$B38)*(ORARIO!$B$5:$B$14=AD$3)),\"\")","v":0},{"$f":"IF($B38<>\"\",SUMPRODUCT(1*(ORARIO!$R$5:$V$14=$B38)*(ORARIO!$B$5:$B$14=AE$3)),\"\")","v":0},{"$f":"IF($B38<>\"\",SUMPRODUCT(1*(ORARIO!$R$5:$V$14=$B38)*(ORARIO!$B$5:$B$14=AF$3)),\"\")","v":0},{"$f":"IF($B38<>\"\",SUMPRODUCT(1*(ORARIO!$R$5:$V$14=$B38)*(ORARIO!$B$5:$B$14=AG$3)),\"\")","v":0},{"$f":"IF($B38<>\"\",SUMPRODUCT(1*(ORARIO!$R$5:$V$14=$B38)*(ORARIO!$B$5:$B$14=AH$3)),\"\")","v":0},{"$f":"IF($B38<>\"\",SUMPRODUCT(1*(ORARIO!$R$5:$V$14=$B38)*(ORARIO!$B$5:$B$14=AI$3)),\"\")","v":0},{"$f":"IF($B38<>\"\",SUMPRODUCT(1*(ORARIO!$R$5:$V$14=$B38)*(ORARIO!$B$5:$B$14=AJ$3)),\"\")","v":0},{"$f":"IF($B38<>\"\",SUMPRODUCT(1*(ORARIO!$R$5:$V$14=$B38)*(ORARIO!$B$5:$B$14=AK$3)),\"\")","v":0},null,{"$f":"IF($B38<>\"\",SUMPRODUCT(1*(ORARIO!$W$5:$AA$14=$B38)*(ORARIO!$B$5:$B$14=AM$3)),\"\")","v":0},{"$f":"IF($B38<>\"\",SUMPRODUCT(1*(ORARIO!$W$5:$AA$14=$B38)*(ORARIO!$B$5:$B$14=AN$3)),\"\")","v":0},{"$f":"IF($B38<>\"\",SUMPRODUCT(1*(ORARIO!$W$5:$AA$14=$B38)*(ORARIO!$B$5:$B$14=AO$3)),\"\")","v":0},{"$f":"IF($B38<>\"\",SUMPRODUCT(1*(ORARIO!$W$5:$AA$14=$B38)*(ORARIO!$B$5:$B$14=AP$3)),\"\")","v":0},{"$f":"IF($B38<>\"\",SUMPRODUCT(1*(ORARIO!$W$5:$AA$14=$B38)*(ORARIO!$B$5:$B$14=AQ$3)),\"\")","v":0},{"$f":"IF($B38<>\"\",SUMPRODUCT(1*(ORARIO!$W$5:$AA$14=$B38)*(ORARIO!$B$5:$B$14=AR$3)),\"\")","v":0},{"$f":"IF($B38<>\"\",SUMPRODUCT(1*(ORARIO!$W$5:$AA$14=$B38)*(ORARIO!$B$5:$B$14=AS$3)),\"\")","v":0},{"$f":"IF($B38<>\"\",SUMPRODUCT(1*(ORARIO!$W$5:$AA$14=$B38)*(ORARIO!$B$5:$B$14=AT$3)),\"\")","v":0}]
[null,"C sop",{"$f":"IF($B$4<>\"\",SUMPRODUCT(1*(ORARIO!$C$5:$G$14=$B39)*(ORARIO!$B$5:$B$14=C$3)),\"\")","v":0},{"$f":"IF($B$4<>\"\",SUMPRODUCT(1*(ORARIO!$C$5:$G$14=$B39)*(ORARIO!$B$5:$B$14=D$3)),\"\")","v":0},{"$f":"IF($B$4<>\"\",SUMPRODUCT(1*(ORARIO!$C$5:$G$14=$B39)*(ORARIO!$B$5:$B$14=E$3)),\"\")","v":0},{"$f":"IF($B$4<>\"\",SUMPRODUCT(1*(ORARIO!$C$5:$G$14=$B39)*(ORARIO!$B$5:$B$14=F$3)),\"\")","v":0},{"$f":"IF($B$4<>\"\",SUMPRODUCT(1*(ORARIO!$C$5:$G$14=$B39)*(ORARIO!$B$5:$B$14=G$3)),\"\")","v":0},{"$f":"IF($B$4<>\"\",SUMPRODUCT(1*(ORARIO!$C$5:$G$14=$B39)*(ORARIO!$B$5:$B$14=H$3)),\"\")","v":0},{"$f":"IF($B$4<>\"\",SUMPRODUCT(1*(ORARIO!$C$5:$G$14=$B39)*(ORARIO!$B$5:$B$14=I$3)),\"\")","v":0},{"$f":"IF($B$4<>\"\",SUMPRODUCT(1*(ORARIO!$C$5:$G$14=$B39)*(ORARIO!$B$5:$B$14=J$3)),\"\")","v":0},null,{"$f":"IF($B39<>\"\",SUMPRODUCT(1*(ORARIO!$H$5:$L$14=$B39)*(ORARIO!$B$5:$B$14=L$3)),\"\")","v":0},{"$f":"IF($B39<>\"\",SUMPRODUCT(1*(ORARIO!$H$5:$L$14=$B39)*(ORARIO!$B$5:$B$14=M$3)),\"\")","v":0},{"$f":"IF($B39<>\"\",SUMPRODUCT(1*(ORARIO!$H$5:$L$14=$B39)*(ORARIO!$B$5:$B$14=N$3)),\"\")","v":0},{"$f":"IF($B39<>\"\",SUMPRODUCT(1*(ORARIO!$H$5:$L$14=$B39)*(ORARIO!$B$5:$B$14=O$3)),\"\")","v":0},{"$f":"IF($B39<>\"\",SUMPRODUCT(1*(ORARIO!$H$5:$L$14=$B39)*(ORARIO!$B$5:$B$14=P$3)),\"\")","v":0},{"$f":"IF($B39<>\"\",SUMPRODUCT(1*(ORARIO!$H$5:$L$14=$B39)*(ORARIO!$B$5:$B$14=Q$3)),\"\")","v":0},{"$f":"IF($B39<>\"\",SUMPRODUCT(1*(ORARIO!$H$5:$L$14=$B39)*(ORARIO!$B$5:$B$14=R$3)),\"\")","v":0},{"$f":"IF($B39<>\"\",SUMPRODUCT(1*(ORARIO!$H$5:$L$14=$B39)*(ORARIO!$B$5:$B$14=S$3)),\"\")","v":0},null,{"$f":"IF($B39<>\"\",SUMPRODUCT(1*(ORARIO!$M$5:$Q$14=$B39)*(ORARIO!$B$5:$B$14=U$3)),\"\")","v":0},{"$f":"IF($B39<>\"\",SUMPRODUCT(1*(ORARIO!$M$5:$Q$14=$B39)*(ORARIO!$B$5:$B$14=V$3)),\"\")","v":0},{"$f":"IF($B39<>\"\",SUMPRODUCT(1*(ORARIO!$M$5:$Q$14=$B39)*(ORARIO!$B$5:$B$14=W$3)),\"\")","v":0},{"$f":"IF($B39<>\"\",SUMPRODUCT(1*(ORARIO!$M$5:$Q$14=$B39)*(ORARIO!$B$5:$B$14=X$3)),\"\")","v":0},{"$f":"IF($B39<>\"\",SUMPRODUCT(1*(ORARIO!$M$5:$Q$14=$B39)*(ORARIO!$B$5:$B$14=Y$3)),\"\")","v":0},{"$f":"IF($B39<>\"\",SUMPRODUCT(1*(ORARIO!$M$5:$Q$14=$B39)*(ORARIO!$B$5:$B$14=Z$3)),\"\")","v":0},{"$f":"IF($B39<>\"\",SUMPRODUCT(1*(ORARIO!$M$5:$Q$14=$B39)*(ORARIO!$B$5:$B$14=AA$3)),\"\")","v":0},{"$f":"IF($B39<>\"\",SUMPRODUCT(1*(ORARIO!$M$5:$Q$14=$B39)*(ORARIO!$B$5:$B$14=AB$3)),\"\")","v":0},null,{"$f":"IF($B39<>\"\",SUMPRODUCT(1*(ORARIO!$R$5:$V$14=$B39)*(ORARIO!$B$5:$B$14=AD$3)),\"\")","v":0},{"$f":"IF($B39<>\"\",SUMPRODUCT(1*(ORARIO!$R$5:$V$14=$B39)*(ORARIO!$B$5:$B$14=AE$3)),\"\")","v":0},{"$f":"IF($B39<>\"\",SUMPRODUCT(1*(ORARIO!$R$5:$V$14=$B39)*(ORARIO!$B$5:$B$14=AF$3)),\"\")","v":0},{"$f":"IF($B39<>\"\",SUMPRODUCT(1*(ORARIO!$R$5:$V$14=$B39)*(ORARIO!$B$5:$B$14=AG$3)),\"\")","v":0},{"$f":"IF($B39<>\"\",SUMPRODUCT(1*(ORARIO!$R$5:$V$14=$B39)*(ORARIO!$B$5:$B$14=AH$3)),\"\")","v":0},{"$f":"IF($B39<>\"\",SUMPRODUCT(1*(ORARIO!$R$5:$V$14=$B39)*(ORARIO!$B$5:$B$14=AI$3)),\"\")","v":0},{"$f":"IF($B39<>\"\",SUMPRODUCT(1*(ORARIO!$R$5:$V$14=$B39)*(ORARIO!$B$5:$B$14=AJ$3)),\"\")","v":0},{"$f":"IF($B39<>\"\",SUMPRODUCT(1*(ORARIO!$R$5:$V$14=$B39)*(ORARIO!$B$5:$B$14=AK$3)),\"\")","v":0},null,{"$f":"IF($B39<>\"\",SUMPRODUCT(1*(ORARIO!$W$5:$AA$14=$B39)*(ORARIO!$B$5:$B$14=AM$3)),\"\")","v":0},{"$f":"IF($B39<>\"\",SUMPRODUCT(1*(ORARIO!$W$5:$AA$14=$B39)*(ORARIO!$B$5:$B$14=AN$3)),\"\")","v":0},{"$f":"IF($B39<>\"\",SUMPRODUCT(1*(ORARIO!$W$5:$AA$14=$B39)*(ORARIO!$B$5:$B$14=AO$3)),\"\")","v":0},{"$f":"IF($B39<>\"\",SUMPRODUCT(1*(ORARIO!$W$5:$AA$14=$B39)*(ORARIO!$B$5:$B$14=AP$3)),\"\")","v":0},{"$f":"IF($B39<>\"\",SUMPRODUCT(1*(ORARIO!$W$5:$AA$14=$B39)*(ORARIO!$B$5:$B$14=AQ$3)),\"\")","v":0},{"$f":"IF($B39<>\"\",SUMPRODUCT(1*(ORARIO!$W$5:$AA$14=$B39)*(ORARIO!$B$5:$B$14=AR$3)),\"\")","v":0},{"$f":"IF($B39<>\"\",SUMPRODUCT(1*(ORARIO!$W$5:$AA$14=$B39)*(ORARIO!$B$5:$B$14=AS$3)),\"\")","v":0},{"$f":"IF($B39<>\"\",SUMPRODUCT(1*(ORARIO!$W$5:$AA$14=$B39)*(ORARIO!$B$5:$B$14=AT$3)),\"\")","v":0}]
[null,"D slo",{"$f":"IF($B$4<>\"\",SUMPRODUCT(1*(ORARIO!$C$5:$G$14=$B40)*(ORARIO!$B$5:$B$14=C$3)),\"\")","v":0},{"$f":"IF($B$4<>\"\",SUMPRODUCT(1*(ORARIO!$C$5:$G$14=$B40)*(ORARIO!$B$5:$B$14=D$3)),\"\")","v":0},{"$f":"IF($B$4<>\"\",SUMPRODUCT(1*(ORARIO!$C$5:$G$14=$B40)*(ORARIO!$B$5:$B$14=E$3)),\"\")","v":0},{"$f":"IF($B$4<>\"\",SUMPRODUCT(1*(ORARIO!$C$5:$G$14=$B40)*(ORARIO!$B$5:$B$14=F$3)),\"\")","v":0},{"$f":"IF($B$4<>\"\",SUMPRODUCT(1*(ORARIO!$C$5:$G$14=$B40)*(ORARIO!$B$5:$B$14=G$3)),\"\")","v":0},{"$f":"IF($B$4<>\"\",SUMPRODUCT(1*(ORARIO!$C$5:$G$14=$B40)*(ORARIO!$B$5:$B$14=H$3)),\"\")","v":0},{"$f":"IF($B$4<>\"\",SUMPRODUCT(1*(ORARIO!$C$5:$G$14=$B40)*(ORARIO!$B$5:$B$14=I$3)),\"\")","v":0},{"$f":"IF($B$4<>\"\",SUMPRODUCT(1*(ORARIO!$C$5:$G$14=$B40)*(ORARIO!$B$5:$B$14=J$3)),\"\")","v":0},null,{"$f":"IF($B40<>\"\",SUMPRODUCT(1*(ORARIO!$H$5:$L$14=$B40)*(ORARIO!$B$5:$B$14=L$3)),\"\")","v":0},{"$f":"IF($B40<>\"\",SUMPRODUCT(1*(ORARIO!$H$5:$L$14=$B40)*(ORARIO!$B$5:$B$14=M$3)),\"\")","v":0},{"$f":"IF($B40<>\"\",SUMPRODUCT(1*(ORARIO!$H$5:$L$14=$B40)*(ORARIO!$B$5:$B$14=N$3)),\"\")","v":0},{"$f":"IF($B40<>\"\",SUMPRODUCT(1*(ORARIO!$H$5:$L$14=$B40)*(ORARIO!$B$5:$B$14=O$3)),\"\")","v":0},{"$f":"IF($B40<>\"\",SUMPRODUCT(1*(ORARIO!$H$5:$L$14=$B40)*(ORARIO!$B$5:$B$14=P$3)),\"\")","v":0},{"$f":"IF($B40<>\"\",SUMPRODUCT(1*(ORARIO!$H$5:$L$14=$B40)*(ORARIO!$B$5:$B$14=Q$3)),\"\")","v":0},{"$f":"IF($B40<>\"\",SUMPRODUCT(1*(ORARIO!$H$5:$L$14=$B40)*(ORARIO!$B$5:$B$14=R$3)),\"\")","v":0},{"$f":"IF($B40<>\"\",SUMPRODUCT(1*(ORARIO!$H$5:$L$14=$B40)*(ORARIO!$B$5:$B$14=S$3)),\"\")","v":0},null,{"$f":"IF($B40<>\"\",SUMPRODUCT(1*(ORARIO!$M$5:$Q$14=$B40)*(ORARIO!$B$5:$B$14=U$3)),\"\")","v":0},{"$f":"IF($B40<>\"\",SUMPRODUCT(1*(ORARIO!$M$5:$Q$14=$B40)*(ORARIO!$B$5:$B$14=V$3)),\"\")","v":0},{"$f":"IF($B40<>\"\",SUMPRODUCT(1*(ORARIO!$M$5:$Q$14=$B40)*(ORARIO!$B$5:$B$14=W$3)),\"\")","v":0},{"$f":"IF($B40<>\"\",SUMPRODUCT(1*(ORARIO!$M$5:$Q$14=$B40)*(ORARIO!$B$5:$B$14=X$3)),\"\")","v":0},{"$f":"IF($B40<>\"\",SUMPRODUCT(1*(ORARIO!$M$5:$Q$14=$B40)*(ORARIO!$B$5:$B$14=Y$3)),\"\")","v":0},{"$f":"IF($B40<>\"\",SUMPRODUCT(1*(ORARIO!$M$5:$Q$14=$B40)*(ORARIO!$B$5:$B$14=Z$3)),\"\")","v":0},{"$f":"IF($B40<>\"\",SUMPRODUCT(1*(ORARIO!$M$5:$Q$14=$B40)*(ORARIO!$B$5:$B$14=AA$3)),\"\")","v":0},{"$f":"IF($B40<>\"\",SUMPRODUCT(1*(ORARIO!$M$5:$Q$14=$B40)*(ORARIO!$B$5:$B$14=AB$3)),\"\")","v":0},null,{"$f":"IF($B40<>\"\",SUMPRODUCT(1*(ORARIO!$R$5:$V$14=$B40)*(ORARIO!$B$5:$B$14=AD$3)),\"\")","v":0},{"$f":"IF($B40<>\"\",SUMPRODUCT(1*(ORARIO!$R$5:$V$14=$B40)*(ORARIO!$B$5:$B$14=AE$3)),\"\")","v":0},{"$f":"IF($B40<>\"\",SUMPRODUCT(1*(ORARIO!$R$5:$V$14=$B40)*(ORARIO!$B$5:$B$14=AF$3)),\"\")","v":0},{"$f":"IF($B40<>\"\",SUMPRODUCT(1*(ORARIO!$R$5:$V$14=$B40)*(ORARIO!$B$5:$B$14=AG$3)),\"\")","v":0},{"$f":"IF($B40<>\"\",SUMPRODUCT(1*(ORARIO!$R$5:$V$14=$B40)*(ORARIO!$B$5:$B$14=AH$3)),\"\")","v":0},{"$f":"IF($B40<>\"\",SUMPRODUCT(1*(ORARIO!$R$5:$V$14=$B40)*(ORARIO!$B$5:$B$14=AI$3)),\"\")","v":0},{"$f":"IF($B40<>\"\",SUMPRODUCT(1*(ORARIO!$R$5:$V$14=$B40)*(ORARIO!$B$5:$B$14=AJ$3)),\"\")","v":0},{"$f":"IF($B40<>\"\",SUMPRODUCT(1*(ORARIO!$R$5:$V$14=$B40)*(ORARIO!$B$5:$B$14=AK$3)),\"\")","v":0},null,{"$f":"IF($B40<>\"\",SUMPRODUCT(1*(ORARIO!$W$5:$AA$14=$B40)*(ORARIO!$B$5:$B$14=AM$3)),\"\")","v":0},{"$f":"IF($B40<>\"\",SUMPRODUCT(1*(ORARIO!$W$5:$AA$14=$B40)*(ORARIO!$B$5:$B$14=AN$3)),\"\")","v":0},{"$f":"IF($B40<>\"\",SUMPRODUCT(1*(ORARIO!$W$5:$AA$14=$B40)*(ORARIO!$B$5:$B$14=AO$3)),\"\")","v":0},{"$f":"IF($B40<>\"\",SUMPRODUCT(1*(ORARIO!$W$5:$AA$14=$B40)*(ORARIO!$B$5:$B$14=AP$3)),\"\")","v":0},{"$f":"IF($B40<>\"\",SUMPRODUCT(1*(ORARIO!$W$5:$AA$14=$B40)*(ORARIO!$B$5:$B$14=AQ$3)),\"\")","v":0},{"$f":"IF($B40<>\"\",SUMPRODUCT(1*(ORARIO!$W$5:$AA$14=$B40)*(ORARIO!$B$5:$B$14=AR$3)),\"\")","v":0},{"$f":"IF($B40<>\"\",SUMPRODUCT(1*(ORARIO!$W$5:$AA$14=$B40)*(ORARIO!$B$5:$B$14=AS$3)),\"\")","v":0},{"$f":"IF($B40<>\"\",SUMPRODUCT(1*(ORARIO!$W$5:$AA$14=$B40)*(ORARIO!$B$5:$B$14=AT$3)),\"\")","v":0}]
[null,"D ita",{"$f":"IF($B$4<>\"\",SUMPRODUCT(1*(ORARIO!$C$5:$G$14=$B41)*(ORARIO!$B$5:$B$14=C$3)),\"\")","v":0},{"$f":"IF($B$4<>\"\",SUMPRODUCT(1*(ORARIO!$C$5:$G$14=$B41)*(ORARIO!$B$5:$B$14=D$3)),\"\")","v":0},{"$f":"IF($B$4<>\"\",SUMPRODUCT(1*(ORARIO!$C$5:$G$14=$B41)*(ORARIO!$B$5:$B$14=E$3)),\"\")","v":0},{"$f":"IF($B$4<>\"\",SUMPRODUCT(1*(ORARIO!$C$5:$G$14=$B41)*(ORARIO!$B$5:$B$14=F$3)),\"\")","v":0},{"$f":"IF($B$4<>\"\",SUMPRODUCT(1*(ORARIO!$C$5:$G$14=$B41)*(ORARIO!$B$5:$B$14=G$3)),\"\")","v":0},{"$f":"IF($B$4<>\"\",SUMPRODUCT(1*(ORARIO!$C$5:$G$14=$B41)*(ORARIO!$B$5:$B$14=H$3)),\"\")","v":0},{"$f":"IF($B$4<>\"\",SUMPRODUCT(1*(ORARIO!$C$5:$G$14=$B41)*(ORARIO!$B$5:$B$14=I$3)),\"\")","v":0},{"$f":"IF($B$4<>\"\",SUMPRODUCT(1*(ORARIO!$C$5:$G$14=$B41)*(ORARIO!$B$5:$B$14=J$3)),\"\")","v":0},null,{"$f":"IF($B41<>\"\",SUMPRODUCT(1*(ORARIO!$H$5:$L$14=$B41)*(ORARIO!$B$5:$B$14=L$3)),\"\")","v":0},{"$f":"IF($B41<>\"\",SUMPRODUCT(1*(ORARIO!$H$5:$L$14=$B41)*(ORARIO!$B$5:$B$14=M$3)),\"\")","v":0},{"$f":"IF($B41<>\"\",SUMPRODUCT(1*(ORARIO!$H$5:$L$14=$B41)*(ORARIO!$B$5:$B$14=N$3)),\"\")","v":0},{"$f":"IF($B41<>\"\",SUMPRODUCT(1*(ORARIO!$H$5:$L$14=$B41)*(ORARIO!$B$5:$B$14=O$3)),\"\")","v":0},{"$f":"IF($B41<>\"\",SUMPRODUCT(1*(ORARIO!$H$5:$L$14=$B41)*(ORARIO!$B$5:$B$14=P$3)),\"\")","v":0},{"$f":"IF($B41<>\"\",SUMPRODUCT(1*(ORARIO!$H$5:$L$14=$B41)*(ORARIO!$B$5:$B$14=Q$3)),\"\")","v":0},{"$f":"IF($B41<>\"\",SUMPRODUCT(1*(ORARIO!$H$5:$L$14=$B41)*(ORARIO!$B$5:$B$14=R$3)),\"\")","v":0},{"$f":"IF($B41<>\"\",SUMPRODUCT(1*(ORARIO!$H$5:$L$14=$B41)*(ORARIO!$B$5:$B$14=S$3)),\"\")","v":0},null,{"$f":"IF($B41<>\"\",SUMPRODUCT(1*(ORARIO!$M$5:$Q$14=$B41)*(ORARIO!$B$5:$B$14=U$3)),\"\")","v":0},{"$f":"IF($B41<>\"\",SUMPRODUCT(1*(ORARIO!$M$5:$Q$14=$B41)*(ORARIO!$B$5:$B$14=V$3)),\"\")","v":0},{"$f":"IF($B41<>\"\",SUMPRODUCT(1*(ORARIO!$M$5:$Q$14=$B41)*(ORARIO!$B$5:$B$14=W$3)),\"\")","v":0},{"$f":"IF($B41<>\"\",SUMPRODUCT(1*(ORARIO!$M$5:$Q$14=$B41)*(ORARIO!$B$5:$B$14=X$3)),\"\")","v":0},{"$f":"IF($B41<>\"\",SUMPRODUCT(1*(ORARIO!$M$5:$Q$14=$B41)*(ORARIO!$B$5:$B$14=Y$3)),\"\")","v":0},{"$f":"IF($B41<>\"\",SUMPRODUCT(1*(ORARIO!$M$5:$Q$14=$B41)*(ORARIO!$B$5:$B$14=Z$3)),\"\")","v":0},{"$f":"IF($B41<>\"\",SUMPRODUCT(1*(ORARIO!$M$5:$Q$14=$B41)*(ORARIO!$B$5:$B$14=AA$3)),\"\")","v":0},{"$f":"IF($B41<>\"\",SUMPRODUCT(1*(ORARIO!$M$5:$Q$14=$B41)*(ORARIO!$B$5:$B$14=AB$3)),\"\")","v":0},null,{"$f":"IF($B41<>\"\",SUMPRODUCT(1*(ORARIO!$R$5:$V$14=$B41)*(ORARIO!$B$5:$B$14=AD$3)),\"\")","v":0},{"$f":"IF($B41<>\"\",SUMPRODUCT(1*(ORARIO!$R$5:$V$14=$B41)*(ORARIO!$B$5:$B$14=AE$3)),\"\")","v":0},{"$f":"IF($B41<>\"\",SUMPRODUCT(1*(ORARIO!$R$5:$V$14=$B41)*(ORARIO!$B$5:$B$14=AF$3)),\"\")","v":0},{"$f":"IF($B41<>\"\",SUMPRODUCT(1*(ORARIO!$R$5:$V$14=$B41)*(ORARIO!$B$5:$B$14=AG$3)),\"\")","v":0},{"$f":"IF($B41<>\"\",SUMPRODUCT(1*(ORARIO!$R$5:$V$14=$B41)*(ORARIO!$B$5:$B$14=AH$3)),\"\")","v":0},{"$f":"IF($B41<>\"\",SUMPRODUCT(1*(ORARIO!$R$5:$V$14=$B41)*(ORARIO!$B$5:$B$14=AI$3)),\"\")","v":0},{"$f":"IF($B41<>\"\",SUMPRODUCT(1*(ORARIO!$R$5:$V$14=$B41)*(ORARIO!$B$5:$B$14=AJ$3)),\"\")","v":0},{"$f":"IF($B41<>\"\",SUMPRODUCT(1*(ORARIO!$R$5:$V$14=$B41)*(ORARIO!$B$5:$B$14=AK$3)),\"\")","v":0},null,{"$f":"IF($B41<>\"\",SUMPRODUCT(1*(ORARIO!$W$5:$AA$14=$B41)*(ORARIO!$B$5:$B$14=AM$3)),\"\")","v":0},{"$f":"IF($B41<>\"\",SUMPRODUCT(1*(ORARIO!$W$5:$AA$14=$B41)*(ORARIO!$B$5:$B$14=AN$3)),\"\")","v":0},{"$f":"IF($B41<>\"\",SUMPRODUCT(1*(ORARIO!$W$5:$AA$14=$B41)*(ORARIO!$B$5:$B$14=AO$3)),\"\")","v":0},{"$f":"IF($B41<>\"\",SUMPRODUCT(1*(ORARIO!$W$5:$AA$14=$B41)*(ORARIO!$B$5:$B$14=AP$3)),\"\")","v":0},{"$f":"IF($B41<>\"\",SUMPRODUCT(1*(ORARIO!$W$5:$AA$14=$B41)*(ORARIO!$B$5:$B$14=AQ$3)),\"\")","v":0},{"$f":"IF($B41<>\"\",SUMPRODUCT(1*(ORARIO!$W$5:$AA$14=$B41)*(ORARIO!$B$5:$B$14=AR$3)),\"\")","v":0},{"$f":"IF($B41<>\"\",SUMPRODUCT(1*(ORARIO!$W$5:$AA$14=$B41)*(ORARIO!$B$5:$B$14=AS$3)),\"\")","v":0},{"$f":"IF($B41<>\"\",SUMPRODUCT(1*(ORARIO!$W$5:$AA$14=$B41)*(ORARIO!$B$5:$B$14=AT$3)),\"\")","v":0}]
[null,"D ang",{"$f":"IF($B$4<>\"\",SUMPRODUCT(1*(ORARIO!$C$5:$G$14=$B42)*(ORARIO!$B$5:$B$14=C$3)),\"\")","v":0},{"$f":"IF($B$4<>\"\",SUMPRODUCT(1*(ORARIO!$C$5:$G$14=$B42)*(ORARIO!$B$5:$B$14=D$3)),\"\")","v":0},{"$f":"IF($B$4<>\"\",SUMPRODUCT(1*(ORARIO!$C$5:$G$14=$B42)*(ORARIO!$B$5:$B$14=E$3)),\"\")","v":0},{"$f":"IF($B$4<>\"\",SUMPRODUCT(1*(ORARIO!$C$5:$G$14=$B42)*(ORARIO!$B$5:$B$14=F$3)),\"\")","v":0},{"$f":"IF($B$4<>\"\",SUMPRODUCT(1*(ORARIO!$C$5:$G$14=$B42)*(ORARIO!$B$5:$B$14=G$3)),\"\")","v":0},{"$f":"IF($B$4<>\"\",SUMPRODUCT(1*(ORARIO!$C$5:$G$14=$B42)*(ORARIO!$B$5:$B$14=H$3)),\"\")","v":0},{"$f":"IF($B$4<>\"\",SUMPRODUCT(1*(ORARIO!$C$5:$G$14=$B42)*(ORARIO!$B$5:$B$14=I$3)),\"\")","v":0},{"$f":"IF($B$4<>\"\",SUMPRODUCT(1*(ORARIO!$C$5:$G$14=$B42)*(ORARIO!$B$5:$B$14=J$3)),\"\")","v":0},null,{"$f":"IF($B42<>\"\",SUMPRODUCT(1*(ORARIO!$H$5:$L$14=$B42)*(ORARIO!$B$5:$B$14=L$3)),\"\")","v":0},{"$f":"IF($B42<>\"\",SUMPRODUCT(1*(ORARIO!$H$5:$L$14=$B42)*(ORARIO!$B$5:$B$14=M$3)),\"\")","v":0},{"$f":"IF($B42<>\"\",SUMPRODUCT(1*(ORARIO!$H$5:$L$14=$B42)*(ORARIO!$B$5:$B$14=N$3)),\"\")","v":0},{"$f":"IF($B42<>\"\",SUMPRODUCT(1*(ORARIO!$H$5:$L$14=$B42)*(ORARIO!$B$5:$B$14=O$3)),\"\")","v":0},{"$f":"IF($B42<>\"\",SUMPRODUCT(1*(ORARIO!$H$5:$L$14=$B42)*(ORARIO!$B$5:$B$14=P$3)),\"\")","v":0},{"$f":"IF($B42<>\"\",SUMPRODUCT(1*(ORARIO!$H$5:$L$14=$B42)*(ORARIO!$B$5:$B$14=Q$3)),\"\")","v":0},{"$f":"IF($B42<>\"\",SUMPRODUCT(1*(ORARIO!$H$5:$L$14=$B42)*(ORARIO!$B$5:$B$14=R$3)),\"\")","v":0},{"$f":"IF($B42<>\"\",SUMPRODUCT(1*(ORARIO!$H$5:$L$14=$B42)*(ORARIO!$B$5:$B$14=S$3)),\"\")","v":0},null,{"$f":"IF($B42<>\"\",SUMPRODUCT(1*(ORARIO!$M$5:$Q$14=$B42)*(ORARIO!$B$5:$B$14=U$3)),\"\")","v":0},{"$f":"IF($B42<>\"\",SUMPRODUCT(1*(ORARIO!$M$5:$Q$14=$B42)*(ORARIO!$B$5:$B$14=V$3)),\"\")","v":0},{"$f":"IF($B42<>\"\",SUMPRODUCT(1*(ORARIO!$M$5:$Q$14=$B42)*(ORARIO!$B$5:$B$14=W$3)),\"\")","v":0},{"$f":"IF($B42<>\"\",SUMPRODUCT(1*(ORARIO!$M$5:$Q$14=$B42)*(ORARIO!$B$5:$B$14=X$3)),\"\")","v":0},{"$f":"IF($B42<>\"\",SUMPRODUCT(1*(ORARIO!$M$5:$Q$14=$B42)*(ORARIO!$B$5:$B$14=Y$3)),\"\")","v":0},{"$f":"IF($B42<>\"\",SUMPRODUCT(1*(ORARIO!$M$5:$Q$14=$B42)*(ORARIO!$B$5:$B$14=Z$3)),\"\")","v":0},{"$f":"IF($B42<>\"\",SUMPRODUCT(1*(ORARIO!$M$5:$Q$14=$B42)*(ORARIO!$B$5:$B$14=AA$3)),\"\")","v":0},{"$f":"IF($B42<>\"\",SUMPRODUCT(1*(ORARIO!$M$5:$Q$14=$B42)*(ORARIO!$B$5:$B$14=AB$3)),\"\")","v":0},null,{"$f":"IF($B42<>\"\",SUMPRODUCT(1*(ORARIO!$R$5:$V$14=$B42)*(ORARIO!$B$5:$B$14=AD$3)),\"\")","v":0},{"$f":"IF($B42<>\"\",SUMPRODUCT(1*(ORARIO!$R$5:$V$14=$B42)*(ORARIO!$B$5:$B$14=AE$3)),\"\")","v":0},{"$f":"IF($B42<>\"\",SUMPRODUCT(1*(ORARIO!$R$5:$V$14=$B42)*(ORARIO!$B$5:$B$14=AF$3)),\"\")","v":0},{"$f":"IF($B42<>\"\",SUMPRODUCT(1*(ORARIO!$R$5:$V$14=$B42)*(ORARIO!$B$5:$B$14=AG$3)),\"\")","v":0},{"$f":"IF($B42<>\"\",SUMPRODUCT(1*(ORARIO!$R$5:$V$14=$B42)*(ORARIO!$B$5:$B$14=AH$3)),\"\")","v":0},{"$f":"IF($B42<>\"\",SUMPRODUCT(1*(ORARIO!$R$5:$V$14=$B42)*(ORARIO!$B$5:$B$14=AI$3)),\"\")","v":0},{"$f":"IF($B42<>\"\",SUMPRODUCT(1*(ORARIO!$R$5:$V$14=$B42)*(ORARIO!$B$5:$B$14=AJ$3)),\"\")","v":0},{"$f":"IF($B42<>\"\",SUMPRODUCT(1*(ORARIO!$R$5:$V$14=$B42)*(ORARIO!$B$5:$B$14=AK$3)),\"\")","v":0},null,{"$f":"IF($B42<>\"\",SUMPRODUCT(1*(ORARIO!$W$5:$AA$14=$B42)*(ORARIO!$B$5:$B$14=AM$3)),\"\")","v":0},{"$f":"IF($B42<>\"\",SUMPRODUCT(1*(ORARIO!$W$5:$AA$14=$B42)*(ORARIO!$B$5:$B$14=AN$3)),\"\")","v":0},{"$f":"IF($B42<>\"\",SUMPRODUCT(1*(ORARIO!$W$5:$AA$14=$B42)*(ORARIO!$B$5:$B$14=AO$3)),\"\")","v":0},{"$f":"IF($B42<>\"\",SUMPRODUCT(1*(ORARIO!$W$5:$AA$14=$B42)*(ORARIO!$B$5:$B$14=AP$3)),\"\")","v":0},{"$f":"IF($B42<>\"\",SUMPRODUCT(1*(ORARIO!$W$5:$AA$14=$B42)*(ORARIO!$B$5:$B$14=AQ$3)),\"\")","v":0},{"$f":"IF($B42<>\"\",SUMPRODUCT(1*(ORARIO!$W$5:$AA$14=$B42)*(ORARIO!$B$5:$B$14=AR$3)),\"\")","v":0},{"$f":"IF($B42<>\"\",SUMPRODUCT(1*(ORARIO!$W$5:$AA$14=$B42)*(ORARIO!$B$5:$B$14=AS$3)),\"\")","v":0},{"$f":"IF($B42<>\"\",SUMPRODUCT(1*(ORARIO!$W$5:$AA$14=$B42)*(ORARIO!$B$5:$B$14=AT$3)),\"\")","v":0}]
[null,"D mat",{"$f":"IF($B$4<>\"\",SUMPRODUCT(1*(ORARIO!$C$5:$G$14=$B43)*(ORARIO!$B$5:$B$14=C$3)),\"\")","v":0},{"$f":"IF($B$4<>\"\",SUMPRODUCT(1*(ORARIO!$C$5:$G$14=$B43)*(ORARIO!$B$5:$B$14=D$3)),\"\")","v":0},{"$f":"IF($B$4<>\"\",SUMPRODUCT(1*(ORARIO!$C$5:$G$14=$B43)*(ORARIO!$B$5:$B$14=E$3)),\"\")","v":0},{"$f":"IF($B$4<>\"\",SUMPRODUCT(1*(ORARIO!$C$5:$G$14=$B43)*(ORARIO!$B$5:$B$14=F$3)),\"\")","v":0},{"$f":"IF($B$4<>\"\",SUMPRODUCT(1*(ORARIO!$C$5:$G$14=$B43)*(ORARIO!$B$5:$B$14=G$3)),\"\")","v":0},{"$f":"IF($B$4<>\"\",SUMPRODUCT(1*(ORARIO!$C$5:$G$14=$B43)*(ORARIO!$B$5:$B$14=H$3)),\"\")","v":0},{"$f":"IF($B$4<>\"\",SUMPRODUCT(1*(ORARIO!$C$5:$G$14=$B43)*(ORARIO!$B$5:$B$14=I$3)),\"\")","v":0},{"$f":"IF($B$4<>\"\",SUMPRODUCT(1*(ORARIO!$C$5:$G$14=$B43)*(ORARIO!$B$5:$B$14=J$3)),\"\")","v":0},null,{"$f":"IF($B43<>\"\",SUMPRODUCT(1*(ORARIO!$H$5:$L$14=$B43)*(ORARIO!$B$5:$B$14=L$3)),\"\")","v":0},{"$f":"IF($B43<>\"\",SUMPRODUCT(1*(ORARIO!$H$5:$L$14=$B43)*(ORARIO!$B$5:$B$14=M$3)),\"\")","v":0},{"$f":"IF($B43<>\"\",SUMPRODUCT(1*(ORARIO!$H$5:$L$14=$B43)*(ORARIO!$B$5:$B$14=N$3)),\"\")","v":0},{"$f":"IF($B43<>\"\",SUMPRODUCT(1*(ORARIO!$H$5:$L$14=$B43)*(ORARIO!$B$5:$B$14=O$3)),\"\")","v":0},{"$f":"IF($B43<>\"\",SUMPRODUCT(1*(ORARIO!$H$5:$L$14=$B43)*(ORARIO!$B$5:$B$14=P$3)),\"\")","v":0},{"$f":"IF($B43<>\"\",SUMPRODUCT(1*(ORARIO!$H$5:$L$14=$B43)*(ORARIO!$B$5:$B$14=Q$3)),\"\")","v":0},{"$f":"IF($B43<>\"\",SUMPRODUCT(1*(ORARIO!$H$5:$L$14=$B43)*(ORARIO!$B$5:$B$14=R$3)),\"\")","v":0},{"$f":"IF($B43<>\"\",SUMPRODUCT(1*(ORARIO!$H$5:$L$14=$B43)*(ORARIO!$B$5:$B$14=S$3)),\"\")","v":0},null,{"$f":"IF($B43<>\"\",SUMPRODUCT(1*(ORARIO!$M$5:$Q$14=$B43)*(ORARIO!$B$5:$B$14=U$3)),\"\")","v":0},{"$f":"IF($B43<>\"\",SUMPRODUCT(1*(ORARIO!$M$5:$Q$14=$B43)*(ORARIO!$B$5:$B$14=V$3)),\"\")","v":0},{"$f":"IF($B43<>\"\",SUMPRODUCT(1*(ORARIO!$M$5:$Q$14=$B43)*(ORARIO!$B$5:$B$14=W$3)),\"\")","v":0},{"$f":"IF($B43<>\"\",SUMPRODUCT(1*(ORARIO!$M$5:$Q$14=$B43)*(ORARIO!$B$5:$B$14=X$3)),\"\")","v":0},{"$f":"IF($B43<>\"\",SUMPRODUCT(1*(ORARIO!$M$5:$Q$14=$B43)*(ORARIO!$B$5:$B$14=Y$3)),\"\")","v":0},{"$f":"IF($B43<>\"\",SUMPRODUCT(1*(ORARIO!$M$5:$Q$14=$B43)*(ORARIO!$B$5:$B$14=Z$3)),\"\")","v":0},{"$f":"IF($B43<>\"\",SUMPRODUCT(1*(ORARIO!$M$5:$Q$14=$B43)*(ORARIO!$B$5:$B$14=AA$3)),\"\")","v":0},{"$f":"IF($B43<>\"\",SUMPRODUCT(1*(ORARIO!$M$5:$Q$14=$B43)*(ORARIO!$B$5:$B$14=AB$3)),\"\")","v":0},null,{"$f":"IF($B43<>\"\",SUMPRODUCT(1*(ORARIO!$R$5:$V$14=$B43)*(ORARIO!$B$5:$B$14=AD$3)),\"\")","v":0},{"$f":"IF($B43<>\"\",SUMPRODUCT(1*(ORARIO!$R$5:$V$14=$B43)*(ORARIO!$B$5:$B$14=AE$3)),\"\")","v":0},{"$f":"IF($B43<>\"\",SUMPRODUCT(1*(ORARIO!$R$5:$V$14=$B43)*(ORARIO!$B$5:$B$14=AF$3)),\"\")","v":0},{"$f":"IF($B43<>\"\",SUMPRODUCT(1*(ORARIO!$R$5:$V$14=$B43)*(ORARIO!$B$5:$B$14=AG$3)),\"\")","v":0},{"$f":"IF($B43<>\"\",SUMPRODUCT(1*(ORARIO!$R$5:$V$14=$B43)*(ORARIO!$B$5:$B$14=AH$3)),\"\")","v":0},{"$f":"IF($B43<>\"\",SUMPRODUCT(1*(ORARIO!$R$5:$V$14=$B43)*(ORARIO!$B$5:$B$14=AI$3)),\"\")","v":0},{"$f":"IF($B43<>\"\",SUMPRODUCT(1*(ORARIO!$R$5:$V$14=$B43)*(ORARIO!$B$5:$B$14=AJ$3)),\"\")","v":0},{"$f":"IF($B43<>\"\",SUMPRODUCT(1*(ORARIO!$R$5:$V$14=$B43)*(ORARIO!$B$5:$B$14=AK$3)),\"\")","v":0},null,{"$f":"IF($B43<>\"\",SUMPRODUCT(1*(ORARIO!$W$5:$AA$14=$B43)*(ORARIO!$B$5:$B$14=AM$3)),\"\")","v":0},{"$f":"IF($B43<>\"\",SUMPRODUCT(1*(ORARIO!$W$5:$AA$14=$B43)*(ORARIO!$B$5:$B$14=AN$3)),\"\")","v":0},{"$f":"IF($B43<>\"\",SUMPRODUCT(1*(ORARIO!$W$5:$AA$14=$B43)*(ORARIO!$B$5:$B$14=AO$3)),\"\")","v":0},{"$f":"IF($B43<>\"\",SUMPRODUCT(1*(ORARIO!$W$5:$AA$14=$B43)*(ORARIO!$B$5:$B$14=AP$3)),\"\")","v":0},{"$f":"IF($B43<>\"\",SUMPRODUCT(1*(ORARIO!$W$5:$AA$14=$B43)*(ORARIO!$B$5:$B$14=AQ$3)),\"\")","v":0},{"$f":"IF($B43<>\"\",SUMPRODUCT(1*(ORARIO!$W$5:$AA$14=$B43)*(ORARIO!$B$5:$B$14=AR$3)),\"\")","v":0},{"$f":"IF($B43<>\"\",SUMPRODUCT(1*(ORARIO!$W$5:$AA$14=$B43)*(ORARIO!$B$5:$B$14=AS$3)),\"\")","v":0},{"$f":"IF($B43<>\"\",SUMPRODUCT(1*(ORARIO!$W$5:$AA$14=$B43)*(ORARIO!$B$5:$B$14=AT$3)),\"\")","v":0}]
[null,"D nar",{"$f":"IF($B$4<>\"\",SUMPRODUCT(1*(ORARIO!$C$5:$G$14=$B44)*(ORARIO!$B$5:$B$14=C$3)),\"\")","v":0},{"$f":"IF($B$4<>\"\",SUMPRODUCT(1*(ORARIO!$C$5:$G$14=$B44)*(ORARIO!$B$5:$B$14=D$3)),\"\")","v":0},{"$f":"IF($B$4<>\"\",SUMPRODUCT(1*(ORARIO!$C$5:$G$14=$B44)*(ORARIO!$B$5:$B$14=E$3)),\"\")","v":0},{"$f":"IF($B$4<>\"\",SUMPRODUCT(1*(ORARIO!$C$5:$G$14=$B44)*(ORARIO!$B$5:$B$14=F$3)),\"\")","v":0},{"$f":"IF($B$4<>\"\",SUMPRODUCT(1*(ORARIO!$C$5:$G$14=$B44)*(ORARIO!$B$5:$B$14=G$3)),\"\")","v":0},{"$f":"IF($B$4<>\"\",SUMPRODUCT(1*(ORARIO!$C$5:$G$14=$B44)*(ORARIO!$B$5:$B$14=H$3)),\"\")","v":0},{"$f":"IF($B$4<>\"\",SUMPRODUCT(1*(ORARIO!$C$5:$G$14=$B44)*(ORARIO!$B$5:$B$14=I$3)),\"\")","v":0},{"$f":"IF($B$4<>\"\",SUMPRODUCT(1*(ORARIO!$C$5:$G$14=$B44)*(ORARIO!$B$5:$B$14=J$3)),\"\")","v":0},null,{"$f":"IF($B44<>\"\",SUMPRODUCT(1*(ORARIO!$H$5:$L$14=$B44)*(ORARIO!$B$5:$B$14=L$3)),\"\")","v":0},{"$f":"IF($B44<>\"\",SUMPRODUCT(1*(ORARIO!$H$5:$L$14=$B44)*(ORARIO!$B$5:$B$14=M$3)),\"\")","v":0},{"$f":"IF($B44<>\"\",SUMPRODUCT(1*(ORARIO!$H$5:$L$14=$B44)*(ORARIO!$B$5:$B$14=N$3)),\"\")","v":0},{"$f":"IF($B44<>\"\",SUMPRODUCT(1*(ORARIO!$H$5:$L$14=$B44)*(ORARIO!$B$5:$B$14=O$3)),\"\")","v":0},{"$f":"IF($B44<>\"\",SUMPRODUCT(1*(ORARIO!$H$5:$L$14=$B44)*(ORARIO!$B$5:$B$14=P$3)),\"\")","v":0},{"$f":"IF($B44<>\"\",SUMPRODUCT(1*(ORARIO!$H$5:$L$14=$B44)*(ORARIO!$B$5:$B$14=Q$3)),\"\")","v":0},{"$f":"IF($B44<>\"\",SUMPRODUCT(1*(ORARIO!$H$5:$L$14=$B44)*(ORARIO!$B$5:$B$14=R$3)),\"\")","v":0},{"$f":"IF($B44<>\"\",SUMPRODUCT(1*(ORARIO!$H$5:$L$14=$B44)*(ORARIO!$B$5:$B$14=S$3)),\"\")","v":0},null,{"$f":"IF($B44<>\"\",SUMPRODUCT(1*(ORARIO!$M$5:$Q$14=$B44)*(ORARIO!$B$5:$B$14=U$3)),\"\")","v":0},{"$f":"IF($B44<>\"\",SUMPRODUCT(1*(ORARIO!$M$5:$Q$14=$B44)*(ORARIO!$B$5:$B$14=V$3)),\"\")","v":0},{"$f":"IF($B44<>\"\",SUMPRODUCT(1*(ORARIO!$M$5:$Q$14=$B44)*(ORARIO!$B$5:$B$14=W$3)),\"\")","v":0},{"$f":"IF($B44<>\"\",SUMPRODUCT(1*(ORARIO!$M$5:$Q$14=$B44)*(ORARIO!$B$5:$B$14=X$3)),\"\")","v":0},{"$f":"IF($B44<>\"\",SUMPRODUCT(1*(ORARIO!$M$5:$Q$14=$B44)*(ORARIO!$B$5:$B$14=Y$3)),\"\")","v":0},{"$f":"IF($B44<>\"\",SUMPRODUCT(1*(ORARIO!$M$5:$Q$14=$B44)*(ORARIO!$B$5:$B$14=Z$3)),\"\")","v":0},{"$f":"IF($B44<>\"\",SUMPRODUCT(1*(ORARIO!$M$5:$Q$14=$B44)*(ORARIO!$B$5:$B$14=AA$3)),\"\")","v":0},{"$f":"IF($B44<>\"\",SUMPRODUCT(1*(ORARIO!$M$5:$Q$14=$B44)*(ORARIO!$B$5:$B$14=AB$3)),\"\")","v":0},null,{"$f":"IF($B44<>\"\",SUMPRODUCT(1*(ORARIO!$R$5:$V$14=$B44)*(ORARIO!$B$5:$B$14=AD$3)),\"\")","v":0},{"$f":"IF($B44<>\"\",SUMPRODUCT(1*(ORARIO!$R$5:$V$14=$B44)*(ORARIO!$B$5:$B$14=AE$3)),\"\")","v":0},{"$f":"IF($B44<>\"\",SUMPRODUCT(1*(ORARIO!$R$5:$V$14=$B44)*(ORARIO!$B$5:$B$14=AF$3)),\"\")","v":0},{"$f":"IF($B44<>\"\",SUMPRODUCT(1*(ORARIO!$R$5:$V$14=$B44)*(ORARIO!$B$5:$B$14=AG$3)),\"\")","v":0},{"$f":"IF($B44<>\"\",SUMPRODUCT(1*(ORARIO!$R$5:$V$14=$B44)*(ORARIO!$B$5:$B$14=AH$3)),\"\")","v":0},{"$f":"IF($B44<>\"\",SUMPRODUCT(1*(ORARIO!$R$5:$V$14=$B44)*(ORARIO!$B$5:$B$14=AI$3)),\"\")","v":0},{"$f":"IF($B44<>\"\",SUMPRODUCT(1*(ORARIO!$R$5:$V$14=$B44)*(ORARIO!$B$5:$B$14=AJ$3)),\"\")","v":0},{"$f":"IF($B44<>\"\",SUMPRODUCT(1*(ORARIO!$R$5:$V$14=$B44)*(ORARIO!$B$5:$B$14=AK$3)),\"\")","v":0},null,{"$f":"IF($B44<>\"\",SUMPRODUCT(1*(ORARIO!$W$5:$AA$14=$B44)*(ORARIO!$B$5:$B$14=AM$3)),\"\")","v":0},{"$f":"IF($B44<>\"\",SUMPRODUCT(1*(ORARIO!$W$5:$AA$14=$B44)*(ORARIO!$B$5:$B$14=AN$3)),\"\")","v":0},{"$f":"IF($B44<>\"\",SUMPRODUCT(1*(ORARIO!$W$5:$AA$14=$B44)*(ORARIO!$B$5:$B$14=AO$3)),\"\")","v":0},{"$f":"IF($B44<>\"\",SUMPRODUCT(1*(ORARIO!$W$5:$AA$14=$B44)*(ORARIO!$B$5:$B$14=AP$3)),\"\")","v":0},{"$f":"IF($B44<>\"\",SUMPRODUCT(1*(ORARIO!$W$5:$AA$14=$B44)*(ORARIO!$B$5:$B$14=AQ$3)),\"\")","v":0},{"$f":"IF($B44<>\"\",SUMPRODUCT(1*(ORARIO!$W$5:$AA$14=$B44)*(ORARIO!$B$5:$B$14=AR$3)),\"\")","v":0},{"$f":"IF($B44<>\"\",SUMPRODUCT(1*(ORARIO!$W$5:$AA$14=$B44)*(ORARIO!$B$5:$B$14=AS$3)),\"\")","v":0},{"$f":"IF($B44<>\"\",SUMPRODUCT(1*(ORARIO!$W$5:$AA$14=$B44)*(ORARIO!$B$5:$B$14=AT$3)),\"\")","v":0}]
[null,"D zgo",{"$f":"IF($B$4<>\"\",SUMPRODUCT(1*(ORARIO!$C$5:$G$14=$B45)*(ORARIO!$B$5:$B$14=C$3)),\"\")","v":0},{"$f":"IF($B$4<>\"\",SUMPRODUCT(1*(ORARIO!$C$5:$G$14=$B45)*(ORARIO!$B$5:$B$14=D$3)),\"\")","v":0},{"$f":"IF($B$4<>\"\",SUMPRODUCT(1*(ORARIO!$C$5:$G$14=$B45)*(ORARIO!$B$5:$B$14=E$3)),\"\")","v":0},{"$f":"IF($B$4<>\"\",SUMPRODUCT(1*(ORARIO!$C$5:$G$14=$B45)*(ORARIO!$B$5:$B$14=F$3)),\"\")","v":0},{"$f":"IF($B$4<>\"\",SUMPRODUCT(1*(ORARIO!$C$5:$G$14=$B45)*(ORARIO!$B$5:$B$14=G$3)),\"\")","v":0},{"$f":"IF($B$4<>\"\",SUMPRODUCT(1*(ORARIO!$C$5:$G$14=$B45)*(ORARIO!$B$5:$B$14=H$3)),\"\")","v":0},{"$f":"IF($B$4<>\"\",SUMPRODUCT(1*(ORARIO!$C$5:$G$14=$B45)*(ORARIO!$B$5:$B$14=I$3)),\"\")","v":0},{"$f":"IF($B$4<>\"\",SUMPRODUCT(1*(ORARIO!$C$5:$G$14=$B45)*(ORARIO!$B$5:$B$14=J$3)),\"\")","v":0},null,{"$f":"IF($B45<>\"\",SUMPRODUCT(1*(ORARIO!$H$5:$L$14=$B45)*(ORARIO!$B$5:$B$14=L$3)),\"\")","v":0},{"$f":"IF($B45<>\"\",SUMPRODUCT(1*(ORARIO!$H$5:$L$14=$B45)*(ORARIO!$B$5:$B$14=M$3)),\"\")","v":0},{"$f":"IF($B45<>\"\",SUMPRODUCT(1*(ORARIO!$H$5:$L$14=$B45)*(ORARIO!$B$5:$B$14=N$3)),\"\")","v":0},{"$f":"IF($B45<>\"\",SUMPRODUCT(1*(ORARIO!$H$5:$L$14=$B45)*(ORARIO!$B$5:$B$14=O$3)),\"\")","v":0},{"$f":"IF($B45<>\"\",SUMPRODUCT(1*(ORARIO!$H$5:$L$14=$B45)*(ORARIO!$B$5:$B$14=P$3)),\"\")","v":0},{"$f":"IF($B45<>\"\",SUMPRODUCT(1*(ORARIO!$H$5:$L$14=$B45)*(ORARIO!$B$5:$B$14=Q$3)),\"\")","v":0},{"$f":"IF($B45<>\"\",SUMPRODUCT(1*(ORARIO!$H$5:$L$14=$B45)*(ORARIO!$B$5:$B$14=R$3)),\"\")","v":0},{"$f":"IF($B45<>\"\",SUMPRODUCT(1*(ORARIO!$H$5:$L$14=$B45)*(ORARIO!$B$5:$B$14=S$3)),\"\")","v":0},null,{"$f":"IF($B45<>\"\",SUMPRODUCT(1*(ORARIO!$M$5:$Q$14=$B45)*(ORARIO!$B$5:$B$14=U$3)),\"\")","v":0},{"$f":"IF($B45<>\"\",SUMPRODUCT(1*(ORARIO!$M$5:$Q$14=$B45)*(ORARIO!$B$5:$B$14=V$3)),\"\")","v":0},{"$f":"IF($B45<>\"\",SUMPRODUCT(1*(ORARIO!$M$5:$Q$14=$B45)*(ORARIO!$B$5:$B$14=W$3)),\"\")","v":0},{"$f":"IF($B45<>\"\",SUMPRODUCT(1*(ORARIO!$M$5:$Q$14=$B45)*(ORARIO!$B$5:$B$14=X$3)),\"\")","v":0},{"$f":"IF($B45<>\"\",SUMPRODUCT(1*(ORARIO!$M$5:$Q$14=$B45)*(ORARIO!$B$5:$B$14=Y$3)),\"\")","v":0},{"$f":"IF($B45<>\"\",SUMPRODUCT(1*(ORARIO!$M$5:$Q$14=$B45)*(ORARIO!$B$5:$B$14=Z$3)),\"\")","v":0},{"$f":"IF($B45<>\"\",SUMPRODUCT(1*(ORARIO!$M$5:$Q$14=$B45)*(ORARIO!$B$5:$B$14=AA$3)),\"\")","v":0},{"$f":"IF($B45<>\"\",SUMPRODUCT(1*(ORARIO!$M$5:$Q$14=$B45)*(ORARIO!$B$5:$B$14=AB$3)),\"\")","v":0},null,{"$f":"IF($B45<>\"\",SUMPRODUCT(1*(ORARIO!$R$5:$V$14=$B45)*(ORARIO!$B$5:$B$14=AD$3)),\"\")","v":0},{"$f":"IF($B45<>\"\",SUMPRODUCT(1*(ORARIO!$R$5:$V$14=$B45)*(ORARIO!$B$5:$B$14=AE$3)),\"\")","v":0},{"$f":"IF($B45<>\"\",SUMPRODUCT(1*(ORARIO!$R$5:$V$14=$B45)*(ORARIO!$B$5:$B$14=AF$3)),\"\")","v":0},{"$f":"IF($B45<>\"\",SUMPRODUCT(1*(ORARIO!$R$5:$V$14=$B45)*(ORARIO!$B$5:$B$14=AG$3)),\"\")","v":0},{"$f":"IF($B45<>\"\",SUMPRODUCT(1*(ORARIO!$R$5:$V$14=$B45)*(ORARIO!$B$5:$B$14=AH$3)),\"\")","v":0},{"$f":"IF($B45<>\"\",SUMPRODUCT(1*(ORARIO!$R$5:$V$14=$B45)*(ORARIO!$B$5:$B$14=AI$3)),\"\")","v":0},{"$f":"IF($B45<>\"\",SUMPRODUCT(1*(ORARIO!$R$5:$V$14=$B45)*(ORARIO!$B$5:$B$14=AJ$3)),\"\")","v":0},{"$f":"IF($B45<>\"\",SUMPRODUCT(1*(ORARIO!$R$5:$V$14=$B45)*(ORARIO!$B$5:$B$14=AK$3)),\"\")","v":0},null,{"$f":"IF($B45<>\"\",SUMPRODUCT(1*(ORARIO!$W$5:$AA$14=$B45)*(ORARIO!$B$5:$B$14=AM$3)),\"\")","v":0},{"$f":"IF($B45<>\"\",SUMPRODUCT(1*(ORARIO!$W$5:$AA$14=$B45)*(ORARIO!$B$5:$B$14=AN$3)),\"\")","v":0},{"$f":"IF($B45<>\"\",SUMPRODUCT(1*(ORARIO!$W$5:$AA$14=$B45)*(ORARIO!$B$5:$B$14=AO$3)),\"\")","v":0},{"$f":"IF($B45<>\"\",SUMPRODUCT(1*(ORARIO!$W$5:$AA$14=$B45)*(ORARIO!$B$5:$B$14=AP$3)),\"\")","v":0},{"$f":"IF($B45<>\"\",SUMPRODUCT(1*(ORARIO!$W$5:$AA$14=$B45)*(ORARIO!$B$5:$B$14=AQ$3)),\"\")","v":0},{"$f":"IF($B45<>\"\",SUMPRODUCT(1*(ORARIO!$W$5:$AA$14=$B45)*(ORARIO!$B$5:$B$14=AR$3)),\"\")","v":0},{"$f":"IF($B45<>\"\",SUMPRODUCT(1*(ORARIO!$W$5:$AA$14=$B45)*(ORARIO!$B$5:$B$14=AS$3)),\"\")","v":0},{"$f":"IF($B45<>\"\",SUMPRODUCT(1*(ORARIO!$W$5:$AA$14=$B45)*(ORARIO!$B$5:$B$14=AT$3)),\"\")","v":0}]
[null,"D geo",{"$f":"IF($B$4<>\"\",SUMPRODUCT(1*(ORARIO!$C$5:$G$14=$B46)*(ORARIO!$B$5:$B$14=C$3)),\"\")","v":0},{"$f":"IF($B$4<>\"\",SUMPRODUCT(1*(ORARIO!$C$5:$G$14=$B46)*(ORARIO!$B$5:$B$14=D$3)),\"\")","v":0},{"$f":"IF($B$4<>\"\",SUMPRODUCT(1*(ORARIO!$C$5:$G$14=$B46)*(ORARIO!$B$5:$B$14=E$3)),\"\")","v":0},{"$f":"IF($B$4<>\"\",SUMPRODUCT(1*(ORARIO!$C$5:$G$14=$B46)*(ORARIO!$B$5:$B$14=F$3)),\"\")","v":0},{"$f":"IF($B$4<>\"\",SUMPRODUCT(1*(ORARIO!$C$5:$G$14=$B46)*(ORARIO!$B$5:$B$14=G$3)),\"\")","v":0},{"$f":"IF($B$4<>\"\",SUMPRODUCT(1*(ORARIO!$C$5:$G$14=$B46)*(ORARIO!$B$5:$B$14=H$3)),\"\")","v":0},{"$f":"IF($B$4<>\"\",SUMPRODUCT(1*(ORARIO!$C$5:$G$14=$B46)*(ORARIO!$B$5:$B$14=I$3)),\"\")","v":0},{"$f":"IF($B$4<>\"\",SUMPRODUCT(1*(ORARIO!$C$5:$G$14=$B46)*(ORARIO!$B$5:$B$14=J$3)),\"\")","v":0},null,{"$f":"IF($B46<>\"\",SUMPRODUCT(1*(ORARIO!$H$5:$L$14=$B46)*(ORARIO!$B$5:$B$14=L$3)),\"\")","v":0},{"$f":"IF($B46<>\"\",SUMPRODUCT(1*(ORARIO!$H$5:$L$14=$B46)*(ORARIO!$B$5:$B$14=M$3)),\"\")","v":0},{"$f":"IF($B46<>\"\",SUMPRODUCT(1*(ORARIO!$H$5:$L$14=$B46)*(ORARIO!$B$5:$B$14=N$3)),\"\")","v":0},{"$f":"IF($B46<>\"\",SUMPRODUCT(1*(ORARIO!$H$5:$L$14=$B46)*(ORARIO!$B$5:$B$14=O$3)),\"\")","v":0},{"$f":"IF($B46<>\"\",SUMPRODUCT(1*(ORARIO!$H$5:$L$14=$B46)*(ORARIO!$B$5:$B$14=P$3)),\"\")","v":0},{"$f":"IF($B46<>\"\",SUMPRODUCT(1*(ORARIO!$H$5:$L$14=$B46)*(ORARIO!$B$5:$B$14=Q$3)),\"\")","v":0},{"$f":"IF($B46<>\"\",SUMPRODUCT(1*(ORARIO!$H$5:$L$14=$B46)*(ORARIO!$B$5:$B$14=R$3)),\"\")","v":0},{"$f":"IF($B46<>\"\",SUMPRODUCT(1*(ORARIO!$H$5:$L$14=$B46)*(ORARIO!$B$5:$B$14=S$3)),\"\")","v":0},null,{"$f":"IF($B46<>\"\",SUMPRODUCT(1*(ORARIO!$M$5:$Q$14=$B46)*(ORARIO!$B$5:$B$14=U$3)),\"\")","v":0},{"$f":"IF($B46<>\"\",SUMPRODUCT(1*(ORARIO!$M$5:$Q$14=$B46)*(ORARIO!$B$5:$B$14=V$3)),\"\")","v":0},{"$f":"IF($B46<>\"\",SUMPRODUCT(1*(ORARIO!$M$5:$Q$14=$B46)*(ORARIO!$B$5:$B$14=W$3)),\"\")","v":0},{"$f":"IF($B46<>\"\",SUMPRODUCT(1*(ORARIO!$M$5:$Q$14=$B46)*(ORARIO!$B$5:$B$14=X$3)),\"\")","v":0},{"$f":"IF($B46<>\"\",SUMPRODUCT(1*(ORARIO!$M$5:$Q$14=$B46)*(ORARIO!$B$5:$B$14=Y$3)),\"\")","v":0},{"$f":"IF($B46<>\"\",SUMPRODUCT(1*(ORARIO!$M$5:$Q$14=$B46)*(ORARIO!$B$5:$B$14=Z$3)),\"\")","v":0},{"$f":"IF($B46<>\"\",SUMPRODUCT(1*(ORARIO!$M$5:$Q$14=$B46)*(ORARIO!$B$5:$B$14=AA$3)),\"\")","v":0},{"$f":"IF($B46<>\"\",SUMPRODUCT(1*(ORARIO!$M$5:$Q$14=$B46)*(ORARIO!$B$5:$B$14=AB$3)),\"\")","v":0},null,{"$f":"IF($B46<>\"\",SUMPRODUCT(1*(ORARIO!$R$5:$V$14=$B46)*(ORARIO!$B$5:$B$14=AD$3)),\"\")","v":0},{"$f":"IF($B46<>\"\",SUMPRODUCT(1*(ORARIO!$R$5:$V$14=$B46)*(ORARIO!$B$5:$B$14=AE$3)),\"\")","v":0},{"$f":"IF($B46<>\"\",SUMPRODUCT(1*(ORARIO!$R$5:$V$14=$B46)*(ORARIO!$B$5:$B$14=AF$3)),\"\")","v":0},{"$f":"IF($B46<>\"\",SUMPRODUCT(1*(ORARIO!$R$5:$V$14=$B46)*(ORARIO!$B$5:$B$14=AG$3)),\"\")","v":0},{"$f":"IF($B46<>\"\",SUMPRODUCT(1*(ORARIO!$R$5:$V$14=$B46)*(ORARIO!$B$5:$B$14=AH$3)),\"\")","v":0},{"$f":"IF($B46<>\"\",SUMPRODUCT(1*(ORARIO!$R$5:$V$14=$B46)*(ORARIO!$B$5:$B$14=AI$3)),\"\")","v":0},{"$f":"IF($B46<>\"\",SUMPRODUCT(1*(ORARIO!$R$5:$V$14=$B46)*(ORARIO!$B$5:$B$14=AJ$3)),\"\")","v":0},{"$f":"IF($B46<>\"\",SUMPRODUCT(1*(ORARIO!$R$5:$V$14=$B46)*(ORARIO!$B$5:$B$14=AK$3)),\"\")","v":0},null,{"$f":"IF($B46<>\"\",SUMPRODUCT(1*(ORARIO!$W$5:$AA$14=$B46)*(ORARIO!$B$5:$B$14=AM$3)),\"\")","v":0},{"$f":"IF($B46<>\"\",SUMPRODUCT(1*(ORARIO!$W$5:$AA$14=$B46)*(ORARIO!$B$5:$B$14=AN$3)),\"\")","v":0},{"$f":"IF($B46<>\"\",SUMPRODUCT(1*(ORARIO!$W$5:$AA$14=$B46)*(ORARIO!$B$5:$B$14=AO$3)),\"\")","v":0},{"$f":"IF($B46<>\"\",SUMPRODUCT(1*(ORARIO!$W$5:$AA$14=$B46)*(ORARIO!$B$5:$B$14=AP$3)),\"\")","v":0},{"$f":"IF($B46<>\"\",SUMPRODUCT(1*(ORARIO!$W$5:$AA$14=$B46)*(ORARIO!$B$5:$B$14=AQ$3)),\"\")","v":0},{"$f":"IF($B46<>\"\",SUMPRODUCT(1*(ORARIO!$W$5:$AA$14=$B46)*(ORARIO!$B$5:$B$14=AR$3)),\"\")","v":0},{"$f":"IF($B46<>\"\",SUMPRODUCT(1*(ORARIO!$W$5:$AA$14=$B46)*(ORARIO!$B$5:$B$14=AS$3)),\"\")","v":0},{"$f":"IF($B46<>\"\",SUMPRODUCT(1*(ORARIO!$W$5:$AA$14=$B46)*(ORARIO!$B$5:$B$14=AT$3)),\"\")","v":0}]
[null,"D lik",{"$f":"IF($B$4<>\"\",SUMPRODUCT(1*(ORARIO!$C$5:$G$14=$B47)*(ORARIO!$B$5:$B$14=C$3)),\"\")","v":0},{"$f":"IF($B$4<>\"\",SUMPRODUCT(1*(ORARIO!$C$5:$G$14=$B47)*(ORARIO!$B$5:$B$14=D$3)),\"\")","v":0},{"$f":"IF($B$4<>\"\",SUMPRODUCT(1*(ORARIO!$C$5:$G$14=$B47)*(ORARIO!$B$5:$B$14=E$3)),\"\")","v":0},{"$f":"IF($B$4<>\"\",SUMPRODUCT(1*(ORARIO!$C$5:$G$14=$B47)*(ORARIO!$B$5:$B$14=F$3)),\"\")","v":0},{"$f":"IF($B$4<>\"\",SUMPRODUCT(1*(ORARIO!$C$5:$G$14=$B47)*(ORARIO!$B$5:$B$14=G$3)),\"\")","v":0},{"$f":"IF($B$4<>\"\",SUMPRODUCT(1*(ORARIO!$C$5:$G$14=$B47)*(ORARIO!$B$5:$B$14=H$3)),\"\")","v":0},{"$f":"IF($B$4<>\"\",SUMPRODUCT(1*(ORARIO!$C$5:$G$14=$B47)*(ORARIO!$B$5:$B$14=I$3)),\"\")","v":0},{"$f":"IF($B$4<>\"\",SUMPRODUCT(1*(ORARIO!$C$5:$G$14=$B47)*(ORARIO!$B$5:$B$14=J$3)),\"\")","v":0},null,{"$f":"IF($B47<>\"\",SUMPRODUCT(1*(ORARIO!$H$5:$L$14=$B47)*(ORARIO!$B$5:$B$14=L$3)),\"\")","v":0},{"$f":"IF($B47<>\"\",SUMPRODUCT(1*(ORARIO!$H$5:$L$14=$B47)*(ORARIO!$B$5:$B$14=M$3)),\"\")","v":0},{"$f":"IF($B47<>\"\",SUMPRODUCT(1*(ORARIO!$H$5:$L$14=$B47)*(ORARIO!$B$5:$B$14=N$3)),\"\")","v":0},{"$f":"IF($B47<>\"\",SUMPRODUCT(1*(ORARIO!$H$5:$L$14=$B47)*(ORARIO!$B$5:$B$14=O$3)),\"\")","v":0},{"$f":"IF($B47<>\"\",SUMPRODUCT(1*(ORARIO!$H$5:$L$14=$B47)*(ORARIO!$B$5:$B$14=P$3)),\"\")","v":0},{"$f":"IF($B47<>\"\",SUMPRODUCT(1*(ORARIO!$H$5:$L$14=$B47)*(ORARIO!$B$5:$B$14=Q$3)),\"\")","v":0},{"$f":"IF($B47<>\"\",SUMPRODUCT(1*(ORARIO!$H$5:$L$14=$B47)*(ORARIO!$B$5:$B$14=R$3)),\"\")","v":0},{"$f":"IF($B47<>\"\",SUMPRODUCT(1*(ORARIO!$H$5:$L$14=$B47)*(ORARIO!$B$5:$B$14=S$3)),\"\")","v":0},null,{"$f":"IF($B47<>\"\",SUMPRODUCT(1*(ORARIO!$M$5:$Q$14=$B47)*(ORARIO!$B$5:$B$14=U$3)),\"\")","v":0},{"$f":"IF($B47<>\"\",SUMPRODUCT(1*(ORARIO!$M$5:$Q$14=$B47)*(ORARIO!$B$5:$B$14=V$3)),\"\")","v":0},{"$f":"IF($B47<>\"\",SUMPRODUCT(1*(ORARIO!$M$5:$Q$14=$B47)*(ORARIO!$B$5:$B$14=W$3)),\"\")","v":0},{"$f":"IF($B47<>\"\",SUMPRODUCT(1*(ORARIO!$M$5:$Q$14=$B47)*(ORARIO!$B$5:$B$14=X$3)),\"\")","v":0},{"$f":"IF($B47<>\"\",SUMPRODUCT(1*(ORARIO!$M$5:$Q$14=$B47)*(ORARIO!$B$5:$B$14=Y$3)),\"\")","v":0},{"$f":"IF($B47<>\"\",SUMPRODUCT(1*(ORARIO!$M$5:$Q$14=$B47)*(ORARIO!$B$5:$B$14=Z$3)),\"\")","v":0},{"$f":"IF($B47<>\"\",SUMPRODUCT(1*(ORARIO!$M$5:$Q$14=$B47)*(ORARIO!$B$5:$B$14=AA$3)),\"\")","v":0},{"$f":"IF($B47<>\"\",SUMPRODUCT(1*(ORARIO!$M$5:$Q$14=$B47)*(ORARIO!$B$5:$B$14=AB$3)),\"\")","v":0},null,{"$f":"IF($B47<>\"\",SUMPRODUCT(1*(ORARIO!$R$5:$V$14=$B47)*(ORARIO!$B$5:$B$14=AD$3)),\"\")","v":0},{"$f":"IF($B47<>\"\",SUMPRODUCT(1*(ORARIO!$R$5:$V$14=$B47)*(ORARIO!$B$5:$B$14=AE$3)),\"\")","v":0},{"$f":"IF($B47<>\"\",SUMPRODUCT(1*(ORARIO!$R$5:$V$14=$B47)*(ORARIO!$B$5:$B$14=AF$3)),\"\")","v":0},{"$f":"IF($B47<>\"\",SUMPRODUCT(1*(ORARIO!$R$5:$V$14=$B47)*(ORARIO!$B$5:$B$14=AG$3)),\"\")","v":0},{"$f":"IF($B47<>\"\",SUMPRODUCT(1*(ORARIO!$R$5:$V$14=$B47)*(ORARIO!$B$5:$B$14=AH$3)),\"\")","v":0},{"$f":"IF($B47<>\"\",SUMPRODUCT(1*(ORARIO!$R$5:$V$14=$B47)*(ORARIO!$B$5:$B$14=AI$3)),\"\")","v":0},{"$f":"IF($B47<>\"\",SUMPRODUCT(1*(ORARIO!$R$5:$V$14=$B47)*(ORARIO!$B$5:$B$14=AJ$3)),\"\")","v":0},{"$f":"IF($B47<>\"\",SUMPRODUCT(1*(ORARIO!$R$5:$V$14=$B47)*(ORARIO!$B$5:$B$14=AK$3)),\"\")","v":0},null,{"$f":"IF($B47<>\"\",SUMPRODUCT(1*(ORARIO!$W$5:$AA$14=$B47)*(ORARIO!$B$5:$B$14=AM$3)),\"\")","v":0},{"$f":"IF($B47<>\"\",SUMPRODUCT(1*(ORARIO!$W$5:$AA$14=$B47)*(ORARIO!$B$5:$B$14=AN$3)),\"\")","v":0},{"$f":"IF($B47<>\"\",SUMPRODUCT(1*(ORARIO!$W$5:$AA$14=$B47)*(ORARIO!$B$5:$B$14=AO$3)),\"\")","v":0},{"$f":"IF($B47<>\"\",SUMPRODUCT(1*(ORARIO!$W$5:$AA$14=$B47)*(ORARIO!$B$5:$B$14=AP$3)),\"\")","v":0},{"$f":"IF($B47<>\"\",SUMPRODUCT(1*(ORARIO!$W$5:$AA$14=$B47)*(ORARIO!$B$5:$B$14=AQ$3)),\"\")","v":0},{"$f":"IF($B47<>\"\",SUMPRODUCT(1*(ORARIO!$W$5:$AA$14=$B47)*(ORARIO!$B$5:$B$14=AR$3)),\"\")","v":0},{"$f":"IF($B47<>\"\",SUMPRODUCT(1*(ORARIO!$W$5:$AA$14=$B47)*(ORARIO!$B$5:$B$14=AS$3)),\"\")","v":0},{"$f":"IF($B47<>\"\",SUMPRODUCT(1*(ORARIO!$W$5:$AA$14=$B47)*(ORARIO!$B$5:$B$14=AT$3)),\"\")","v":0}]
[null,"D gla",{"$f":"IF($B$4<>\"\",SUMPRODUCT(1*(ORARIO!$C$5:$G$14=$B48)*(ORARIO!$B$5:$B$14=C$3)),\"\")","v":0},{"$f":"IF($B$4<>\"\",SUMPRODUCT(1*(ORARIO!$C$5:$G$14=$B48)*(ORARIO!$B$5:$B$14=D$3)),\"\")","v":0},{"$f":"IF($B$4<>\"\",SUMPRODUCT(1*(ORARIO!$C$5:$G$14=$B48)*(ORARIO!$B$5:$B$14=E$3)),\"\")","v":0},{"$f":"IF($B$4<>\"\",SUMPRODUCT(1*(ORARIO!$C$5:$G$14=$B48)*(ORARIO!$B$5:$B$14=F$3)),\"\")","v":0},{"$f":"IF($B$4<>\"\",SUMPRODUCT(1*(ORARIO!$C$5:$G$14=$B48)*(ORARIO!$B$5:$B$14=G$3)),\"\")","v":0},{"$f":"IF($B$4<>\"\",SUMPRODUCT(1*(ORARIO!$C$5:$G$14=$B48)*(ORARIO!$B$5:$B$14=H$3)),\"\")","v":0},{"$f":"IF($B$4<>\"\",SUMPRODUCT(1*(ORARIO!$C$5:$G$14=$B48)*(ORARIO!$B$5:$B$14=I$3)),\"\")","v":0},{"$f":"IF($B$4<>\"\",SUMPRODUCT(1*(ORARIO!$C$5:$G$14=$B48)*(ORARIO!$B$5:$B$14=J$3)),\"\")","v":0},null,{"$f":"IF($B48<>\"\",SUMPRODUCT(1*(ORARIO!$H$5:$L$14=$B48)*(ORARIO!$B$5:$B$14=L$3)),\"\")","v":0},{"$f":"IF($B48<>\"\",SUMPRODUCT(1*(ORARIO!$H$5:$L$14=$B48)*(ORARIO!$B$5:$B$14=M$3)),\"\")","v":0},{"$f":"IF($B48<>\"\",SUMPRODUCT(1*(ORARIO!$H$5:$L$14=$B48)*(ORARIO!$B$5:$B$14=N$3)),\"\")","v":0},{"$f":"IF($B48<>\"\",SUMPRODUCT(1*(ORARIO!$H$5:$L$14=$B48)*(ORARIO!$B$5:$B$14=O$3)),\"\")","v":0},{"$f":"IF($B48<>\"\",SUMPRODUCT(1*(ORARIO!$H$5:$L$14=$B48)*(ORARIO!$B$5:$B$14=P$3)),\"\")","v":0},{"$f":"IF($B48<>\"\",SUMPRODUCT(1*(ORARIO!$H$5:$L$14=$B48)*(ORARIO!$B$5:$B$14=Q$3)),\"\")","v":0},{"$f":"IF($B48<>\"\",SUMPRODUCT(1*(ORARIO!$H$5:$L$14=$B48)*(ORARIO!$B$5:$B$14=R$3)),\"\")","v":0},{"$f":"IF($B48<>\"\",SUMPRODUCT(1*(ORARIO!$H$5:$L$14=$B48)*(ORARIO!$B$5:$B$14=S$3)),\"\")","v":0},null,{"$f":"IF($B48<>\"\",SUMPRODUCT(1*(ORARIO!$M$5:$Q$14=$B48)*(ORARIO!$B$5:$B$14=U$3)),\"\")","v":0},{"$f":"IF($B48<>\"\",SUMPRODUCT(1*(ORARIO!$M$5:$Q$14=$B48)*(ORARIO!$B$5:$B$14=V$3)),\"\")","v":0},{"$f":"IF($B48<>\"\",SUMPRODUCT(1*(ORARIO!$M$5:$Q$14=$B48)*(ORARIO!$B$5:$B$14=W$3)),\"\")","v":0},{"$f":"IF($B48<>\"\",SUMPRODUCT(1*(ORARIO!$M$5:$Q$14=$B48)*(ORARIO!$B$5:$B$14=X$3)),\"\")","v":0},{"$f":"IF($B48<>\"\",SUMPRODUCT(1*(ORARIO!$M$5:$Q$14=$B48)*(ORARIO!$B$5:$B$14=Y$3)),\"\")","v":0},{"$f":"IF($B48<>\"\",SUMPRODUCT(1*(ORARIO!$M$5:$Q$14=$B48)*(ORARIO!$B$5:$B$14=Z$3)),\"\")","v":0},{"$f":"IF($B48<>\"\",SUMPRODUCT(1*(ORARIO!$M$5:$Q$14=$B48)*(ORARIO!$B$5:$B$14=AA$3)),\"\")","v":0},{"$f":"IF($B48<>\"\",SUMPRODUCT(1*(ORARIO!$M$5:$Q$14=$B48)*(ORARIO!$B$5:$B$14=AB$3)),\"\")","v":0},null,{"$f":"IF($B48<>\"\",SUMPRODUCT(1*(ORARIO!$R$5:$V$14=$B48)*(ORARIO!$B$5:$B$14=AD$3)),\"\")","v":0},{"$f":"IF($B48<>\"\",SUMPRODUCT(1*(ORARIO!$R$5:$V$14=$B48)*(ORARIO!$B$5:$B$14=AE$3)),\"\")","v":0},{"$f":"IF($B48<>\"\",SUMPRODUCT(1*(ORARIO!$R$5:$V$14=$B48)*(ORARIO!$B$5:$B$14=AF$3)),\"\")","v":0},{"$f":"IF($B48<>\"\",SUMPRODUCT(1*(ORARIO!$R$5:$V$14=$B48)*(ORARIO!$B$5:$B$14=AG$3)),\"\")","v":0},{"$f":"IF($B48<>\"\",SUMPRODUCT(1*(ORARIO!$R$5:$V$14=$B48)*(ORARIO!$B$5:$B$14=AH$3)),\"\")","v":0},{"$f":"IF($B48<>\"\",SUMPRODUCT(1*(ORARIO!$R$5:$V$14=$B48)*(ORARIO!$B$5:$B$14=AI$3)),\"\")","v":0},{"$f":"IF($B48<>\"\",SUMPRODUCT(1*(ORARIO!$R$5:$V$14=$B48)*(ORARIO!$B$5:$B$14=AJ$3)),\"\")","v":0},{"$f":"IF($B48<>\"\",SUMPRODUCT(1*(ORARIO!$R$5:$V$14=$B48)*(ORARIO!$B$5:$B$14=AK$3)),\"\")","v":0},null,{"$f":"IF($B48<>\"\",SUMPRODUCT(1*(ORARIO!$W$5:$AA$14=$B48)*(ORARIO!$B$5:$B$14=AM$3)),\"\")","v":0},{"$f":"IF($B48<>\"\",SUMPRODUCT(1*(ORARIO!$W$5:$AA$14=$B48)*(ORARIO!$B$5:$B$14=AN$3)),\"\")","v":0},{"$f":"IF($B48<>\"\",SUMPRODUCT(1*(ORARIO!$W$5:$AA$14=$B48)*(ORARIO!$B$5:$B$14=AO$3)),\"\")","v":0},{"$f":"IF($B48<>\"\",SUMPRODUCT(1*(ORARIO!$W$5:$AA$14=$B48)*(ORARIO!$B$5:$B$14=AP$3)),\"\")","v":0},{"$f":"IF($B48<>\"\",SUMPRODUCT(1*(ORARIO!$W$5:$AA$14=$B48)*(ORARIO!$B$5:$B$14=AQ$3)),\"\")","v":0},{"$f":"IF($B48<>\"\",SUMPRODUCT(1*(ORARIO!$W$5:$AA$14=$B48)*(ORARIO!$B$5:$B$14=AR$3)),\"\")","v":0},{"$f":"IF($B48<>\"\",SUMPRODUCT(1*(ORARIO!$W$5:$AA$14=$B48)*(ORARIO!$B$5:$B$14=AS$3)),\"\")","v":0},{"$f":"IF($B48<>\"\",SUMPRODUCT(1*(ORARIO!$W$5:$AA$14=$B48)*(ORARIO!$B$5:$B$14=AT$3)),\"\")","v":0}]
[null,"D tel",{"$f":"IF($B$4<>\"\",SUMPRODUCT(1*(ORARIO!$C$5:$G$14=$B49)*(ORARIO!$B$5:$B$14=C$3)),\"\")","v":0},{"$f":"IF($B$4<>\"\",SUMPRODUCT(1*(ORARIO!$C$5:$G$14=$B49)*(ORARIO!$B$5:$B$14=D$3)),\"\")","v":0},{"$f":"IF($B$4<>\"\",SUMPRODUCT(1*(ORARIO!$C$5:$G$14=$B49)*(ORARIO!$B$5:$B$14=E$3)),\"\")","v":0},{"$f":"IF($B$4<>\"\",SUMPRODUCT(1*(ORARIO!$C$5:$G$14=$B49)*(ORARIO!$B$5:$B$14=F$3)),\"\")","v":0},{"$f":"IF($B$4<>\"\",SUMPRODUCT(1*(ORARIO!$C$5:$G$14=$B49)*(ORARIO!$B$5:$B$14=G$3)),\"\")","v":0},{"$f":"IF($B$4<>\"\",SUMPRODUCT(1*(ORARIO!$C$5:$G$14=$B49)*(ORARIO!$B$5:$B$14=H$3)),\"\")","v":0},{"$f":"IF($B$4<>\"\",SUMPRODUCT(1*(ORARIO!$C$5:$G$14=$B49)*(ORARIO!$B$5:$B$14=I$3)),\"\")","v":0},{"$f":"IF($B$4<>\"\",SUMPRODUCT(1*(ORARIO!$C$5:$G$14=$B49)*(ORARIO!$B$5:$B$14=J$3)),\"\")","v":0},null,{"$f":"IF($B49<>\"\",SUMPRODUCT(1*(ORARIO!$H$5:$L$14=$B49)*(ORARIO!$B$5:$B$14=L$3)),\"\")","v":0},{"$f":"IF($B49<>\"\",SUMPRODUCT(1*(ORARIO!$H$5:$L$14=$B49)*(ORARIO!$B$5:$B$14=M$3)),\"\")","v":0},{"$f":"IF($B49<>\"\",SUMPRODUCT(1*(ORARIO!$H$5:$L$14=$B49)*(ORARIO!$B$5:$B$14=N$3)),\"\")","v":0},{"$f":"IF($B49<>\"\",SUMPRODUCT(1*(ORARIO!$H$5:$L$14=$B49)*(ORARIO!$B$5:$B$14=O$3)),\"\")","v":0},{"$f":"IF($B49<>\"\",SUMPRODUCT(1*(ORARIO!$H$5:$L$14=$B49)*(ORARIO!$B$5:$B$14=P$3)),\"\")","v":0},{"$f":"IF($B49<>\"\",SUMPRODUCT(1*(ORARIO!$H$5:$L$14=$B49)*(ORARIO!$B$5:$B$14=Q$3)),\"\")","v":0},{"$f":"IF($B49<>\"\",SUMPRODUCT(1*(ORARIO!$H$5:$L$14=$B49)*(ORARIO!$B$5:$B$14=R$3)),\"\")","v":0},{"$f":"IF($B49<>\"\",SUMPRODUCT(1*(ORARIO!$H$5:$L$14=$B49)*(ORARIO!$B$5:$B$14=S$3)),\"\")","v":0},null,{"$f":"IF($B49<>\"\",SUMPRODUCT(1*(ORARIO!$M$5:$Q$14=$B49)*(ORARIO!$B$5:$B$14=U$3)),\"\")","v":0},{"$f":"IF($B49<>\"\",SUMPRODUCT(1*(ORARIO!$M$5:$Q$14=$B49)*(ORARIO!$B$5:$B$14=V$3)),\"\")","v":0},{"$f":"IF($B49<>\"\",SUMPRODUCT(1*(ORARIO!$M$5:$Q$14=$B49)*(ORARIO!$B$5:$B$14=W$3)),\"\")","v":0},{"$f":"IF($B49<>\"\",SUMPRODUCT(1*(ORARIO!$M$5:$Q$14=$B49)*(ORARIO!$B$5:$B$14=X$3)),\"\")","v":0},{"$f":"IF($B49<>\"\",SUMPRODUCT(1*(ORARIO!$M$5:$Q$14=$B49)*(ORARIO!$B$5:$B$14=Y$3)),\"\")","v":0},{"$f":"IF($B49<>\"\",SUMPRODUCT(1*(ORARIO!$M$5:$Q$14=$B49)*(ORARIO!$B$5:$B$14=Z$3)),\"\")","v":0},{"$f":"IF($B49<>\"\",SUMPRODUCT(1*(ORARIO!$M$5:$Q$14=$B49)*(ORARIO!$B$5:$B$14=AA$3)),\"\")","v":0},{"$f":"IF($B49<>\"\",SUMPRODUCT(1*(ORARIO!$M$5:$Q$14=$B49)*(ORARIO!$B$5:$B$14=AB$3)),\"\")","v":0},null,{"$f":"IF($B49<>\"\",SUMPRODUCT(1*(ORARIO!$R$5:$V$14=$B49)*(ORARIO!$B$5:$B$14=AD$3)),\"\")","v":0},{"$f":"IF($B49<>\"\",SUMPRODUCT(1*(ORARIO!$R$5:$V$14=$B49)*(ORARIO!$B$5:$B$14=AE$3)),\"\")","v":0},{"$f":"IF($B49<>\"\",SUMPRODUCT(1*(ORARIO!$R$5:$V$14=$B49)*(ORARIO!$B$5:$B$14=AF$3)),\"\")","v":0},{"$f":"IF($B49<>\"\",SUMPRODUCT(1*(ORARIO!$R$5:$V$14=$B49)*(ORARIO!$B$5:$B$14=AG$3)),\"\")","v":0},{"$f":"IF($B49<>\"\",SUMPRODUCT(1*(ORARIO!$R$5:$V$14=$B49)*(ORARIO!$B$5:$B$14=AH$3)),\"\")","v":0},{"$f":"IF($B49<>\"\",SUMPRODUCT(1*(ORARIO!$R$5:$V$14=$B49)*(ORARIO!$B$5:$B$14=AI$3)),\"\")","v":0},{"$f":"IF($B49<>\"\",SUMPRODUCT(1*(ORARIO!$R$5:$V$14=$B49)*(ORARIO!$B$5:$B$14=AJ$3)),\"\")","v":0},{"$f":"IF($B49<>\"\",SUMPRODUCT(1*(ORARIO!$R$5:$V$14=$B49)*(ORARIO!$B$5:$B$14=AK$3)),\"\")","v":0},null,{"$f":"IF($B49<>\"\",SUMPRODUCT(1*(ORARIO!$W$5:$AA$14=$B49)*(ORARIO!$B$5:$B$14=AM$3)),\"\")","v":0},{"$f":"IF($B49<>\"\",SUMPRODUCT(1*(ORARIO!$W$5:$AA$14=$B49)*(ORARIO!$B$5:$B$14=AN$3)),\"\")","v":0},{"$f":"IF($B49<>\"\",SUMPRODUCT(1*(ORARIO!$W$5:$AA$14=$B49)*(ORARIO!$B$5:$B$14=AO$3)),\"\")","v":0},{"$f":"IF($B49<>\"\",SUMPRODUCT(1*(ORARIO!$W$5:$AA$14=$B49)*(ORARIO!$B$5:$B$14=AP$3)),\"\")","v":0},{"$f":"IF($B49<>\"\",SUMPRODUCT(1*(ORARIO!$W$5:$AA$14=$B49)*(ORARIO!$B$5:$B$14=AQ$3)),\"\")","v":0},{"$f":"IF($B49<>\"\",SUMPRODUCT(1*(ORARIO!$W$5:$AA$14=$B49)*(ORARIO!$B$5:$B$14=AR$3)),\"\")","v":0},{"$f":"IF($B49<>\"\",SUMPRODUCT(1*(ORARIO!$W$5:$AA$14=$B49)*(ORARIO!$B$5:$B$14=AS$3)),\"\")","v":0},{"$f":"IF($B49<>\"\",SUMPRODUCT(1*(ORARIO!$W$5:$AA$14=$B49)*(ORARIO!$B$5:$B$14=AT$3)),\"\")","v":0}]
[null,"D ver",{"$f":"IF($B$4<>\"\",SUMPRODUCT(1*(ORARIO!$C$5:$G$14=$B50)*(ORARIO!$B$5:$B$14=C$3)),\"\")","v":0},{"$f":"IF($B$4<>\"\",SUMPRODUCT(1*(ORARIO!$C$5:$G$14=$B50)*(ORARIO!$B$5:$B$14=D$3)),\"\")","v":0},{"$f":"IF($B$4<>\"\",SUMPRODUCT(1*(ORARIO!$C$5:$G$14=$B50)*(ORARIO!$B$5:$B$14=E$3)),\"\")","v":0},{"$f":"IF($B$4<>\"\",SUMPRODUCT(1*(ORARIO!$C$5:$G$14=$B50)*(ORARIO!$B$5:$B$14=F$3)),\"\")","v":0},{"$f":"IF($B$4<>\"\",SUMPRODUCT(1*(ORARIO!$C$5:$G$14=$B50)*(ORARIO!$B$5:$B$14=G$3)),\"\")","v":0},{"$f":"IF($B$4<>\"\",SUMPRODUCT(1*(ORARIO!$C$5:$G$14=$B50)*(ORARIO!$B$5:$B$14=H$3)),\"\")","v":0},{"$f":"IF($B$4<>\"\",SUMPRODUCT(1*(ORARIO!$C$5:$G$14=$B50)*(ORARIO!$B$5:$B$14=I$3)),\"\")","v":0},{"$f":"IF($B$4<>\"\",SUMPRODUCT(1*(ORARIO!$C$5:$G$14=$B50)*(ORARIO!$B$5:$B$14=J$3)),\"\")","v":0},null,{"$f":"IF($B50<>\"\",SUMPRODUCT(1*(ORARIO!$H$5:$L$14=$B50)*(ORARIO!$B$5:$B$14=L$3)),\"\")","v":0},{"$f":"IF($B50<>\"\",SUMPRODUCT(1*(ORARIO!$H$5:$L$14=$B50)*(ORARIO!$B$5:$B$14=M$3)),\"\")","v":0},{"$f":"IF($B50<>\"\",SUMPRODUCT(1*(ORARIO!$H$5:$L$14=$B50)*(ORARIO!$B$5:$B$14=N$3)),\"\")","v":0},{"$f":"IF($B50<>\"\",SUMPRODUCT(1*(ORARIO!$H$5:$L$14=$B50)*(ORARIO!$B$5:$B$14=O$3)),\"\")","v":0},{"$f":"IF($B50<>\"\",SUMPRODUCT(1*(ORARIO!$H$5:$L$14=$B50)*(ORARIO!$B$5:$B$14=P$3)),\"\")","v":0},{"$f":"IF($B50<>\"\",SUMPRODUCT(1*(ORARIO!$H$5:$L$14=$B50)*(ORARIO!$B$5:$B$14=Q$3)),\"\")","v":0},{"$f":"IF($B50<>\"\",SUMPRODUCT(1*(ORARIO!$H$5:$L$14=$B50)*(ORARIO!$B$5:$B$14=R$3)),\"\")","v":0},{"$f":"IF($B50<>\"\",SUMPRODUCT(1*(ORARIO!$H$5:$L$14=$B50)*(ORARIO!$B$5:$B$14=S$3)),\"\")","v":0},null,{"$f":"IF($B50<>\"\",SUMPRODUCT(1*(ORARIO!$M$5:$Q$14=$B50)*(ORARIO!$B$5:$B$14=U$3)),\"\")","v":0},{"$f":"IF($B50<>\"\",SUMPRODUCT(1*(ORARIO!$M$5:$Q$14=$B50)*(ORARIO!$B$5:$B$14=V$3)),\"\")","v":0},{"$f":"IF($B50<>\"\",SUMPRODUCT(1*(ORARIO!$M$5:$Q$14=$B50)*(ORARIO!$B$5:$B$14=W$3)),\"\")","v":0},{"$f":"IF($B50<>\"\",SUMPRODUCT(1*(ORARIO!$M$5:$Q$14=$B50)*(ORARIO!$B$5:$B$14=X$3)),\"\")","v":0},{"$f":"IF($B50<>\"\",SUMPRODUCT(1*(ORARIO!$M$5:$Q$14=$B50)*(ORARIO!$B$5:$B$14=Y$3)),\"\")","v":0},{"$f":"IF($B50<>\"\",SUMPRODUCT(1*(ORARIO!$M$5:$Q$14=$B50)*(ORARIO!$B$5:$B$14=Z$3)),\"\")","v":0},{"$f":"IF($B50<>\"\",SUMPRODUCT(1*(ORARIO!$M$5:$Q$14=$B50)*(ORARIO!$B$5:$B$14=AA$3)),\"\")","v":0},{"$f":"IF($B50<>\"\",SUMPRODUCT(1*(ORARIO!$M$5:$Q$14=$B50)*(ORARIO!$B$5:$B$14=AB$3)),\"\")","v":0},null,{"$f":"IF($B50<>\"\",SUMPRODUCT(1*(ORARIO!$R$5:$V$14=$B50)*(ORARIO!$B$5:$B$14=AD$3)),\"\")","v":0},{"$f":"IF($B50<>\"\",SUMPRODUCT(1*(ORARIO!$R$5:$V$14=$B50)*(ORARIO!$B$5:$B$14=AE$3)),\"\")","v":0},{"$f":"IF($B50<>\"\",SUMPRODUCT(1*(ORARIO!$R$5:$V$14=$B50)*(ORARIO!$B$5:$B$14=AF$3)),\"\")","v":0},{"$f":"IF($B50<>\"\",SUMPRODUCT(1*(ORARIO!$R$5:$V$14=$B50)*(ORARIO!$B$5:$B$14=AG$3)),\"\")","v":0},{"$f":"IF($B50<>\"\",SUMPRODUCT(1*(ORARIO!$R$5:$V$14=$B50)*(ORARIO!$B$5:$B$14=AH$3)),\"\")","v":0},{"$f":"IF($B50<>\"\",SUMPRODUCT(1*(ORARIO!$R$5:$V$14=$B50)*(ORARIO!$B$5:$B$14=AI$3)),\"\")","v":0},{"$f":"IF($B50<>\"\",SUMPRODUCT(1*(ORARIO!$R$5:$V$14=$B50)*(ORARIO!$B$5:$B$14=AJ$3)),\"\")","v":0},{"$f":"IF($B50<>\"\",SUMPRODUCT(1*(ORARIO!$R$5:$V$14=$B50)*(ORARIO!$B$5:$B$14=AK$3)),\"\")","v":0},null,{"$f":"IF($B50<>\"\",SUMPRODUCT(1*(ORARIO!$W$5:$AA$14=$B50)*(ORARIO!$B$5:$B$14=AM$3)),\"\")","v":0},{"$f":"IF($B50<>\"\",SUMPRODUCT(1*(ORARIO!$W$5:$AA$14=$B50)*(ORARIO!$B$5:$B$14=AN$3)),\"\")","v":0},{"$f":"IF($B50<>\"\",SUMPRODUCT(1*(ORARIO!$W$5:$AA$14=$B50)*(ORARIO!$B$5:$B$14=AO$3)),\"\")","v":0},{"$f":"IF($B50<>\"\",SUMPRODUCT(1*(ORARIO!$W$5:$AA$14=$B50)*(ORARIO!$B$5:$B$14=AP$3)),\"\")","v":0},{"$f":"IF($B50<>\"\",SUMPRODUCT(1*(ORARIO!$W$5:$AA$14=$B50)*(ORARIO!$B$5:$B$14=AQ$3)),\"\")","v":0},{"$f":"IF($B50<>\"\",SUMPRODUCT(1*(ORARIO!$W$5:$AA$14=$B50)*(ORARIO!$B$5:$B$14=AR$3)),\"\")","v":0},{"$f":"IF($B50<>\"\",SUMPRODUCT(1*(ORARIO!$W$5:$AA$14=$B50)*(ORARIO!$B$5:$B$14=AS$3)),\"\")","v":0},{"$f":"IF($B50<>\"\",SUMPRODUCT(1*(ORARIO!$W$5:$AA$14=$B50)*(ORARIO!$B$5:$B$14=AT$3)),\"\")","v":0}]
[null,"D sop",{"$f":"IF($B$4<>\"\",SUMPRODUCT(1*(ORARIO!$C$5:$G$14=$B51)*(ORARIO!$B$5:$B$14=C$3)),\"\")","v":0},{"$f":"IF($B$4<>\"\",SUMPRODUCT(1*(ORARIO!$C$5:$G$14=$B51)*(ORARIO!$B$5:$B$14=D$3)),\"\")","v":0},{"$f":"IF($B$4<>\"\",SUMPRODUCT(1*(ORARIO!$C$5:$G$14=$B51)*(ORARIO!$B$5:$B$14=E$3)),\"\")","v":0},{"$f":"IF($B$4<>\"\",SUMPRODUCT(1*(ORARIO!$C$5:$G$14=$B51)*(ORARIO!$B$5:$B$14=F$3)),\"\")","v":0},{"$f":"IF($B$4<>\"\",SUMPRODUCT(1*(ORARIO!$C$5:$G$14=$B51)*(ORARIO!$B$5:$B$14=G$3)),\"\")","v":0},{"$f":"IF($B$4<>\"\",SUMPRODUCT(1*(ORARIO!$C$5:$G$14=$B51)*(ORARIO!$B$5:$B$14=H$3)),\"\")","v":0},{"$f":"IF($B$4<>\"\",SUMPRODUCT(1*(ORARIO!$C$5:$G$14=$B51)*(ORARIO!$B$5:$B$14=I$3)),\"\")","v":0},{"$f":"IF($B$4<>\"\",SUMPRODUCT(1*(ORARIO!$C$5:$G$14=$B51)*(ORARIO!$B$5:$B$14=J$3)),\"\")","v":0},null,{"$f":"IF($B51<>\"\",SUMPRODUCT(1*(ORARIO!$H$5:$L$14=$B51)*(ORARIO!$B$5:$B$14=L$3)),\"\")","v":0},{"$f":"IF($B51<>\"\",SUMPRODUCT(1*(ORARIO!$H$5:$L$14=$B51)*(ORARIO!$B$5:$B$14=M$3)),\"\")","v":0},{"$f":"IF($B51<>\"\",SUMPRODUCT(1*(ORARIO!$H$5:$L$14=$B51)*(ORARIO!$B$5:$B$14=N$3)),\"\")","v":0},{"$f":"IF($B51<>\"\",SUMPRODUCT(1*(ORARIO!$H$5:$L$14=$B51)*(ORARIO!$B$5:$B$14=O$3)),\"\")","v":0},{"$f":"IF($B51<>\"\",SUMPRODUCT(1*(ORARIO!$H$5:$L$14=$B51)*(ORARIO!$B$5:$B$14=P$3)),\"\")","v":0},{"$f":"IF($B51<>\"\",SUMPRODUCT(1*(ORARIO!$H$5:$L$14=$B51)*(ORARIO!$B$5:$B$14=Q$3)),\"\")","v":0},{"$f":"IF($B51<>\"\",SUMPRODUCT(1*(ORARIO!$H$5:$L$14=$B51)*(ORARIO!$B$5:$B$14=R$3)),\"\")","v":0},{"$f":"IF($B51<>\"\",SUMPRODUCT(1*(ORARIO!$H$5:$L$14=$B51)*(ORARIO!$B$5:$B$14=S$3)),\"\")","v":0},null,{"$f":"IF($B51<>\"\",SUMPRODUCT(1*(ORARIO!$M$5:$Q$14=$B51)*(ORARIO!$B$5:$B$14=U$3)),\"\")","v":0},{"$f":"IF($B51<>\"\",SUMPRODUCT(1*(ORARIO!$M$5:$Q$14=$B51)*(ORARIO!$B$5:$B$14=V$3)),\"\")","v":0},{"$f":"IF($B51<>\"\",SUMPRODUCT(1*(ORARIO!$M$5:$Q$14=$B51)*(ORARIO!$B$5:$B$14=W$3)),\"\")","v":0},{"$f":"IF($B51<>\"\",SUMPRODUCT(1*(ORARIO!$M$5:$Q$14=$B51)*(ORARIO!$B$5:$B$14=X$3)),\"\")","v":0},{"$f":"IF($B51<>\"\",SUMPRODUCT(1*(ORARIO!$M$5:$Q$14=$B51)*(ORARIO!$B$5:$B$14=Y$3)),\"\")","v":0},{"$f":"IF($B51<>\"\",SUMPRODUCT(1*(ORARIO!$M$5:$Q$14=$B51)*(ORARIO!$B$5:$B$14=Z$3)),\"\")","v":0},{"$f":"IF($B51<>\"\",SUMPRODUCT(1*(ORARIO!$M$5:$Q$14=$B51)*(ORARIO!$B$5:$B$14=AA$3)),\"\")","v":0},{"$f":"IF($B51<>\"\",SUMPRODUCT(1*(ORARIO!$M$5:$Q$14=$B51)*(ORARIO!$B$5:$B$14=AB$3)),\"\")","v":0},null,{"$f":"IF($B51<>\"\",SUMPRODUCT(1*(ORARIO!$R$5:$V$14=$B51)*(ORARIO!$B$5:$B$14=AD$3)),\"\")","v":0},{"$f":"IF($B51<>\"\",SUMPRODUCT(1*(ORARIO!$R$5:$V$14=$B51)*(ORARIO!$B$5:$B$14=AE$3)),\"\")","v":0},{"$f":"IF($B51<>\"\",SUMPRODUCT(1*(ORARIO!$R$5:$V$14=$B51)*(ORARIO!$B$5:$B$14=AF$3)),\"\")","v":0},{"$f":"IF($B51<>\"\",SUMPRODUCT(1*(ORARIO!$R$5:$V$14=$B51)*(ORARIO!$B$5:$B$14=AG$3)),\"\")","v":0},{"$f":"IF($B51<>\"\",SUMPRODUCT(1*(ORARIO!$R$5:$V$14=$B51)*(ORARIO!$B$5:$B$14=AH$3)),\"\")","v":0},{"$f":"IF($B51<>\"\",SUMPRODUCT(1*(ORARIO!$R$5:$V$14=$B51)*(ORARIO!$B$5:$B$14=AI$3)),\"\")","v":0},{"$f":"IF($B51<>\"\",SUMPRODUCT(1*(ORARIO!$R$5:$V$14=$B51)*(ORARIO!$B$5:$B$14=AJ$3)),\"\")","v":0},{"$f":"IF($B51<>\"\",SUMPRODUCT(1*(ORARIO!$R$5:$V$14=$B51)*(ORARIO!$B$5:$B$14=AK$3)),\"\")","v":0},null,{"$f":"IF($B51<>\"\",SUMPRODUCT(1*(ORARIO!$W$5:$AA$14=$B51)*(ORARIO!$B$5:$B$14=AM$3)),\"\")","v":0},{"$f":"IF($B51<>\"\",SUMPRODUCT(1*(ORARIO!$W$5:$AA$14=$B51)*(ORARIO!$B$5:$B$14=AN$3)),\"\")","v":0},{"$f":"IF($B51<>\"\",SUMPRODUCT(1*(ORARIO!$W$5:$AA$14=$B51)*(ORARIO!$B$5:$B$14=AO$3)),\"\")","v":0},{"$f":"IF($B51<>\"\",SUMPRODUCT(1*(ORARIO!$W$5:$AA$14=$B51)*(ORARIO!$B$5:$B$14=AP$3)),\"\")","v":0},{"$f":"IF($B51<>\"\",SUMPRODUCT(1*(ORARIO!$W$5:$AA$14=$B51)*(ORARIO!$B$5:$B$14=AQ$3)),\"\")","v":0},{"$f":"IF($B51<>\"\",SUMPRODUCT(1*(ORARIO!$W$5:$AA$14=$B51)*(ORARIO!$B$5:$B$14=AR$3)),\"\")","v":0},{"$f":"IF($B51<>\"\",SUMPRODUCT(1*(ORARIO!$W$5:$AA$14=$B51)*(ORARIO!$B$5:$B$14=AS$3)),\"\")","v":0},{"$f":"IF($B51<>\"\",SUMPRODUCT(1*(ORARIO!$W$5:$AA$14=$B51)*(ORARIO!$B$5:$B$14=AT$3)),\"\")","v":0}]
[null,"E slo",{"$f":"IF($B$4<>\"\",SUMPRODUCT(1*(ORARIO!$C$5:$G$14=$B52)*(ORARIO!$B$5:$B$14=C$3)),\"\")","v":0},{"$f":"IF($B$4<>\"\",SUMPRODUCT(1*(ORARIO!$C$5:$G$14=$B52)*(ORARIO!$B$5:$B$14=D$3)),\"\")","v":0},{"$f":"IF($B$4<>\"\",SUMPRODUCT(1*(ORARIO!$C$5:$G$14=$B52)*(ORARIO!$B$5:$B$14=E$3)),\"\")","v":0},{"$f":"IF($B$4<>\"\",SUMPRODUCT(1*(ORARIO!$C$5:$G$14=$B52)*(ORARIO!$B$5:$B$14=F$3)),\"\")","v":0},{"$f":"IF($B$4<>\"\",SUMPRODUCT(1*(ORARIO!$C$5:$G$14=$B52)*(ORARIO!$B$5:$B$14=G$3)),\"\")","v":0},{"$f":"IF($B$4<>\"\",SUMPRODUCT(1*(ORARIO!$C$5:$G$14=$B52)*(ORARIO!$B$5:$B$14=H$3)),\"\")","v":0},{"$f":"IF($B$4<>\"\",SUMPRODUCT(1*(ORARIO!$C$5:$G$14=$B52)*(ORARIO!$B$5:$B$14=I$3)),\"\")","v":0},{"$f":"IF($B$4<>\"\",SUMPRODUCT(1*(ORARIO!$C$5:$G$14=$B52)*(ORARIO!$B$5:$B$14=J$3)),\"\")","v":0},null,{"$f":"IF($B52<>\"\",SUMPRODUCT(1*(ORARIO!$H$5:$L$14=$B52)*(ORARIO!$B$5:$B$14=L$3)),\"\")","v":0},{"$f":"IF($B52<>\"\",SUMPRODUCT(1*(ORARIO!$H$5:$L$14=$B52)*(ORARIO!$B$5:$B$14=M$3)),\"\")","v":0},{"$f":"IF($B52<>\"\",SUMPRODUCT(1*(ORARIO!$H$5:$L$14=$B52)*(ORARIO!$B$5:$B$14=N$3)),\"\")","v":0},{"$f":"IF($B52<>\"\",SUMPRODUCT(1*(ORARIO!$H$5:$L$14=$B52)*(ORARIO!$B$5:$B$14=O$3)),\"\")","v":0},{"$f":"IF($B52<>\"\",SUMPRODUCT(1*(ORARIO!$H$5:$L$14=$B52)*(ORARIO!$B$5:$B$14=P$3)),\"\")","v":0},{"$f":"IF($B52<>\"\",SUMPRODUCT(1*(ORARIO!$H$5:$L$14=$B52)*(ORARIO!$B$5:$B$14=Q$3)),\"\")","v":0},{"$f":"IF($B52<>\"\",SUMPRODUCT(1*(ORARIO!$H$5:$L$14=$B52)*(ORARIO!$B$5:$B$14=R$3)),\"\")","v":0},{"$f":"IF($B52<>\"\",SUMPRODUCT(1*(ORARIO!$H$5:$L$14=$B52)*(ORARIO!$B$5:$B$14=S$3)),\"\")","v":0},null,{"$f":"IF($B52<>\"\",SUMPRODUCT(1*(ORARIO!$M$5:$Q$14=$B52)*(ORARIO!$B$5:$B$14=U$3)),\"\")","v":0},{"$f":"IF($B52<>\"\",SUMPRODUCT(1*(ORARIO!$M$5:$Q$14=$B52)*(ORARIO!$B$5:$B$14=V$3)),\"\")","v":0},{"$f":"IF($B52<>\"\",SUMPRODUCT(1*(ORARIO!$M$5:$Q$14=$B52)*(ORARIO!$B$5:$B$14=W$3)),\"\")","v":0},{"$f":"IF($B52<>\"\",SUMPRODUCT(1*(ORARIO!$M$5:$Q$14=$B52)*(ORARIO!$B$5:$B$14=X$3)),\"\")","v":0},{"$f":"IF($B52<>\"\",SUMPRODUCT(1*(ORARIO!$M$5:$Q$14=$B52)*(ORARIO!$B$5:$B$14=Y$3)),\"\")","v":0},{"$f":"IF($B52<>\"\",SUMPRODUCT(1*(ORARIO!$M$5:$Q$14=$B52)*(ORARIO!$B$5:$B$14=Z$3)),\"\")","v":0},{"$f":"IF($B52<>\"\",SUMPRODUCT(1*(ORARIO!$M$5:$Q$14=$B52)*(ORARIO!$B$5:$B$14=AA$3)),\"\")","v":0},{"$f":"IF($B52<>\"\",SUMPRODUCT(1*(ORARIO!$M$5:$Q$14=$B52)*(ORARIO!$B$5:$B$14=AB$3)),\"\")","v":0},null,{"$f":"IF($B52<>\"\",SUMPRODUCT(1*(ORARIO!$R$5:$V$14=$B52)*(ORARIO!$B$5:$B$14=AD$3)),\"\")","v":0},{"$f":"IF($B52<>\"\",SUMPRODUCT(1*(ORARIO!$R$5:$V$14=$B52)*(ORARIO!$B$5:$B$14=AE$3)),\"\")","v":0},{"$f":"IF($B52<>\"\",SUMPRODUCT(1*(ORARIO!$R$5:$V$14=$B52)*(ORARIO!$B$5:$B$14=AF$3)),\"\")","v":0},{"$f":"IF($B52<>\"\",SUMPRODUCT(1*(ORARIO!$R$5:$V$14=$B52)*(ORARIO!$B$5:$B$14=AG$3)),\"\")","v":0},{"$f":"IF($B52<>\"\",SUMPRODUCT(1*(ORARIO!$R$5:$V$14=$B52)*(ORARIO!$B$5:$B$14=AH$3)),\"\")","v":0},{"$f":"IF($B52<>\"\",SUMPRODUCT(1*(ORARIO!$R$5:$V$14=$B52)*(ORARIO!$B$5:$B$14=AI$3)),\"\")","v":0},{"$f":"IF($B52<>\"\",SUMPRODUCT(1*(ORARIO!$R$5:$V$14=$B52)*(ORARIO!$B$5:$B$14=AJ$3)),\"\")","v":0},{"$f":"IF($B52<>\"\",SUMPRODUCT(1*(ORARIO!$R$5:$V$14=$B52)*(ORARIO!$B$5:$B$14=AK$3)),\"\")","v":0},null,{"$f":"IF($B52<>\"\",SUMPRODUCT(1*(ORARIO!$W$5:$AA$14=$B52)*(ORARIO!$B$5:$B$14=AM$3)),\"\")","v":0},{"$f":"IF($B52<>\"\",SUMPRODUCT(1*(ORARIO!$W$5:$AA$14=$B52)*(ORARIO!$B$5:$B$14=AN$3)),\"\")","v":0},{"$f":"IF($B52<>\"\",SUMPRODUCT(1*(ORARIO!$W$5:$AA$14=$B52)*(ORARIO!$B$5:$B$14=AO$3)),\"\")","v":0},{"$f":"IF($B52<>\"\",SUMPRODUCT(1*(ORARIO!$W$5:$AA$14=$B52)*(ORARIO!$B$5:$B$14=AP$3)),\"\")","v":0},{"$f":"IF($B52<>\"\",SUMPRODUCT(1*(ORARIO!$W$5:$AA$14=$B52)*(ORARIO!$B$5:$B$14=AQ$3)),\"\")","v":0},{"$f":"IF($B52<>\"\",SUMPRODUCT(1*(ORARIO!$W$5:$AA$14=$B52)*(ORARIO!$B$5:$B$14=AR$3)),\"\")","v":0},{"$f":"IF($B52<>\"\",SUMPRODUCT(1*(ORARIO!$W$5:$AA$14=$B52)*(ORARIO!$B$5:$B$14=AS$3)),\"\")","v":0},{"$f":"IF($B52<>\"\",SUMPRODUCT(1*(ORARIO!$W$5:$AA$14=$B52)*(ORARIO!$B$5:$B$14=AT$3)),\"\")","v":0}]
[null,"E ita",{"$f":"IF($B$4<>\"\",SUMPRODUCT(1*(ORARIO!$C$5:$G$14=$B53)*(ORARIO!$B$5:$B$14=C$3)),\"\")","v":0},{"$f":"IF($B$4<>\"\",SUMPRODUCT(1*(ORARIO!$C$5:$G$14=$B53)*(ORARIO!$B$5:$B$14=D$3)),\"\")","v":0},{"$f":"IF($B$4<>\"\",SUMPRODUCT(1*(ORARIO!$C$5:$G$14=$B53)*(ORARIO!$B$5:$B$14=E$3)),\"\")","v":0},{"$f":"IF($B$4<>\"\",SUMPRODUCT(1*(ORARIO!$C$5:$G$14=$B53)*(ORARIO!$B$5:$B$14=F$3)),\"\")","v":0},{"$f":"IF($B$4<>\"\",SUMPRODUCT(1*(ORARIO!$C$5:$G$14=$B53)*(ORARIO!$B$5:$B$14=G$3)),\"\")","v":0},{"$f":"IF($B$4<>\"\",SUMPRODUCT(1*(ORARIO!$C$5:$G$14=$B53)*(ORARIO!$B$5:$B$14=H$3)),\"\")","v":0},{"$f":"IF($B$4<>\"\",SUMPRODUCT(1*(ORARIO!$C$5:$G$14=$B53)*(ORARIO!$B$5:$B$14=I$3)),\"\")","v":0},{"$f":"IF($B$4<>\"\",SUMPRODUCT(1*(ORARIO!$C$5:$G$14=$B53)*(ORARIO!$B$5:$B$14=J$3)),\"\")","v":0},null,{"$f":"IF($B53<>\"\",SUMPRODUCT(1*(ORARIO!$H$5:$L$14=$B53)*(ORARIO!$B$5:$B$14=L$3)),\"\")","v":0},{"$f":"IF($B53<>\"\",SUMPRODUCT(1*(ORARIO!$H$5:$L$14=$B53)*(ORARIO!$B$5:$B$14=M$3)),\"\")","v":0},{"$f":"IF($B53<>\"\",SUMPRODUCT(1*(ORARIO!$H$5:$L$14=$B53)*(ORARIO!$B$5:$B$14=N$3)),\"\")","v":0},{"$f":"IF($B53<>\"\",SUMPRODUCT(1*(ORARIO!$H$5:$L$14=$B53)*(ORARIO!$B$5:$B$14=O$3)),\"\")","v":0},{"$f":"IF($B53<>\"\",SUMPRODUCT(1*(ORARIO!$H$5:$L$14=$B53)*(ORARIO!$B$5:$B$14=P$3)),\"\")","v":0},{"$f":"IF($B53<>\"\",SUMPRODUCT(1*(ORARIO!$H$5:$L$14=$B53)*(ORARIO!$B$5:$B$14=Q$3)),\"\")","v":0},{"$f":"IF($B53<>\"\",SUMPRODUCT(1*(ORARIO!$H$5:$L$14=$B53)*(ORARIO!$B$5:$B$14=R$3)),\"\")","v":0},{"$f":"IF($B53<>\"\",SUMPRODUCT(1*(ORARIO!$H$5:$L$14=$B53)*(ORARIO!$B$5:$B$14=S$3)),\"\")","v":0},null,{"$f":"IF($B53<>\"\",SUMPRODUCT(1*(ORARIO!$M$5:$Q$14=$B53)*(ORARIO!$B$5:$B$14=U$3)),\"\")","v":0},{"$f":"IF($B53<>\"\",SUMPRODUCT(1*(ORARIO!$M$5:$Q$14=$B53)*(ORARIO!$B$5:$B$14=V$3)),\"\")","v":0},{"$f":"IF($B53<>\"\",SUMPRODUCT(1*(ORARIO!$M$5:$Q$14=$B53)*(ORARIO!$B$5:$B$14=W$3)),\"\")","v":0},{"$f":"IF($B53<>\"\",SUMPRODUCT(1*(ORARIO!$M$5:$Q$14=$B53)*(ORARIO!$B$5:$B$14=X$3)),\"\")","v":1},{"$f":"IF($B53<>\"\",SUMPRODUCT(1*(ORARIO!$M$5:$Q$14=$B53)*(ORARIO!$B$5:$B$14=Y$3)),\"\")","v":0},{"$f":"IF($B53<>\"\",SUMPRODUCT(1*(ORARIO!$M$5:$Q$14=$B53)*(ORARIO!$B$5:$B$14=Z$3)),\"\")","v":0},{"$f":"IF($B53<>\"\",SUMPRODUCT(1*(ORARIO!$M$5:$Q$14=$B53)*(ORARIO!$B$5:$B$14=AA$3)),\"\")","v":0},{"$f":"IF($B53<>\"\",SUMPRODUCT(1*(ORARIO!$M$5:$Q$14=$B53)*(ORARIO!$B$5:$B$14=AB$3)),\"\")","v":0},null,{"$f":"IF($B53<>\"\",SUMPRODUCT(1*(ORARIO!$R$5:$V$14=$B53)*(ORARIO!$B$5:$B$14=AD$3)),\"\")","v":0},{"$f":"IF($B53<>\"\",SUMPRODUCT(1*(ORARIO!$R$5:$V$14=$B53)*(ORARIO!$B$5:$B$14=AE$3)),\"\")","v":0},{"$f":"IF($B53<>\"\",SUMPRODUCT(1*(ORARIO!$R$5:$V$14=$B53)*(ORARIO!$B$5:$B$14=AF$3)),\"\")","v":0},{"$f":"IF($B53<>\"\",SUMPRODUCT(1*(ORARIO!$R$5:$V$14=$B53)*(ORARIO!$B$5:$B$14=AG$3)),\"\")","v":0},{"$f":"IF($B53<>\"\",SUMPRODUCT(1*(ORARIO!$R$5:$V$14=$B53)*(ORARIO!$B$5:$B$14=AH$3)),\"\")","v":0},{"$f":"IF($B53<>\"\",SUMPRODUCT(1*(ORARIO!$R$5:$V$14=$B53)*(ORARIO!$B$5:$B$14=AI$3)),\"\")","v":0},{"$f":"IF($B53<>\"\",SUMPRODUCT(1*(ORARIO!$R$5:$V$14=$B53)*(ORARIO!$B$5:$B$14=AJ$3)),\"\")","v":0},{"$f":"IF($B53<>\"\",SUMPRODUCT(1*(ORARIO!$R$5:$V$14=$B53)*(ORARIO!$B$5:$B$14=AK$3)),\"\")","v":0},null,{"$f":"IF($B53<>\"\",SUMPRODUCT(1*(ORARIO!$W$5:$AA$14=$B53)*(ORARIO!$B$5:$B$14=AM$3)),\"\")","v":0},{"$f":"IF($B53<>\"\",SUMPRODUCT(1*(ORARIO!$W$5:$AA$14=$B53)*(ORARIO!$B$5:$B$14=AN$3)),\"\")","v":0},{"$f":"IF($B53<>\"\",SUMPRODUCT(1*(ORARIO!$W$5:$AA$14=$B53)*(ORARIO!$B$5:$B$14=AO$3)),\"\")","v":0},{"$f":"IF($B53<>\"\",SUMPRODUCT(1*(ORARIO!$W$5:$AA$14=$B53)*(ORARIO!$B$5:$B$14=AP$3)),\"\")","v":0},{"$f":"IF($B53<>\"\",SUMPRODUCT(1*(ORARIO!$W$5:$AA$14=$B53)*(ORARIO!$B$5:$B$14=AQ$3)),\"\")","v":0},{"$f":"IF($B53<>\"\",SUMPRODUCT(1*(ORARIO!$W$5:$AA$14=$B53)*(ORARIO!$B$5:$B$14=AR$3)),\"\")","v":0},{"$f":"IF($B53<>\"\",SUMPRODUCT(1*(ORARIO!$W$5:$AA$14=$B53)*(ORARIO!$B$5:$B$14=AS$3)),\"\")","v":0},{"$f":"IF($B53<>\"\",SUMPRODUCT(1*(ORARIO!$W$5:$AA$14=$B53)*(ORARIO!$B$5:$B$14=AT$3)),\"\")","v":0}]
[null,"E ang",{"$f":"IF($B$4<>\"\",SUMPRODUCT(1*(ORARIO!$C$5:$G$14=$B54)*(ORARIO!$B$5:$B$14=C$3)),\"\")","v":0},{"$f":"IF($B$4<>\"\",SUMPRODUCT(1*(ORARIO!$C$5:$G$14=$B54)*(ORARIO!$B$5:$B$14=D$3)),\"\")","v":0},{"$f":"IF($B$4<>\"\",SUMPRODUCT(1*(ORARIO!$C$5:$G$14=$B54)*(ORARIO!$B$5:$B$14=E$3)),\"\")","v":0},{"$f":"IF($B$4<>\"\",SUMPRODUCT(1*(ORARIO!$C$5:$G$14=$B54)*(ORARIO!$B$5:$B$14=F$3)),\"\")","v":0},{"$f":"IF($B$4<>\"\",SUMPRODUCT(1*(ORARIO!$C$5:$G$14=$B54)*(ORARIO!$B$5:$B$14=G$3)),\"\")","v":0},{"$f":"IF($B$4<>\"\",SUMPRODUCT(1*(ORARIO!$C$5:$G$14=$B54)*(ORARIO!$B$5:$B$14=H$3)),\"\")","v":0},{"$f":"IF($B$4<>\"\",SUMPRODUCT(1*(ORARIO!$C$5:$G$14=$B54)*(ORARIO!$B$5:$B$14=I$3)),\"\")","v":0},{"$f":"IF($B$4<>\"\",SUMPRODUCT(1*(ORARIO!$C$5:$G$14=$B54)*(ORARIO!$B$5:$B$14=J$3)),\"\")","v":0},null,{"$f":"IF($B54<>\"\",SUMPRODUCT(1*(ORARIO!$H$5:$L$14=$B54)*(ORARIO!$B$5:$B$14=L$3)),\"\")","v":0},{"$f":"IF($B54<>\"\",SUMPRODUCT(1*(ORARIO!$H$5:$L$14=$B54)*(ORARIO!$B$5:$B$14=M$3)),\"\")","v":0},{"$f":"IF($B54<>\"\",SUMPRODUCT(1*(ORARIO!$H$5:$L$14=$B54)*(ORARIO!$B$5:$B$14=N$3)),\"\")","v":0},{"$f":"IF($B54<>\"\",SUMPRODUCT(1*(ORARIO!$H$5:$L$14=$B54)*(ORARIO!$B$5:$B$14=O$3)),\"\")","v":0},{"$f":"IF($B54<>\"\",SUMPRODUCT(1*(ORARIO!$H$5:$L$14=$B54)*(ORARIO!$B$5:$B$14=P$3)),\"\")","v":0},{"$f":"IF($B54<>\"\",SUMPRODUCT(1*(ORARIO!$H$5:$L$14=$B54)*(ORARIO!$B$5:$B$14=Q$3)),\"\")","v":0},{"$f":"IF($B54<>\"\",SUMPRODUCT(1*(ORARIO!$H$5:$L$14=$B54)*(ORARIO!$B$5:$B$14=R$3)),\"\")","v":0},{"$f":"IF($B54<>\"\",SUMPRODUCT(1*(ORARIO!$H$5:$L$14=$B54)*(ORARIO!$B$5:$B$14=S$3)),\"\")","v":0},null,{"$f":"IF($B54<>\"\",SUMPRODUCT(1*(ORARIO!$M$5:$Q$14=$B54)*(ORARIO!$B$5:$B$14=U$3)),\"\")","v":0},{"$f":"IF($B54<>\"\",SUMPRODUCT(1*(ORARIO!$M$5:$Q$14=$B54)*(ORARIO!$B$5:$B$14=V$3)),\"\")","v":0},{"$f":"IF($B54<>\"\",SUMPRODUCT(1*(ORARIO!$M$5:$Q$14=$B54)*(ORARIO!$B$5:$B$14=W$3)),\"\")","v":0},{"$f":"IF($B54<>\"\",SUMPRODUCT(1*(ORARIO!$M$5:$Q$14=$B54)*(ORARIO!$B$5:$B$14=X$3)),\"\")","v":0},{"$f":"IF($B54<>\"\",SUMPRODUCT(1*(ORARIO!$M$5:$Q$14=$B54)*(ORARIO!$B$5:$B$14=Y$3)),\"\")","v":0},{"$f":"IF($B54<>\"\",SUMPRODUCT(1*(ORARIO!$M$5:$Q$14=$B54)*(ORARIO!$B$5:$B$14=Z$3)),\"\")","v":0},{"$f":"IF($B54<>\"\",SUMPRODUCT(1*(ORARIO!$M$5:$Q$14=$B54)*(ORARIO!$B$5:$B$14=AA$3)),\"\")","v":0},{"$f":"IF($B54<>\"\",SUMPRODUCT(1*(ORARIO!$M$5:$Q$14=$B54)*(ORARIO!$B$5:$B$14=AB$3)),\"\")","v":0},null,{"$f":"IF($B54<>\"\",SUMPRODUCT(1*(ORARIO!$R$5:$V$14=$B54)*(ORARIO!$B$5:$B$14=AD$3)),\"\")","v":0},{"$f":"IF($B54<>\"\",SUMPRODUCT(1*(ORARIO!$R$5:$V$14=$B54)*(ORARIO!$B$5:$B$14=AE$3)),\"\")","v":0},{"$f":"IF($B54<>\"\",SUMPRODUCT(1*(ORARIO!$R$5:$V$14=$B54)*(ORARIO!$B$5:$B$14=AF$3)),\"\")","v":0},{"$f":"IF($B54<>\"\",SUMPRODUCT(1*(ORARIO!$R$5:$V$14=$B54)*(ORARIO!$B$5:$B$14=AG$3)),\"\")","v":0},{"$f":"IF($B54<>\"\",SUMPRODUCT(1*(ORARIO!$R$5:$V$14=$B54)*(ORARIO!$B$5:$B$14=AH$3)),\"\")","v":0},{"$f":"IF($B54<>\"\",SUMPRODUCT(1*(ORARIO!$R$5:$V$14=$B54)*(ORARIO!$B$5:$B$14=AI$3)),\"\")","v":0},{"$f":"IF($B54<>\"\",SUMPRODUCT(1*(ORARIO!$R$5:$V$14=$B54)*(ORARIO!$B$5:$B$14=AJ$3)),\"\")","v":0},{"$f":"IF($B54<>\"\",SUMPRODUCT(1*(ORARIO!$R$5:$V$14=$B54)*(ORARIO!$B$5:$B$14=AK$3)),\"\")","v":0},null,{"$f":"IF($B54<>\"\",SUMPRODUCT(1*(ORARIO!$W$5:$AA$14=$B54)*(ORARIO!$B$5:$B$14=AM$3)),\"\")","v":0},{"$f":"IF($B54<>\"\",SUMPRODUCT(1*(ORARIO!$W$5:$AA$14=$B54)*(ORARIO!$B$5:$B$14=AN$3)),\"\")","v":0},{"$f":"IF($B54<>\"\",SUMPRODUCT(1*(ORARIO!$W$5:$AA$14=$B54)*(ORARIO!$B$5:$B$14=AO$3)),\"\")","v":0},{"$f":"IF($B54<>\"\",SUMPRODUCT(1*(ORARIO!$W$5:$AA$14=$B54)*(ORARIO!$B$5:$B$14=AP$3)),\"\")","v":0},{"$f":"IF($B54<>\"\",SUMPRODUCT(1*(ORARIO!$W$5:$AA$14=$B54)*(ORARIO!$B$5:$B$14=AQ$3)),\"\")","v":0},{"$f":"IF($B54<>\"\",SUMPRODUCT(1*(ORARIO!$W$5:$AA$14=$B54)*(ORARIO!$B$5:$B$14=AR$3)),\"\")","v":0},{"$f":"IF($B54<>\"\",SUMPRODUCT(1*(ORARIO!$W$5:$AA$14=$B54)*(ORARIO!$B$5:$B$14=AS$3)),\"\")","v":0},{"$f":"IF($B54<>\"\",SUMPRODUCT(1*(ORARIO!$W$5:$AA$14=$B54)*(ORARIO!$B$5:$B$14=AT$3)),\"\")","v":0}]
[null,"E mat",{"$f":"IF($B$4<>\"\",SUMPRODUCT(1*(ORARIO!$C$5:$G$14=$B55)*(ORARIO!$B$5:$B$14=C$3)),\"\")","v":0},{"$f":"IF($B$4<>\"\",SUMPRODUCT(1*(ORARIO!$C$5:$G$14=$B55)*(ORARIO!$B$5:$B$14=D$3)),\"\")","v":0},{"$f":"IF($B$4<>\"\",SUMPRODUCT(1*(ORARIO!$C$5:$G$14=$B55)*(ORARIO!$B$5:$B$14=E$3)),\"\")","v":0},{"$f":"IF($B$4<>\"\",SUMPRODUCT(1*(ORARIO!$C$5:$G$14=$B55)*(ORARIO!$B$5:$B$14=F$3)),\"\")","v":0},{"$f":"IF($B$4<>\"\",SUMPRODUCT(1*(ORARIO!$C$5:$G$14=$B55)*(ORARIO!$B$5:$B$14=G$3)),\"\")","v":0},{"$f":"IF($B$4<>\"\",SUMPRODUCT(1*(ORARIO!$C$5:$G$14=$B55)*(ORARIO!$B$5:$B$14=H$3)),\"\")","v":0},{"$f":"IF($B$4<>\"\",SUMPRODUCT(1*(ORARIO!$C$5:$G$14=$B55)*(ORARIO!$B$5:$B$14=I$3)),\"\")","v":0},{"$f":"IF($B$4<>\"\",SUMPRODUCT(1*(ORARIO!$C$5:$G$14=$B55)*(ORARIO!$B$5:$B$14=J$3)),\"\")","v":0},null,{"$f":"IF($B55<>\"\",SUMPRODUCT(1*(ORARIO!$H$5:$L$14=$B55)*(ORARIO!$B$5:$B$14=L$3)),\"\")","v":0},{"$f":"IF($B55<>\"\",SUMPRODUCT(1*(ORARIO!$H$5:$L$14=$B55)*(ORARIO!$B$5:$B$14=M$3)),\"\")","v":0},{"$f":"IF($B55<>\"\",SUMPRODUCT(1*(ORARIO!$H$5:$L$14=$B55)*(ORARIO!$B$5:$B$14=N$3)),\"\")","v":0},{"$f":"IF($B55<>\"\",SUMPRODUCT(1*(ORARIO!$H$5:$L$14=$B55)*(ORARIO!$B$5:$B$14=O$3)),\"\")","v":0},{"$f":"IF($B55<>\"\",SUMPRODUCT(1*(ORARIO!$H$5:$L$14=$B55)*(ORARIO!$B$5:$B$14=P$3)),\"\")","v":0},{"$f":"IF($B55<>\"\",SUMPRODUCT(1*(ORARIO!$H$5:$L$14=$B55)*(ORARIO!$B$5:$B$14=Q$3)),\"\")","v":0},{"$f":"IF($B55<>\"\",SUMPRODUCT(1*(ORARIO!$H$5:$L$14=$B55)*(ORARIO!$B$5:$B$14=R$3)),\"\")","v":0},{"$f":"IF($B55<>\"\",SUMPRODUCT(1*(ORARIO!$H$5:$L$14=$B55)*(ORARIO!$B$5:$B$14=S$3)),\"\")","v":0},null,{"$f":"IF($B55<>\"\",SUMPRODUCT(1*(ORARIO!$M$5:$Q$14=$B55)*(ORARIO!$B$5:$B$14=U$3)),\"\")","v":0},{"$f":"IF($B55<>\"\",SUMPRODUCT(1*(ORARIO!$M$5:$Q$14=$B55)*(ORARIO!$B$5:$B$14=V$3)),\"\")","v":0},{"$f":"IF($B55<>\"\",SUMPRODUCT(1*(ORARIO!$M$5:$Q$14=$B55)*(ORARIO!$B$5:$B$14=W$3)),\"\")","v":0},{"$f":"IF($B55<>\"\",SUMPRODUCT(1*(ORARIO!$M$5:$Q$14=$B55)*(ORARIO!$B$5:$B$14=X$3)),\"\")","v":0},{"$f":"IF($B55<>\"\",SUMPRODUCT(1*(ORARIO!$M$5:$Q$14=$B55)*(ORARIO!$B$5:$B$14=Y$3)),\"\")","v":0},{"$f":"IF($B55<>\"\",SUMPRODUCT(1*(ORARIO!$M$5:$Q$14=$B55)*(ORARIO!$B$5:$B$14=Z$3)),\"\")","v":0},{"$f":"IF($B55<>\"\",SUMPRODUCT(1*(ORARIO!$M$5:$Q$14=$B55)*(ORARIO!$B$5:$B$14=AA$3)),\"\")","v":0},{"$f":"IF($B55<>\"\",SUMPRODUCT(1*(ORARIO!$M$5:$Q$14=$B55)*(ORARIO!$B$5:$B$14=AB$3)),\"\")","v":0},null,{"$f":"IF($B55<>\"\",SUMPRODUCT(1*(ORARIO!$R$5:$V$14=$B55)*(ORARIO!$B$5:$B$14=AD$3)),\"\")","v":0},{"$f":"IF($B55<>\"\",SUMPRODUCT(1*(ORARIO!$R$5:$V$14=$B55)*(ORARIO!$B$5:$B$14=AE$3)),\"\")","v":0},{"$f":"IF($B55<>\"\",SUMPRODUCT(1*(ORARIO!$R$5:$V$14=$B55)*(ORARIO!$B$5:$B$14=AF$3)),\"\")","v":0},{"$f":"IF($B55<>\"\",SUMPRODUCT(1*(ORARIO!$R$5:$V$14=$B55)*(ORARIO!$B$5:$B$14=AG$3)),\"\")","v":0},{"$f":"IF($B55<>\"\",SUMPRODUCT(1*(ORARIO!$R$5:$V$14=$B55)*(ORARIO!$B$5:$B$14=AH$3)),\"\")","v":0},{"$f":"IF($B55<>\"\",SUMPRODUCT(1*(ORARIO!$R$5:$V$14=$B55)*(ORARIO!$B$5:$B$14=AI$3)),\"\")","v":0},{"$f":"IF($B55<>\"\",SUMPRODUCT(1*(ORARIO!$R$5:$V$14=$B55)*(ORARIO!$B$5:$B$14=AJ$3)),\"\")","v":0},{"$f":"IF($B55<>\"\",SUMPRODUCT(1*(ORARIO!$R$5:$V$14=$B55)*(ORARIO!$B$5:$B$14=AK$3)),\"\")","v":0},null,{"$f":"IF($B55<>\"\",SUMPRODUCT(1*(ORARIO!$W$5:$AA$14=$B55)*(ORARIO!$B$5:$B$14=AM$3)),\"\")","v":0},{"$f":"IF($B55<>\"\",SUMPRODUCT(1*(ORARIO!$W$5:$AA$14=$B55)*(ORARIO!$B$5:$B$14=AN$3)),\"\")","v":0},{"$f":"IF($B55<>\"\",SUMPRODUCT(1*(ORARIO!$W$5:$AA$14=$B55)*(ORARIO!$B$5:$B$14=AO$3)),\"\")","v":0},{"$f":"IF($B55<>\"\",SUMPRODUCT(1*(ORARIO!$W$5:$AA$14=$B55)*(ORARIO!$B$5:$B$14=AP$3)),\"\")","v":0},{"$f":"IF($B55<>\"\",SUMPRODUCT(1*(ORARIO!$W$5:$AA$14=$B55)*(ORARIO!$B$5:$B$14=AQ$3)),\"\")","v":0},{"$f":"IF($B55<>\"\",SUMPRODUCT(1*(ORARIO!$W$5:$AA$14=$B55)*(ORARIO!$B$5:$B$14=AR$3)),\"\")","v":0},{"$f":"IF($B55<>\"\",SUMPRODUCT(1*(ORARIO!$W$5:$AA$14=$B55)*(ORARIO!$B$5:$B$14=AS$3)),\"\")","v":0},{"$f":"IF($B55<>\"\",SUMPRODUCT(1*(ORARIO!$W$5:$AA$14=$B55)*(ORARIO!$B$5:$B$14=AT$3)),\"\")","v":0}]
[null,"E nar",{"$f":"IF($B$4<>\"\",SUMPRODUCT(1*(ORARIO!$C$5:$G$14=$B56)*(ORARIO!$B$5:$B$14=C$3)),\"\")","v":0},{"$f":"IF($B$4<>\"\",SUMPRODUCT(1*(ORARIO!$C$5:$G$14=$B56)*(ORARIO!$B$5:$B$14=D$3)),\"\")","v":0},{"$f":"IF($B$4<>\"\",SUMPRODUCT(1*(ORARIO!$C$5:$G$14=$B56)*(ORARIO!$B$5:$B$14=E$3)),\"\")","v":0},{"$f":"IF($B$4<>\"\",SUMPRODUCT(1*(ORARIO!$C$5:$G$14=$B56)*(ORARIO!$B$5:$B$14=F$3)),\"\")","v":0},{"$f":"IF($B$4<>\"\",SUMPRODUCT(1*(ORARIO!$C$5:$G$14=$B56)*(ORARIO!$B$5:$B$14=G$3)),\"\")","v":0},{"$f":"IF($B$4<>\"\",SUMPRODUCT(1*(ORARIO!$C$5:$G$14=$B56)*(ORARIO!$B$5:$B$14=H$3)),\"\")","v":0},{"$f":"IF($B$4<>\"\",SUMPRODUCT(1*(ORARIO!$C$5:$G$14=$B56)*(ORARIO!$B$5:$B$14=I$3)),\"\")","v":0},{"$f":"IF($B$4<>\"\",SUMPRODUCT(1*(ORARIO!$C$5:$G$14=$B56)*(ORARIO!$B$5:$B$14=J$3)),\"\")","v":0},null,{"$f":"IF($B56<>\"\",SUMPRODUCT(1*(ORARIO!$H$5:$L$14=$B56)*(ORARIO!$B$5:$B$14=L$3)),\"\")","v":0},{"$f":"IF($B56<>\"\",SUMPRODUCT(1*(ORARIO!$H$5:$L$14=$B56)*(ORARIO!$B$5:$B$14=M$3)),\"\")","v":0},{"$f":"IF($B56<>\"\",SUMPRODUCT(1*(ORARIO!$H$5:$L$14=$B56)*(ORARIO!$B$5:$B$14=N$3)),\"\")","v":0},{"$f":"IF($B56<>\"\",SUMPRODUCT(1*(ORARIO!$H$5:$L$14=$B56)*(ORARIO!$B$5:$B$14=O$3)),\"\")","v":0},{"$f":"IF($B56<>\"\",SUMPRODUCT(1*(ORARIO!$H$5:$L$14=$B56)*(ORARIO!$B$5:$B$14=P$3)),\"\")","v":0},{"$f":"IF($B56<>\"\",SUMPRODUCT(1*(ORARIO!$H$5:$L$14=$B56)*(ORARIO!$B$5:$B$14=Q$3)),\"\")","v":0},{"$f":"IF($B56<>\"\",SUMPRODUCT(1*(ORARIO!$H$5:$L$14=$B56)*(ORARIO!$B$5:$B$14=R$3)),\"\")","v":0},{"$f":"IF($B56<>\"\",SUMPRODUCT(1*(ORARIO!$H$5:$L$14=$B56)*(ORARIO!$B$5:$B$14=S$3)),\"\")","v":0},null,{"$f":"IF($B56<>\"\",SUMPRODUCT(1*(ORARIO!$M$5:$Q$14=$B56)*(ORARIO!$B$5:$B$14=U$3)),\"\")","v":0},{"$f":"IF($B56<>\"\",SUMPRODUCT(1*(ORARIO!$M$5:$Q$14=$B56)*(ORARIO!$B$5:$B$14=V$3)),\"\")","v":0},{"$f":"IF($B56<>\"\",SUMPRODUCT(1*(ORARIO!$M$5:$Q$14=$B56)*(ORARIO!$B$5:$B$14=W$3)),\"\")","v":0},{"$f":"IF($B56<>\"\",SUMPRODUCT(1*(ORARIO!$M$5:$Q$14=$B56)*(ORARIO!$B$5:$B$14=X$3)),\"\")","v":0},{"$f":"IF($B56<>\"\",SUMPRODUCT(1*(ORARIO!$M$5:$Q$14=$B56)*(ORARIO!$B$5:$B$14=Y$3)),\"\")","v":0},{"$f":"IF($B56<>\"\",SUMPRODUCT(1*(ORARIO!$M$5:$Q$14=$B56)*(ORARIO!$B$5:$B$14=Z$3)),\"\")","v":0},{"$f":"IF($B56<>\"\",SUMPRODUCT(1*(ORARIO!$M$5:$Q$14=$B56)*(ORARIO!$B$5:$B$14=AA$3)),\"\")","v":0},{"$f":"IF($B56<>\"\",SUMPRODUCT(1*(ORARIO!$M$5:$Q$14=$B56)*(ORARIO!$B$5:$B$14=AB$3)),\"\")","v":0},null,{"$f":"IF($B56<>\"\",SUMPRODUCT(1*(ORARIO!$R$5:$V$14=$B56)*(ORARIO!$B$5:$B$14=AD$3)),\"\")","v":0},{"$f":"IF($B56<>\"\",SUMPRODUCT(1*(ORARIO!$R$5:$V$14=$B56)*(ORARIO!$B$5:$B$14=AE$3)),\"\")","v":0},{"$f":"IF($B56<>\"\",SUMPRODUCT(1*(ORARIO!$R$5:$V$14=$B56)*(ORARIO!$B$5:$B$14=AF$3)),\"\")","v":0},{"$f":"IF($B56<>\"\",SUMPRODUCT(1*(ORARIO!$R$5:$V$14=$B56)*(ORARIO!$B$5:$B$14=AG$3)),\"\")","v":0},{"$f":"IF($B56<>\"\",SUMPRODUCT(1*(ORARIO!$R$5:$V$14=$B56)*(ORARIO!$B$5:$B$14=AH$3)),\"\")","v":0},{"$f":"IF($B56<>\"\",SUMPRODUCT(1*(ORARIO!$R$5:$V$14=$B56)*(ORARIO!$B$5:$B$14=AI$3)),\"\")","v":0},{"$f":"IF($B56<>\"\",SUMPRODUCT(1*(ORARIO!$R$5:$V$14=$B56)*(ORARIO!$B$5:$B$14=AJ$3)),\"\")","v":0},{"$f":"IF($B56<>\"\",SUMPRODUCT(1*(ORARIO!$R$5:$V$14=$B56)*(ORARIO!$B$5:$B$14=AK$3)),\"\")","v":0},null,{"$f":"IF($B56<>\"\",SUMPRODUCT(1*(ORARIO!$W$5:$AA$14=$B56)*(ORARIO!$B$5:$B$14=AM$3)),\"\")","v":0},{"$f":"IF($B56<>\"\",SUMPRODUCT(1*(ORARIO!$W$5:$AA$14=$B56)*(ORARIO!$B$5:$B$14=AN$3)),\"\")","v":0},{"$f":"IF($B56<>\"\",SUMPRODUCT(1*(ORARIO!$W$5:$AA$14=$B56)*(ORARIO!$B$5:$B$14=AO$3)),\"\")","v":0},{"$f":"IF($B56<>\"\",SUMPRODUCT(1*(ORARIO!$W$5:$AA$14=$B56)*(ORARIO!$B$5:$B$14=AP$3)),\"\")","v":0},{"$f":"IF($B56<>\"\",SUMPRODUCT(1*(ORARIO!$W$5:$AA$14=$B56)*(ORARIO!$B$5:$B$14=AQ$3)),\"\")","v":0},{"$f":"IF($B56<>\"\",SUMPRODUCT(1*(ORARIO!$W$5:$AA$14=$B56)*(ORARIO!$B$5:$B$14=AR$3)),\"\")","v":0},{"$f":"IF($B56<>\"\",SUMPRODUCT(1*(ORARIO!$W$5:$AA$14=$B56)*(ORARIO!$B$5:$B$14=AS$3)),\"\")","v":0},{"$f":"IF($B56<>\"\",SUMPRODUCT(1*(ORARIO!$W$5:$AA$14=$B56)*(ORARIO!$B$5:$B$14=AT$3)),\"\")","v":0}]
[null,"E zgo",{"$f":"IF($B$4<>\"\",SUMPRODUCT(1*(ORARIO!$C$5:$G$14=$B57)*(ORARIO!$B$5:$B$14=C$3)),\"\")","v":0},{"$f":"IF($B$4<>\"\",SUMPRODUCT(1*(ORARIO!$C$5:$G$14=$B57)*(ORARIO!$B$5:$B$14=D$3)),\"\")","v":0},{"$f":"IF($B$4<>\"\",SUMPRODUCT(1*(ORARIO!$C$5:$G$14=$B57)*(ORARIO!$B$5:$B$14=E$3)),\"\")","v":0},{"$f":"IF($B$4<>\"\",SUMPRODUCT(1*(ORARIO!$C$5:$G$14=$B57)*(ORARIO!$B$5:$B$14=F$3)),\"\")","v":0},{"$f":"IF($B$4<>\"\",SUMPRODUCT(1*(ORARIO!$C$5:$G$14=$B57)*(ORARIO!$B$5:$B$14=G$3)),\"\")","v":0},{"$f":"IF($B$4<>\"\",SUMPRODUCT(1*(ORARIO!$C$5:$G$14=$B57)*(ORARIO!$B$5:$B$14=H$3)),\"\")","v":0},{"$f":"IF($B$4<>\"\",SUMPRODUCT(1*(ORARIO!$C$5:$G$14=$B57)*(ORARIO!$B$5:$B$14=I$3)),\"\")","v":0},{"$f":"IF($B$4<>\"\",SUMPRODUCT(1*(ORARIO!$C$5:$G$14=$B57)*(ORARIO!$B$5:$B$14=J$3)),\"\")","v":0},null,{"$f":"IF($B57<>\"\",SUMPRODUCT(1*(ORARIO!$H$5:$L$14=$B57)*(ORARIO!$B$5:$B$14=L$3)),\"\")","v":0},{"$f":"IF($B57<>\"\",SUMPRODUCT(1*(ORARIO!$H$5:$L$14=$B57)*(ORARIO!$B$5:$B$14=M$3)),\"\")","v":0},{"$f":"IF($B57<>\"\",SUMPRODUCT(1*(ORARIO!$H$5:$L$14=$B57)*(ORARIO!$B$5:$B$14=N$3)),\"\")","v":0},{"$f":"IF($B57<>\"\",SUMPRODUCT(1*(ORARIO!$H$5:$L$14=$B57)*(ORARIO!$B$5:$B$14=O$3)),\"\")","v":0},{"$f":"IF($B57<>\"\",SUMPRODUCT(1*(ORARIO!$H$5:$L$14=$B57)*(ORARIO!$B$5:$B$14=P$3)),\"\")","v":0},{"$f":"IF($B57<>\"\",SUMPRODUCT(1*(ORARIO!$H$5:$L$14=$B57)*(ORARIO!$B$5:$B$14=Q$3)),\"\")","v":0},{"$f":"IF($B57<>\"\",SUMPRODUCT(1*(ORARIO!$H$5:$L$14=$B57)*(ORARIO!$B$5:$B$14=R$3)),\"\")","v":0},{"$f":"IF($B57<>\"\",SUMPRODUCT(1*(ORARIO!$H$5:$L$14=$B57)*(ORARIO!$B$5:$B$14=S$3)),\"\")","v":0},null,{"$f":"IF($B57<>\"\",SUMPRODUCT(1*(ORARIO!$M$5:$Q$14=$B57)*(ORARIO!$B$5:$B$14=U$3)),\"\")","v":0},{"$f":"IF($B57<>\"\",SUMPRODUCT(1*(ORARIO!$M$5:$Q$14=$B57)*(ORARIO!$B$5:$B$14=V$3)),\"\")","v":0},{"$f":"IF($B57<>\"\",SUMPRODUCT(1*(ORARIO!$M$5:$Q$14=$B57)*(ORARIO!$B$5:$B$14=W$3)),\"\")","v":0},{"$f":"IF($B57<>\"\",SUMPRODUCT(1*(ORARIO!$M$5:$Q$14=$B57)*(ORARIO!$B$5:$B$14=X$3)),\"\")","v":0},{"$f":"IF($B57<>\"\",SUMPRODUCT(1*(ORARIO!$M$5:$Q$14=$B57)*(ORARIO!$B$5:$B$14=Y$3)),\"\")","v":0},{"$f":"IF($B57<>\"\",SUMPRODUCT(1*(ORARIO!$M$5:$Q$14=$B57)*(ORARIO!$B$5:$B$14=Z$3)),\"\")","v":0},{"$f":"IF($B57<>\"\",SUMPRODUCT(1*(ORARIO!$M$5:$Q$14=$B57)*(ORARIO!$B$5:$B$14=AA$3)),\"\")","v":0},{"$f":"IF($B57<>\"\",SUMPRODUCT(1*(ORARIO!$M$5:$Q$14=$B57)*(ORARIO!$B$5:$B$14=AB$3)),\"\")","v":0},null,{"$f":"IF($B57<>\"\",SUMPRODUCT(1*(ORARIO!$R$5:$V$14=$B57)*(ORARIO!$B$5:$B$14=AD$3)),\"\")","v":0},{"$f":"IF($B57<>\"\",SUMPRODUCT(1*(ORARIO!$R$5:$V$14=$B57)*(ORARIO!$B$5:$B$14=AE$3)),\"\")","v":0},{"$f":"IF($B57<>\"\",SUMPRODUCT(1*(ORARIO!$R$5:$V$14=$B57)*(ORARIO!$B$5:$B$14=AF$3)),\"\")","v":0},{"$f":"IF($B57<>\"\",SUMPRODUCT(1*(ORARIO!$R$5:$V$14=$B57)*(ORARIO!$B$5:$B$14=AG$3)),\"\")","v":0},{"$f":"IF($B57<>\"\",SUMPRODUCT(1*(ORARIO!$R$5:$V$14=$B57)*(ORARIO!$B$5:$B$14=AH$3)),\"\")","v":0},{"$f":"IF($B57<>\"\",SUMPRODUCT(1*(ORARIO!$R$5:$V$14=$B57)*(ORARIO!$B$5:$B$14=AI$3)),\"\")","v":0},{"$f":"IF($B57<>\"\",SUMPRODUCT(1*(ORARIO!$R$5:$V$14=$B57)*(ORARIO!$B$5:$B$14=AJ$3)),\"\")","v":0},{"$f":"IF($B57<>\"\",SUMPRODUCT(1*(ORARIO!$R$5:$V$14=$B57)*(ORARIO!$B$5:$B$14=AK$3)),\"\")","v":0},null,{"$f":"IF($B57<>\"\",SUMPRODUCT(1*(ORARIO!$W$5:$AA$14=$B57)*(ORARIO!$B$5:$B$14=AM$3)),\"\")","v":0},{"$f":"IF($B57<>\"\",SUMPRODUCT(1*(ORARIO!$W$5:$AA$14=$B57)*(ORARIO!$B$5:$B$14=AN$3)),\"\")","v":0},{"$f":"IF($B57<>\"\",SUMPRODUCT(1*(ORARIO!$W$5:$AA$14=$B57)*(ORARIO!$B$5:$B$14=AO$3)),\"\")","v":0},{"$f":"IF($B57<>\"\",SUMPRODUCT(1*(ORARIO!$W$5:$AA$14=$B57)*(ORARIO!$B$5:$B$14=AP$3)),\"\")","v":0},{"$f":"IF($B57<>\"\",SUMPRODUCT(1*(ORARIO!$W$5:$AA$14=$B57)*(ORARIO!$B$5:$B$14=AQ$3)),\"\")","v":0},{"$f":"IF($B57<>\"\",SUMPRODUCT(1*(ORARIO!$W$5:$AA$14=$B57)*(ORARIO!$B$5:$B$14=AR$3)),\"\")","v":0},{"$f":"IF($B57<>\"\",SUMPRODUCT(1*(ORARIO!$W$5:$AA$14=$B57)*(ORARIO!$B$5:$B$14=AS$3)),\"\")","v":0},{"$f":"IF($B57<>\"\",SUMPRODUCT(1*(ORARIO!$W$5:$AA$14=$B57)*(ORARIO!$B$5:$B$14=AT$3)),\"\")","v":0}]
[null,"E geo",{"$f":"IF($B$4<>\"\",SUMPRODUCT(1*(ORARIO!$C$5:$G$14=$B58)*(ORARIO!$B$5:$B$14=C$3)),\"\")","v":0},{"$f":"IF($B$4<>\"\",SUMPRODUCT(1*(ORARIO!$C$5:$G$14=$B58)*(ORARIO!$B$5:$B$14=D$3)),\"\")","v":0},{"$f":"IF($B$4<>\"\",SUMPRODUCT(1*(ORARIO!$C$5:$G$14=$B58)*(ORARIO!$B$5:$B$14=E$3)),\"\")","v":0},{"$f":"IF($B$4<>\"\",SUMPRODUCT(1*(ORARIO!$C$5:$G$14=$B58)*(ORARIO!$B$5:$B$14=F$3)),\"\")","v":0},{"$f":"IF($B$4<>\"\",SUMPRODUCT(1*(ORARIO!$C$5:$G$14=$B58)*(ORARIO!$B$5:$B$14=G$3)),\"\")","v":0},{"$f":"IF($B$4<>\"\",SUMPRODUCT(1*(ORARIO!$C$5:$G$14=$B58)*(ORARIO!$B$5:$B$14=H$3)),\"\")","v":0},{"$f":"IF($B$4<>\"\",SUMPRODUCT(1*(ORARIO!$C$5:$G$14=$B58)*(ORARIO!$B$5:$B$14=I$3)),\"\")","v":0},{"$f":"IF($B$4<>\"\",SUMPRODUCT(1*(ORARIO!$C$5:$G$14=$B58)*(ORARIO!$B$5:$B$14=J$3)),\"\")","v":0},null,{"$f":"IF($B58<>\"\",SUMPRODUCT(1*(ORARIO!$H$5:$L$14=$B58)*(ORARIO!$B$5:$B$14=L$3)),\"\")","v":0},{"$f":"IF($B58<>\"\",SUMPRODUCT(1*(ORARIO!$H$5:$L$14=$B58)*(ORARIO!$B$5:$B$14=M$3)),\"\")","v":0},{"$f":"IF($B58<>\"\",SUMPRODUCT(1*(ORARIO!$H$5:$L$14=$B58)*(ORARIO!$B$5:$B$14=N$3)),\"\")","v":0},{"$f":"IF($B58<>\"\",SUMPRODUCT(1*(ORARIO!$H$5:$L$14=$B58)*(ORARIO!$B$5:$B$14=O$3)),\"\")","v":0},{"$f":"IF($B58<>\"\",SUMPRODUCT(1*(ORARIO!$H$5:$L$14=$B58)*(ORARIO!$B$5:$B$14=P$3)),\"\")","v":0},{"$f":"IF($B58<>\"\",SUMPRODUCT(1*(ORARIO!$H$5:$L$14=$B58)*(ORARIO!$B$5:$B$14=Q$3)),\"\")","v":0},{"$f":"IF($B58<>\"\",SUMPRODUCT(1*(ORARIO!$H$5:$L$14=$B58)*(ORARIO!$B$5:$B$14=R$3)),\"\")","v":0},{"$f":"IF($B58<>\"\",SUMPRODUCT(1*(ORARIO!$H$5:$L$14=$B58)*(ORARIO!$B$5:$B$14=S$3)),\"\")","v":0},null,{"$f":"IF($B58<>\"\",SUMPRODUCT(1*(ORARIO!$M$5:$Q$14=$B58)*(ORARIO!$B$5:$B$14=U$3)),\"\")","v":0},{"$f":"IF($B58<>\"\",SUMPRODUCT(1*(ORARIO!$M$5:$Q$14=$B58)*(ORARIO!$B$5:$B$14=V$3)),\"\")","v":0},{"$f":"IF($B58<>\"\",SUMPRODUCT(1*(ORARIO!$M$5:$Q$14=$B58)*(ORARIO!$B$5:$B$14=W$3)),\"\")","v":0},{"$f":"IF($B58<>\"\",SUMPRODUCT(1*(ORARIO!$M$5:$Q$14=$B58)*(ORARIO!$B$5:$B$14=X$3)),\"\")","v":0},{"$f":"IF($B58<>\"\",SUMPRODUCT(1*(ORARIO!$M$5:$Q$14=$B58)*(ORARIO!$B$5:$B$14=Y$3)),\"\")","v":0},{"$f":"IF($B58<>\"\",SUMPRODUCT(1*(ORARIO!$M$5:$Q$14=$B58)*(ORARIO!$B$5:$B$14=Z$3)),\"\")","v":0},{"$f":"IF($B58<>\"\",SUMPRODUCT(1*(ORARIO!$M$5:$Q$14=$B58)*(ORARIO!$B$5:$B$14=AA$3)),\"\")","v":0},{"$f":"IF($B58<>\"\",SUMPRODUCT(1*(ORARIO!$M$5:$Q$14=$B58)*(ORARIO!$B$5:$B$14=AB$3)),\"\")","v":0},null,{"$f":"IF($B58<>\"\",SUMPRODUCT(1*(ORARIO!$R$5:$V$14=$B58)*(ORARIO!$B$5:$B$14=AD$3)),\"\")","v":0},{"$f":"IF($B58<>\"\",SUMPRODUCT(1*(ORARIO!$R$5:$V$14=$B58)*(ORARIO!$B$5:$B$14=AE$3)),\"\")","v":0},{"$f":"IF($B58<>\"\",SUMPRODUCT(1*(ORARIO!$R$5:$V$14=$B58)*(ORARIO!$B$5:$B$14=AF$3)),\"\")","v":0},{"$f":"IF($B58<>\"\",SUMPRODUCT(1*(ORARIO!$R$5:$V$14=$B58)*(ORARIO!$B$5:$B$14=AG$3)),\"\")","v":0},{"$f":"IF($B58<>\"\",SUMPRODUCT(1*(ORARIO!$R$5:$V$14=$B58)*(ORARIO!$B$5:$B$14=AH$3)),\"\")","v":0},{"$f":"IF($B58<>\"\",SUMPRODUCT(1*(ORARIO!$R$5:$V$14=$B58)*(ORARIO!$B$5:$B$14=AI$3)),\"\")","v":0},{"$f":"IF($B58<>\"\",SUMPRODUCT(1*(ORARIO!$R$5:$V$14=$B58)*(ORARIO!$B$5:$B$14=AJ$3)),\"\")","v":0},{"$f":"IF($B58<>\"\",SUMPRODUCT(1*(ORARIO!$R$5:$V$14=$B58)*(ORARIO!$B$5:$B$14=AK$3)),\"\")","v":0},null,{"$f":"IF($B58<>\"\",SUMPRODUCT(1*(ORARIO!$W$5:$AA$14=$B58)*(ORARIO!$B$5:$B$14=AM$3)),\"\")","v":0},{"$f":"IF($B58<>\"\",SUMPRODUCT(1*(ORARIO!$W$5:$AA$14=$B58)*(ORARIO!$B$5:$B$14=AN$3)),\"\")","v":0},{"$f":"IF($B58<>\"\",SUMPRODUCT(1*(ORARIO!$W$5:$AA$14=$B58)*(ORARIO!$B$5:$B$14=AO$3)),\"\")","v":0},{"$f":"IF($B58<>\"\",SUMPRODUCT(1*(ORARIO!$W$5:$AA$14=$B58)*(ORARIO!$B$5:$B$14=AP$3)),\"\")","v":0},{"$f":"IF($B58<>\"\",SUMPRODUCT(1*(ORARIO!$W$5:$AA$14=$B58)*(ORARIO!$B$5:$B$14=AQ$3)),\"\")","v":0},{"$f":"IF($B58<>\"\",SUMPRODUCT(1*(ORARIO!$W$5:$AA$14=$B58)*(ORARIO!$B$5:$B$14=AR$3)),\"\")","v":0},{"$f":"IF($B58<>\"\",SUMPRODUCT(1*(ORARIO!$W$5:$AA$14=$B58)*(ORARIO!$B$5:$B$14=AS$3)),\"\")","v":0},{"$f":"IF($B58<>\"\",SUMPRODUCT(1*(ORARIO!$W$5:$AA$14=$B58)*(ORARIO!$B$5:$B$14=AT$3)),\"\")","v":0}]
[null,"E lik",{"$f":"IF($B$4<>\"\",SUMPRODUCT(1*(ORARIO!$C$5:$G$14=$B59)*(ORARIO!$B$5:$B$14=C$3)),\"\")","v":0},{"$f":"IF($B$4<>\"\",SUMPRODUCT(1*(ORARIO!$C$5:$G$14=$B59)*(ORARIO!$B$5:$B$14=D$3)),\"\")","v":0},{"$f":"IF($B$4<>\"\",SUMPRODUCT(1*(ORARIO!$C$5:$G$14=$B59)*(ORARIO!$B$5:$B$14=E$3)),\"\")","v":0},{"$f":"IF($B$4<>\"\",SUMPRODUCT(1*(ORARIO!$C$5:$G$14=$B59)*(ORARIO!$B$5:$B$14=F$3)),\"\")","v":0},{"$f":"IF($B$4<>\"\",SUMPRODUCT(1*(ORARIO!$C$5:$G$14=$B59)*(ORARIO!$B$5:$B$14=G$3)),\"\")","v":0},{"$f":"IF($B$4<>\"\",SUMPRODUCT(1*(ORARIO!$C$5:$G$14=$B59)*(ORARIO!$B$5:$B$14=H$3)),\"\")","v":0},{"$f":"IF($B$4<>\"\",SUMPRODUCT(1*(ORARIO!$C$5:$G$14=$B59)*(ORARIO!$B$5:$B$14=I$3)),\"\")","v":0},{"$f":"IF($B$4<>\"\",SUMPRODUCT(1*(ORARIO!$C$5:$G$14=$B59)*(ORARIO!$B$5:$B$14=J$3)),\"\")","v":0},null,{"$f":"IF($B59<>\"\",SUMPRODUCT(1*(ORARIO!$H$5:$L$14=$B59)*(ORARIO!$B$5:$B$14=L$3)),\"\")","v":0},{"$f":"IF($B59<>\"\",SUMPRODUCT(1*(ORARIO!$H$5:$L$14=$B59)*(ORARIO!$B$5:$B$14=M$3)),\"\")","v":0},{"$f":"IF($B59<>\"\",SUMPRODUCT(1*(ORARIO!$H$5:$L$14=$B59)*(ORARIO!$B$5:$B$14=N$3)),\"\")","v":0},{"$f":"IF($B59<>\"\",SUMPRODUCT(1*(ORARIO!$H$5:$L$14=$B59)*(ORARIO!$B$5:$B$14=O$3)),\"\")","v":0},{"$f":"IF($B59<>\"\",SUMPRODUCT(1*(ORARIO!$H$5:$L$14=$B59)*(ORARIO!$B$5:$B$14=P$3)),\"\")","v":0},{"$f":"IF($B59<>\"\",SUMPRODUCT(1*(ORARIO!$H$5:$L$14=$B59)*(ORARIO!$B$5:$B$14=Q$3)),\"\")","v":0},{"$f":"IF($B59<>\"\",SUMPRODUCT(1*(ORARIO!$H$5:$L$14=$B59)*(ORARIO!$B$5:$B$14=R$3)),\"\")","v":0},{"$f":"IF($B59<>\"\",SUMPRODUCT(1*(ORARIO!$H$5:$L$14=$B59)*(ORARIO!$B$5:$B$14=S$3)),\"\")","v":0},null,{"$f":"IF($B59<>\"\",SUMPRODUCT(1*(ORARIO!$M$5:$Q$14=$B59)*(ORARIO!$B$5:$B$14=U$3)),\"\")","v":0},{"$f":"IF($B59<>\"\",SUMPRODUCT(1*(ORARIO!$M$5:$Q$14=$B59)*(ORARIO!$B$5:$B$14=V$3)),\"\")","v":0},{"$f":"IF($B59<>\"\",SUMPRODUCT(1*(ORARIO!$M$5:$Q$14=$B59)*(ORARIO!$B$5:$B$14=W$3)),\"\")","v":0},{"$f":"IF($B59<>\"\",SUMPRODUCT(1*(ORARIO!$M$5:$Q$14=$B59)*(ORARIO!$B$5:$B$14=X$3)),\"\")","v":0},{"$f":"IF($B59<>\"\",SUMPRODUCT(1*(ORARIO!$M$5:$Q$14=$B59)*(ORARIO!$B$5:$B$14=Y$3)),\"\")","v":0},{"$f":"IF($B59<>\"\",SUMPRODUCT(1*(ORARIO!$M$5:$Q$14=$B59)*(ORARIO!$B$5:$B$14=Z$3)),\"\")","v":0},{"$f":"IF($B59<>\"\",SUMPRODUCT(1*(ORARIO!$M$5:$Q$14=$B59)*(ORARIO!$B$5:$B$14=AA$3)),\"\")","v":0},{"$f":"IF($B59<>\"\",SUMPRODUCT(1*(ORARIO!$M$5:$Q$14=$B59)*(ORARIO!$B$5:$B$14=AB$3)),\"\")","v":0},null,{"$f":"IF($B59<>\"\",SUMPRODUCT(1*(ORARIO!$R$5:$V$14=$B59)*(ORARIO!$B$5:$B$14=AD$3)),\"\")","v":0},{"$f":"IF($B59<>\"\",SUMPRODUCT(1*(ORARIO!$R$5:$V$14=$B59)*(ORARIO!$B$5:$B$14=AE$3)),\"\")","v":0},{"$f":"IF($B59<>\"\",SUMPRODUCT(1*(ORARIO!$R$5:$V$14=$B59)*(ORARIO!$B$5:$B$14=AF$3)),\"\")","v":0},{"$f":"IF($B59<>\"\",SUMPRODUCT(1*(ORARIO!$R$5:$V$14=$B59)*(ORARIO!$B$5:$B$14=AG$3)),\"\")","v":0},{"$f":"IF($B59<>\"\",SUMPRODUCT(1*(ORARIO!$R$5:$V$14=$B59)*(ORARIO!$B$5:$B$14=AH$3)),\"\")","v":0},{"$f":"IF($B59<>\"\",SUMPRODUCT(1*(ORARIO!$R$5:$V$14=$B59)*(ORARIO!$B$5:$B$14=AI$3)),\"\")","v":0},{"$f":"IF($B59<>\"\",SUMPRODUCT(1*(ORARIO!$R$5:$V$14=$B59)*(ORARIO!$B$5:$B$14=AJ$3)),\"\")","v":0},{"$f":"IF($B59<>\"\",SUMPRODUCT(1*(ORARIO!$R$5:$V$14=$B59)*(ORARIO!$B$5:$B$14=AK$3)),\"\")","v":0},null,{"$f":"IF($B59<>\"\",SUMPRODUCT(1*(ORARIO!$W$5:$AA$14=$B59)*(ORARIO!$B$5:$B$14=AM$3)),\"\")","v":0},{"$f":"IF($B59<>\"\",SUMPRODUCT(1*(ORARIO!$W$5:$AA$14=$B59)*(ORARIO!$B$5:$B$14=AN$3)),\"\")","v":0},{"$f":"IF($B59<>\"\",SUMPRODUCT(1*(ORARIO!$W$5:$AA$14=$B59)*(ORARIO!$B$5:$B$14=AO$3)),\"\")","v":0},{"$f":"IF($B59<>\"\",SUMPRODUCT(1*(ORARIO!$W$5:$AA$14=$B59)*(ORARIO!$B$5:$B$14=AP$3)),\"\")","v":0},{"$f":"IF($B59<>\"\",SUMPRODUCT(1*(ORARIO!$W$5:$AA$14=$B59)*(ORARIO!$B$5:$B$14=AQ$3)),\"\")","v":0},{"$f":"IF($B59<>\"\",SUMPRODUCT(1*(ORARIO!$W$5:$AA$14=$B59)*(ORARIO!$B$5:$B$14=AR$3)),\"\")","v":0},{"$f":"IF($B59<>\"\",SUMPRODUCT(1*(ORARIO!$W$5:$AA$14=$B59)*(ORARIO!$B$5:$B$14=AS$3)),\"\")","v":0},{"$f":"IF($B59<>\"\",SUMPRODUCT(1*(ORARIO!$W$5:$AA$14=$B59)*(ORARIO!$B$5:$B$14=AT$3)),\"\")","v":0}]
[null,"E gla",{"$f":"IF($B$4<>\"\",SUMPRODUCT(1*(ORARIO!$C$5:$G$14=$B60)*(ORARIO!$B$5:$B$14=C$3)),\"\")","v":0},{"$f":"IF($B$4<>\"\",SUMPRODUCT(1*(ORARIO!$C$5:$G$14=$B60)*(ORARIO!$B$5:$B$14=D$3)),\"\")","v":0},{"$f":"IF($B$4<>\"\",SUMPRODUCT(1*(ORARIO!$C$5:$G$14=$B60)*(ORARIO!$B$5:$B$14=E$3)),\"\")","v":0},{"$f":"IF($B$4<>\"\",SUMPRODUCT(1*(ORARIO!$C$5:$G$14=$B60)*(ORARIO!$B$5:$B$14=F$3)),\"\")","v":0},{"$f":"IF($B$4<>\"\",SUMPRODUCT(1*(ORARIO!$C$5:$G$14=$B60)*(ORARIO!$B$5:$B$14=G$3)),\"\")","v":0},{"$f":"IF($B$4<>\"\",SUMPRODUCT(1*(ORARIO!$C$5:$G$14=$B60)*(ORARIO!$B$5:$B$14=H$3)),\"\")","v":0},{"$f":"IF($B$4<>\"\",SUMPRODUCT(1*(ORARIO!$C$5:$G$14=$B60)*(ORARIO!$B$5:$B$14=I$3)),\"\")","v":0},{"$f":"IF($B$4<>\"\",SUMPRODUCT(1*(ORARIO!$C$5:$G$14=$B60)*(ORARIO!$B$5:$B$14=J$3)),\"\")","v":0},null,{"$f":"IF($B60<>\"\",SUMPRODUCT(1*(ORARIO!$H$5:$L$14=$B60)*(ORARIO!$B$5:$B$14=L$3)),\"\")","v":0},{"$f":"IF($B60<>\"\",SUMPRODUCT(1*(ORARIO!$H$5:$L$14=$B60)*(ORARIO!$B$5:$B$14=M$3)),\"\")","v":0},{"$f":"IF($B60<>\"\",SUMPRODUCT(1*(ORARIO!$H$5:$L$14=$B60)*(ORARIO!$B$5:$B$14=N$3)),\"\")","v":0},{"$f":"IF($B60<>\"\",SUMPRODUCT(1*(ORARIO!$H$5:$L$14=$B60)*(ORARIO!$B$5:$B$14=O$3)),\"\")","v":0},{"$f":"IF($B60<>\"\",SUMPRODUCT(1*(ORARIO!$H$5:$L$14=$B60)*(ORARIO!$B$5:$B$14=P$3)),\"\")","v":0},{"$f":"IF($B60<>\"\",SUMPRODUCT(1*(ORARIO!$H$5:$L$14=$B60)*(ORARIO!$B$5:$B$14=Q$3)),\"\")","v":0},{"$f":"IF($B60<>\"\",SUMPRODUCT(1*(ORARIO!$H$5:$L$14=$B60)*(ORARIO!$B$5:$B$14=R$3)),\"\")","v":0},{"$f":"IF($B60<>\"\",SUMPRODUCT(1*(ORARIO!$H$5:$L$14=$B60)*(ORARIO!$B$5:$B$14=S$3)),\"\")","v":0},null,{"$f":"IF($B60<>\"\",SUMPRODUCT(1*(ORARIO!$M$5:$Q$14=$B60)*(ORARIO!$B$5:$B$14=U$3)),\"\")","v":0},{"$f":"IF($B60<>\"\",SUMPRODUCT(1*(ORARIO!$M$5:$Q$14=$B60)*(ORARIO!$B$5:$B$14=V$3)),\"\")","v":0},{"$f":"IF($B60<>\"\",SUMPRODUCT(1*(ORARIO!$M$5:$Q$14=$B60)*(ORARIO!$B$5:$B$14=W$3)),\"\")","v":0},{"$f":"IF($B60<>\"\",SUMPRODUCT(1*(ORARIO!$M$5:$Q$14=$B60)*(ORARIO!$B$5:$B$14=X$3)),\"\")","v":0},{"$f":"IF($B60<>\"\",SUMPRODUCT(1*(ORARIO!$M$5:$Q$14=$B60)*(ORARIO!$B$5:$B$14=Y$3)),\"\")","v":0},{"$f":"IF($B60<>\"\",SUMPRODUCT(1*(ORARIO!$M$5:$Q$14=$B60)*(ORARIO!$B$5:$B$14=Z$3)),\"\")","v":0},{"$f":"IF($B60<>\"\",SUMPRODUCT(1*(ORARIO!$M$5:$Q$14=$B60)*(ORARIO!$B$5:$B$14=AA$3)),\"\")","v":0},{"$f":"IF($B60<>\"\",SUMPRODUCT(1*(ORARIO!$M$5:$Q$14=$B60)*(ORARIO!$B$5:$B$14=AB$3)),\"\")","v":0},null,{"$f":"IF($B60<>\"\",SUMPRODUCT(1*(ORARIO!$R$5:$V$14=$B60)*(ORARIO!$B$5:$B$14=AD$3)),\"\")","v":0},{"$f":"IF($B60<>\"\",SUMPRODUCT(1*(ORARIO!$R$5:$V$14=$B60)*(ORARIO!$B$5:$B$14=AE$3)),\"\")","v":0},{"$f":"IF($B60<>\"\",SUMPRODUCT(1*(ORARIO!$R$5:$V$14=$B60)*(ORARIO!$B$5:$B$14=AF$3)),\"\")","v":0},{"$f":"IF($B60<>\"\",SUMPRODUCT(1*(ORARIO!$R$5:$V$14=$B60)*(ORARIO!$B$5:$B$14=AG$3)),\"\")","v":0},{"$f":"IF($B60<>\"\",SUMPRODUCT(1*(ORARIO!$R$5:$V$14=$B60)*(ORARIO!$B$5:$B$14=AH$3)),\"\")","v":0},{"$f":"IF($B60<>\"\",SUMPRODUCT(1*(ORARIO!$R$5:$V$14=$B60)*(ORARIO!$B$5:$B$14=AI$3)),\"\")","v":0},{"$f":"IF($B60<>\"\",SUMPRODUCT(1*(ORARIO!$R$5:$V$14=$B60)*(ORARIO!$B$5:$B$14=AJ$3)),\"\")","v":0},{"$f":"IF($B60<>\"\",SUMPRODUCT(1*(ORARIO!$R$5:$V$14=$B60)*(ORARIO!$B$5:$B$14=AK$3)),\"\")","v":0},null,{"$f":"IF($B60<>\"\",SUMPRODUCT(1*(ORARIO!$W$5:$AA$14=$B60)*(ORARIO!$B$5:$B$14=AM$3)),\"\")","v":0},{"$f":"IF($B60<>\"\",SUMPRODUCT(1*(ORARIO!$W$5:$AA$14=$B60)*(ORARIO!$B$5:$B$14=AN$3)),\"\")","v":0},{"$f":"IF($B60<>\"\",SUMPRODUCT(1*(ORARIO!$W$5:$AA$14=$B60)*(ORARIO!$B$5:$B$14=AO$3)),\"\")","v":0},{"$f":"IF($B60<>\"\",SUMPRODUCT(1*(ORARIO!$W$5:$AA$14=$B60)*(ORARIO!$B$5:$B$14=AP$3)),\"\")","v":0},{"$f":"IF($B60<>\"\",SUMPRODUCT(1*(ORARIO!$W$5:$AA$14=$B60)*(ORARIO!$B$5:$B$14=AQ$3)),\"\")","v":0},{"$f":"IF($B60<>\"\",SUMPRODUCT(1*(ORARIO!$W$5:$AA$14=$B60)*(ORARIO!$B$5:$B$14=AR$3)),\"\")","v":0},{"$f":"IF($B60<>\"\",SUMPRODUCT(1*(ORARIO!$W$5:$AA$14=$B60)*(ORARIO!$B$5:$B$14=AS$3)),\"\")","v":0},{"$f":"IF($B60<>\"\",SUMPRODUCT(1*(ORARIO!$W$5:$AA$14=$B60)*(ORARIO!$B$5:$B$14=AT$3)),\"\")","v":0}]
[null,"E tel",{"$f":"IF($B$4<>\"\",SUMPRODUCT(1*(ORARIO!$C$5:$G$14=$B61)*(ORARIO!$B$5:$B$14=C$3)),\"\")","v":0},{"$f":"IF($B$4<>\"\",SUMPRODUCT(1*(ORARIO!$C$5:$G$14=$B61)*(ORARIO!$B$5:$B$14=D$3)),\"\")","v":0},{"$f":"IF($B$4<>\"\",SUMPRODUCT(1*(ORARIO!$C$5:$G$14=$B61)*(ORARIO!$B$5:$B$14=E$3)),\"\")","v":0},{"$f":"IF($B$4<>\"\",SUMPRODUCT(1*(ORARIO!$C$5:$G$14=$B61)*(ORARIO!$B$5:$B$14=F$3)),\"\")","v":0},{"$f":"IF($B$4<>\"\",SUMPRODUCT(1*(ORARIO!$C$5:$G$14=$B61)*(ORARIO!$B$5:$B$14=G$3)),\"\")","v":0},{"$f":"IF($B$4<>\"\",SUMPRODUCT(1*(ORARIO!$C$5:$G$14=$B61)*(ORARIO!$B$5:$B$14=H$3)),\"\")","v":0},{"$f":"IF($B$4<>\"\",SUMPRODUCT(1*(ORARIO!$C$5:$G$14=$B61)*(ORARIO!$B$5:$B$14=I$3)),\"\")","v":0},{"$f":"IF($B$4<>\"\",SUMPRODUCT(1*(ORARIO!$C$5:$G$14=$B61)*(ORARIO!$B$5:$B$14=J$3)),\"\")","v":0},null,{"$f":"IF($B61<>\"\",SUMPRODUCT(1*(ORARIO!$H$5:$L$14=$B61)*(ORARIO!$B$5:$B$14=L$3)),\"\")","v":0},{"$f":"IF($B61<>\"\",SUMPRODUCT(1*(ORARIO!$H$5:$L$14=$B61)*(ORARIO!$B$5:$B$14=M$3)),\"\")","v":0},{"$f":"IF($B61<>\"\",SUMPRODUCT(1*(ORARIO!$H$5:$L$14=$B61)*(ORARIO!$B$5:$B$14=N$3)),\"\")","v":0},{"$f":"IF($B61<>\"\",SUMPRODUCT(1*(ORARIO!$H$5:$L$14=$B61)*(ORARIO!$B$5:$B$14=O$3)),\"\")","v":0},{"$f":"IF($B61<>\"\",SUMPRODUCT(1*(ORARIO!$H$5:$L$14=$B61)*(ORARIO!$B$5:$B$14=P$3)),\"\")","v":0},{"$f":"IF($B61<>\"\",SUMPRODUCT(1*(ORARIO!$H$5:$L$14=$B61)*(ORARIO!$B$5:$B$14=Q$3)),\"\")","v":0},{"$f":"IF($B61<>\"\",SUMPRODUCT(1*(ORARIO!$H$5:$L$14=$B61)*(ORARIO!$B$5:$B$14=R$3)),\"\")","v":0},{"$f":"IF($B61<>\"\",SUMPRODUCT(1*(ORARIO!$H$5:$L$14=$B61)*(ORARIO!$B$5:$B$14=S$3)),\"\")","v":0},null,{"$f":"IF($B61<>\"\",SUMPRODUCT(1*(ORARIO!$M$5:$Q$14=$B61)*(ORARIO!$B$5:$B$14=U$3)),\"\")","v":0},{"$f":"IF($B61<>\"\",SUMPRODUCT(1*(ORARIO!$M$5:$Q$14=$B61)*(ORARIO!$B$5:$B$14=V$3)),\"\")","v":0},{"$f":"IF($B61<>\"\",SUMPRODUCT(1*(ORARIO!$M$5:$Q$14=$B61)*(ORARIO!$B$5:$B$14=W$3)),\"\")","v":0},{"$f":"IF($B61<>\"\",SUMPRODUCT(1*(ORARIO!$M$5:$Q$14=$B61)*(ORARIO!$B$5:$B$14=X$3)),\"\")","v":0},{"$f":"IF($B61<>\"\",SUMPRODUCT(1*(ORARIO!$M$5:$Q$14=$B61)*(ORARIO!$B$5:$B$14=Y$3)),\"\")","v":0},{"$f":"IF($B61<>\"\",SUMPRODUCT(1*(ORARIO!$M$5:$Q$14=$B61)*(ORARIO!$B$5:$B$14=Z$3)),\"\")","v":0},{"$f":"IF($B61<>\"\",SUMPRODUCT(1*(ORARIO!$M$5:$Q$14=$B61)*(ORARIO!$B$5:$B$14=AA$3)),\"\")","v":0},{"$f":"IF($B61<>\"\",SUMPRODUCT(1*(ORARIO!$M$5:$Q$14=$B61)*(ORARIO!$B$5:$B$14=AB$3)),\"\")","v":0},null,{"$f":"IF($B61<>\"\",SUMPRODUCT(1*(ORARIO!$R$5:$V$14=$B61)*(ORARIO!$B$5:$B$14=AD$3)),\"\")","v":0},{"$f":"IF($B61<>\"\",SUMPRODUCT(1*(ORARIO!$R$5:$V$14=$B61)*(ORARIO!$B$5:$B$14=AE$3)),\"\")","v":0},{"$f":"IF($B61<>\"\",SUMPRODUCT(1*(ORARIO!$R$5:$V$14=$B61)*(ORARIO!$B$5:$B$14=AF$3)),\"\")","v":0},{"$f":"IF($B61<>\"\",SUMPRODUCT(1*(ORARIO!$R$5:$V$14=$B61)*(ORARIO!$B$5:$B$14=AG$3)),\"\")","v":0},{"$f":"IF($B61<>\"\",SUMPRODUCT(1*(ORARIO!$R$5:$V$14=$B61)*(ORARIO!$B$5:$B$14=AH$3)),\"\")","v":0},{"$f":"IF($B61<>\"\",SUMPRODUCT(1*(ORARIO!$R$5:$V$14=$B61)*(ORARIO!$B$5:$B$14=AI$3)),\"\")","v":0},{"$f":"IF($B61<>\"\",SUMPRODUCT(1*(ORARIO!$R$5:$V$14=$B61)*(ORARIO!$B$5:$B$14=AJ$3)),\"\")","v":0},{"$f":"IF($B61<>\"\",SUMPRODUCT(1*(ORARIO!$R$5:$V$14=$B61)*(ORARIO!$B$5:$B$14=AK$3)),\"\")","v":0},null,{"$f":"IF($B61<>\"\",SUMPRODUCT(1*(ORARIO!$W$5:$AA$14=$B61)*(ORARIO!$B$5:$B$14=AM$3)),\"\")","v":0},{"$f":"IF($B61<>\"\",SUMPRODUCT(1*(ORARIO!$W$5:$AA$14=$B61)*(ORARIO!$B$5:$B$14=AN$3)),\"\")","v":0},{"$f":"IF($B61<>\"\",SUMPRODUCT(1*(ORARIO!$W$5:$AA$14=$B61)*(ORARIO!$B$5:$B$14=AO$3)),\"\")","v":0},{"$f":"IF($B61<>\"\",SUMPRODUCT(1*(ORARIO!$W$5:$AA$14=$B61)*(ORARIO!$B$5:$B$14=AP$3)),\"\")","v":0},{"$f":"IF($B61<>\"\",SUMPRODUCT(1*(ORARIO!$W$5:$AA$14=$B61)*(ORARIO!$B$5:$B$14=AQ$3)),\"\")","v":0},{"$f":"IF($B61<>\"\",SUMPRODUCT(1*(ORARIO!$W$5:$AA$14=$B61)*(ORARIO!$B$5:$B$14=AR$3)),\"\")","v":0},{"$f":"IF($B61<>\"\",SUMPRODUCT(1*(ORARIO!$W$5:$AA$14=$B61)*(ORARIO!$B$5:$B$14=AS$3)),\"\")","v":0},{"$f":"IF($B61<>\"\",SUMPRODUCT(1*(ORARIO!$W$5:$AA$14=$B61)*(ORARIO!$B$5:$B$14=AT$3)),\"\")","v":0}]
[null,"E ver",{"$f":"IF($B$4<>\"\",SUMPRODUCT(1*(ORARIO!$C$5:$G$14=$B62)*(ORARIO!$B$5:$B$14=C$3)),\"\")","v":0},{"$f":"IF($B$4<>\"\",SUMPRODUCT(1*(ORARIO!$C$5:$G$14=$B62)*(ORARIO!$B$5:$B$14=D$3)),\"\")","v":0},{"$f":"IF($B$4<>\"\",SUMPRODUCT(1*(ORARIO!$C$5:$G$14=$B62)*(ORARIO!$B$5:$B$14=E$3)),\"\")","v":0},{"$f":"IF($B$4<>\"\",SUMPRODUCT(1*(ORARIO!$C$5:$G$14=$B62)*(ORARIO!$B$5:$B$14=F$3)),\"\")","v":0},{"$f":"IF($B$4<>\"\",SUMPRODUCT(1*(ORARIO!$C$5:$G$14=$B62)*(ORARIO!$B$5:$B$14=G$3)),\"\")","v":0},{"$f":"IF($B$4<>\"\",SUMPRODUCT(1*(ORARIO!$C$5:$G$14=$B62)*(ORARIO!$B$5:$B$14=H$3)),\"\")","v":0},{"$f":"IF($B$4<>\"\",SUMPRODUCT(1*(ORARIO!$C$5:$G$14=$B62)*(ORARIO!$B$5:$B$14=I$3)),\"\")","v":0},{"$f":"IF($B$4<>\"\",SUMPRODUCT(1*(ORARIO!$C$5:$G$14=$B62)*(ORARIO!$B$5:$B$14=J$3)),\"\")","v":0},null,{"$f":"IF($B62<>\"\",SUMPRODUCT(1*(ORARIO!$H$5:$L$14=$B62)*(ORARIO!$B$5:$B$14=L$3)),\"\")","v":0},{"$f":"IF($B62<>\"\",SUMPRODUCT(1*(ORARIO!$H$5:$L$14=$B62)*(ORARIO!$B$5:$B$14=M$3)),\"\")","v":0},{"$f":"IF($B62<>\"\",SUMPRODUCT(1*(ORARIO!$H$5:$L$14=$B62)*(ORARIO!$B$5:$B$14=N$3)),\"\")","v":0},{"$f":"IF($B62<>\"\",SUMPRODUCT(1*(ORARIO!$H$5:$L$14=$B62)*(ORARIO!$B$5:$B$14=O$3)),\"\")","v":0},{"$f":"IF($B62<>\"\",SUMPRODUCT(1*(ORARIO!$H$5:$L$14=$B62)*(ORARIO!$B$5:$B$14=P$3)),\"\")","v":0},{"$f":"IF($B62<>\"\",SUMPRODUCT(1*(ORARIO!$H$5:$L$14=$B62)*(ORARIO!$B$5:$B$14=Q$3)),\"\")","v":0},{"$f":"IF($B62<>\"\",SUMPRODUCT(1*(ORARIO!$H$5:$L$14=$B62)*(ORARIO!$B$5:$B$14=R$3)),\"\")","v":0},{"$f":"IF($B62<>\"\",SUMPRODUCT(1*(ORARIO!$H$5:$L$14=$B62)*(ORARIO!$B$5:$B$14=S$3)),\"\")","v":0},null,{"$f":"IF($B62<>\"\",SUMPRODUCT(1*(ORARIO!$M$5:$Q$14=$B62)*(ORARIO!$B$5:$B$14=U$3)),\"\")","v":0},{"$f":"IF($B62<>\"\",SUMPRODUCT(1*(ORARIO!$M$5:$Q$14=$B62)*(ORARIO!$B$5:$B$14=V$3)),\"\")","v":0},{"$f":"IF($B62<>\"\",SUMPRODUCT(1*(ORARIO!$M$5:$Q$14=$B62)*(ORARIO!$B$5:$B$14=W$3)),\"\")","v":0},{"$f":"IF($B62<>\"\",SUMPRODUCT(1*(ORARIO!$M$5:$Q$14=$B62)*(ORARIO!$B$5:$B$14=X$3)),\"\")","v":0},{"$f":"IF($B62<>\"\",SUMPRODUCT(1*(ORARIO!$M$5:$Q$14=$B62)*(ORARIO!$B$5:$B$14=Y$3)),\"\")","v":0},{"$f":"IF($B62<>\"\",SUMPRODUCT(1*(ORARIO!$M$5:$Q$14=$B62)*(ORARIO!$B$5:$B$14=Z$3)),\"\")","v":0},{"$f":"IF($B62<>\"\",SUMPRODUCT(1*(ORARIO!$M$5:$Q$14=$B62)*(ORARIO!$B$5:$B$14=AA$3)),\"\")","v":0},{"$f":"IF($B62<>\"\",SUMPRODUCT(1*(ORARIO!$M$5:$Q$14=$B62)*(ORARIO!$B$5:$B$14=AB$3)),\"\")","v":0},null,{"$f":"IF($B62<>\"\",SUMPRODUCT(1*(ORARIO!$R$5:$V$14=$B62)*(ORARIO!$B$5:$B$14=AD$3)),\"\")","v":0},{"$f":"IF($B62<>\"\",SUMPRODUCT(1*(ORARIO!$R$5:$V$14=$B62)*(ORARIO!$B$5:$B$14=AE$3)),\"\")","v":0},{"$f":"IF($B62<>\"\",SUMPRODUCT(1*(ORARIO!$R$5:$V$14=$B62)*(ORARIO!$B$5:$B$14=AF$3)),\"\")","v":0},{"$f":"IF($B62<>\"\",SUMPRODUCT(1*(ORARIO!$R$5:$V$14=$B62)*(ORARIO!$B$5:$B$14=AG$3)),\"\")","v":0},{"$f":"IF($B62<>\"\",SUMPRODUCT(1*(ORARIO!$R$5:$V$14=$B62)*(ORARIO!$B$5:$B$14=AH$3)),\"\")","v":0},{"$f":"IF($B62<>\"\",SUMPRODUCT(1*(ORARIO!$R$5:$V$14=$B62)*(ORARIO!$B$5:$B$14=AI$3)),\"\")","v":0},{"$f":"IF($B62<>\"\",SUMPRODUCT(1*(ORARIO!$R$5:$V$14=$B62)*(ORARIO!$B$5:$B$14=AJ$3)),\"\")","v":0},{"$f":"IF($B62<>\"\",SUMPRODUCT(1*(ORARIO!$R$5:$V$14=$B62)*(ORARIO!$B$5:$B$14=AK$3)),\"\")","v":0},null,{"$f":"IF($B62<>\"\",SUMPRODUCT(1*(ORARIO!$W$5:$AA$14=$B62)*(ORARIO!$B$5:$B$14=AM$3)),\"\")","v":0},{"$f":"IF($B62<>\"\",SUMPRODUCT(1*(ORARIO!$W$5:$AA$14=$B62)*(ORARIO!$B$5:$B$14=AN$3)),\"\")","v":0},{"$f":"IF($B62<>\"\",SUMPRODUCT(1*(ORARIO!$W$5:$AA$14=$B62)*(ORARIO!$B$5:$B$14=AO$3)),\"\")","v":0},{"$f":"IF($B62<>\"\",SUMPRODUCT(1*(ORARIO!$W$5:$AA$14=$B62)*(ORARIO!$B$5:$B$14=AP$3)),\"\")","v":0},{"$f":"IF($B62<>\"\",SUMPRODUCT(1*(ORARIO!$W$5:$AA$14=$B62)*(ORARIO!$B$5:$B$14=AQ$3)),\"\")","v":0},{"$f":"IF($B62<>\"\",SUMPRODUCT(1*(ORARIO!$W$5:$AA$14=$B62)*(ORARIO!$B$5:$B$14=AR$3)),\"\")","v":0},{"$f":"IF($B62<>\"\",SUMPRODUCT(1*(ORARIO!$W$5:$AA$14=$B62)*(ORARIO!$B$5:$B$14=AS$3)),\"\")","v":0},{"$f":"IF($B62<>\"\",SUMPRODUCT(1*(ORARIO!$W$5:$AA$14=$B62)*(ORARIO!$B$5:$B$14=AT$3)),\"\")","v":0}]
[null,"E sop",{"$f":"IF($B$4<>\"\",SUMPRODUCT(1*(ORARIO!$C$5:$G$14=$B63)*(ORARIO!$B$5:$B$14=C$3)),\"\")","v":0},{"$f":"IF($B$4<>\"\",SUMPRODUCT(1*(ORARIO!$C$5:$G$14=$B63)*(ORARIO!$B$5:$B$14=D$3)),\"\")","v":0},{"$f":"IF($B$4<>\"\",SUMPRODUCT(1*(ORARIO!$C$5:$G$14=$B63)*(ORARIO!$B$5:$B$14=E$3)),\"\")","v":0},{"$f":"IF($B$4<>\"\",SUMPRODUCT(1*(ORARIO!$C$5:$G$14=$B63)*(ORARIO!$B$5:$B$14=F$3)),\"\")","v":0},{"$f":"IF($B$4<>\"\",SUMPRODUCT(1*(ORARIO!$C$5:$G$14=$B63)*(ORARIO!$B$5:$B$14=G$3)),\"\")","v":0},{"$f":"IF($B$4<>\"\",SUMPRODUCT(1*(ORARIO!$C$5:$G$14=$B63)*(ORARIO!$B$5:$B$14=H$3)),\"\")","v":0},{"$f":"IF($B$4<>\"\",SUMPRODUCT(1*(ORARIO!$C$5:$G$14=$B63)*(ORARIO!$B$5:$B$14=I$3)),\"\")","v":0},{"$f":"IF($B$4<>\"\",SUMPRODUCT(1*(ORARIO!$C$5:$G$14=$B63)*(ORARIO!$B$5:$B$14=J$3)),\"\")","v":0},null,{"$f":"IF($B63<>\"\",SUMPRODUCT(1*(ORARIO!$H$5:$L$14=$B63)*(ORARIO!$B$5:$B$14=L$3)),\"\")","v":0},{"$f":"IF($B63<>\"\",SUMPRODUCT(1*(ORARIO!$H$5:$L$14=$B63)*(ORARIO!$B$5:$B$14=M$3)),\"\")","v":0},{"$f":"IF($B63<>\"\",SUMPRODUCT(1*(ORARIO!$H$5:$L$14=$B63)*(ORARIO!$B$5:$B$14=N$3)),\"\")","v":0},{"$f":"IF($B63<>\"\",SUMPRODUCT(1*(ORARIO!$H$5:$L$14=$B63)*(ORARIO!$B$5:$B$14=O$3)),\"\")","v":0},{"$f":"IF($B63<>\"\",SUMPRODUCT(1*(ORARIO!$H$5:$L$14=$B63)*(ORARIO!$B$5:$B$14=P$3)),\"\")","v":0},{"$f":"IF($B63<>\"\",SUMPRODUCT(1*(ORARIO!$H$5:$L$14=$B63)*(ORARIO!$B$5:$B$14=Q$3)),\"\")","v":0},{"$f":"IF($B63<>\"\",SUMPRODUCT(1*(ORARIO!$H$5:$L$14=$B63)*(ORARIO!$B$5:$B$14=R$3)),\"\")","v":0},{"$f":"IF($B63<>\"\",SUMPRODUCT(1*(ORARIO!$H$5:$L$14=$B63)*(ORARIO!$B$5:$B$14=S$3)),\"\")","v":0},null,{"$f":"IF($B63<>\"\",SUMPRODUCT(1*(ORARIO!$M$5:$Q$14=$B63)*(ORARIO!$B$5:$B$14=U$3)),\"\")","v":0},{"$f":"IF($B63<>\"\",SUMPRODUCT(1*(ORARIO!$M$5:$Q$14=$B63)*(ORARIO!$B$5:$B$14=V$3)),\"\")","v":0},{"$f":"IF($B63<>\"\",SUMPRODUCT(1*(ORARIO!$M$5:$Q$14=$B63)*(ORARIO!$B$5:$B$14=W$3)),\"\")","v":0},{"$f":"IF($B63<>\"\",SUMPRODUCT(1*(ORARIO!$M$5:$Q$14=$B63)*(ORARIO!$B$5:$B$14=X$3)),\"\")","v":0},{"$f":"IF($B63<>\"\",SUMPRODUCT(1*(ORARIO!$M$5:$Q$14=$B63)*(ORARIO!$B$5:$B$14=Y$3)),\"\")","v":0},{"$f":"IF($B63<>\"\",SUMPRODUCT(1*(ORARIO!$M$5:$Q$14=$B63)*(ORARIO!$B$5:$B$14=Z$3)),\"\")","v":0},{"$f":"IF($B63<>\"\",SUMPRODUCT(1*(ORARIO!$M$5:$Q$14=$B63)*(ORARIO!$B$5:$B$14=AA$3)),\"\")","v":0},{"$f":"IF($B63<>\"\",SUMPRODUCT(1*(ORARIO!$M$5:$Q$14=$B63)*(ORARIO!$B$5:$B$14=AB$3)),\"\")","v":0},null,{"$f":"IF($B63<>\"\",SUMPRODUCT(1*(ORARIO!$R$5:$V$14=$B63)*(ORARIO!$B$5:$B$14=AD$3)),\"\")","v":0},{"$f":"IF($B63<>\"\",SUMPRODUCT(1*(ORARIO!$R$5:$V$14=$B63)*(ORARIO!$B$5:$B$14=AE$3)),\"\")","v":0},{"$f":"IF($B63<>\"\",SUMPRODUCT(1*(ORARIO!$R$5:$V$14=$B63)*(ORARIO!$B$5:$B$14=AF$3)),\"\")","v":0},{"$f":"IF($B63<>\"\",SUMPRODUCT(1*(ORARIO!$R$5:$V$14=$B63)*(ORARIO!$B$5:$B$14=AG$3)),\"\")","v":0},{"$f":"IF($B63<>\"\",SUMPRODUCT(1*(ORARIO!$R$5:$V$14=$B63)*(ORARIO!$B$5:$B$14=AH$3)),\"\")","v":0},{"$f":"IF($B63<>\"\",SUMPRODUCT(1*(ORARIO!$R$5:$V$14=$B63)*(ORARIO!$B$5:$B$14=AI$3)),\"\")","v":0},{"$f":"IF($B63<>\"\",SUMPRODUCT(1*(ORARIO!$R$5:$V$14=$B63)*(ORARIO!$B$5:$B$14=AJ$3)),\"\")","v":0},{"$f":"IF($B63<>\"\",SUMPRODUCT(1*(ORARIO!$R$5:$V$14=$B63)*(ORARIO!$B$5:$B$14=AK$3)),\"\")","v":0},null,{"$f":"IF($B63<>\"\",SUMPRODUCT(1*(ORARIO!$W$5:$AA$14=$B63)*(ORARIO!$B$5:$B$14=AM$3)),\"\")","v":0},{"$f":"IF($B63<>\"\",SUMPRODUCT(1*(ORARIO!$W$5:$AA$14=$B63)*(ORARIO!$B$5:$B$14=AN$3)),\"\")","v":0},{"$f":"IF($B63<>\"\",SUMPRODUCT(1*(ORARIO!$W$5:$AA$14=$B63)*(ORARIO!$B$5:$B$14=AO$3)),\"\")","v":0},{"$f":"IF($B63<>\"\",SUMPRODUCT(1*(ORARIO!$W$5:$AA$14=$B63)*(ORARIO!$B$5:$B$14=AP$3)),\"\")","v":0},{"$f":"IF($B63<>\"\",SUMPRODUCT(1*(ORARIO!$W$5:$AA$14=$B63)*(ORARIO!$B$5:$B$14=AQ$3)),\"\")","v":0},{"$f":"IF($B63<>\"\",SUMPRODUCT(1*(ORARIO!$W$5:$AA$14=$B63)*(ORARIO!$B$5:$B$14=AR$3)),\"\")","v":0},{"$f":"IF($B63<>\"\",SUMPRODUCT(1*(ORARIO!$W$5:$AA$14=$B63)*(ORARIO!$B$5:$B$14=AS$3)),\"\")","v":0},{"$f":"IF($B63<>\"\",SUMPRODUCT(1*(ORARIO!$W$5:$AA$14=$B63)*(ORARIO!$B$5:$B$14=AT$3)),\"\")","v":0}]
[null,"F slo",{"$f":"IF($B$4<>\"\",SUMPRODUCT(1*(ORARIO!$C$5:$G$14=$B64)*(ORARIO!$B$5:$B$14=C$3)),\"\")","v":0},{"$f":"IF($B$4<>\"\",SUMPRODUCT(1*(ORARIO!$C$5:$G$14=$B64)*(ORARIO!$B$5:$B$14=D$3)),\"\")","v":0},{"$f":"IF($B$4<>\"\",SUMPRODUCT(1*(ORARIO!$C$5:$G$14=$B64)*(ORARIO!$B$5:$B$14=E$3)),\"\")","v":0},{"$f":"IF($B$4<>\"\",SUMPRODUCT(1*(ORARIO!$C$5:$G$14=$B64)*(ORARIO!$B$5:$B$14=F$3)),\"\")","v":0},{"$f":"IF($B$4<>\"\",SUMPRODUCT(1*(ORARIO!$C$5:$G$14=$B64)*(ORARIO!$B$5:$B$14=G$3)),\"\")","v":0},{"$f":"IF($B$4<>\"\",SUMPRODUCT(1*(ORARIO!$C$5:$G$14=$B64)*(ORARIO!$B$5:$B$14=H$3)),\"\")","v":0},{"$f":"IF($B$4<>\"\",SUMPRODUCT(1*(ORARIO!$C$5:$G$14=$B64)*(ORARIO!$B$5:$B$14=I$3)),\"\")","v":0},{"$f":"IF($B$4<>\"\",SUMPRODUCT(1*(ORARIO!$C$5:$G$14=$B64)*(ORARIO!$B$5:$B$14=J$3)),\"\")","v":0},null,{"$f":"IF($B64<>\"\",SUMPRODUCT(1*(ORARIO!$H$5:$L$14=$B64)*(ORARIO!$B$5:$B$14=L$3)),\"\")","v":0},{"$f":"IF($B64<>\"\",SUMPRODUCT(1*(ORARIO!$H$5:$L$14=$B64)*(ORARIO!$B$5:$B$14=M$3)),\"\")","v":0},{"$f":"IF($B64<>\"\",SUMPRODUCT(1*(ORARIO!$H$5:$L$14=$B64)*(ORARIO!$B$5:$B$14=N$3)),\"\")","v":0},{"$f":"IF($B64<>\"\",SUMPRODUCT(1*(ORARIO!$H$5:$L$14=$B64)*(ORARIO!$B$5:$B$14=O$3)),\"\")","v":0},{"$f":"IF($B64<>\"\",SUMPRODUCT(1*(ORARIO!$H$5:$L$14=$B64)*(ORARIO!$B$5:$B$14=P$3)),\"\")","v":0},{"$f":"IF($B64<>\"\",SUMPRODUCT(1*(ORARIO!$H$5:$L$14=$B64)*(ORARIO!$B$5:$B$14=Q$3)),\"\")","v":0},{"$f":"IF($B64<>\"\",SUMPRODUCT(1*(ORARIO!$H$5:$L$14=$B64)*(ORARIO!$B$5:$B$14=R$3)),\"\")","v":0},{"$f":"IF($B64<>\"\",SUMPRODUCT(1*(ORARIO!$H$5:$L$14=$B64)*(ORARIO!$B$5:$B$14=S$3)),\"\")","v":0},null,{"$f":"IF($B64<>\"\",SUMPRODUCT(1*(ORARIO!$M$5:$Q$14=$B64)*(ORARIO!$B$5:$B$14=U$3)),\"\")","v":0},{"$f":"IF($B64<>\"\",SUMPRODUCT(1*(ORARIO!$M$5:$Q$14=$B64)*(ORARIO!$B$5:$B$14=V$3)),\"\")","v":0},{"$f":"IF($B64<>\"\",SUMPRODUCT(1*(ORARIO!$M$5:$Q$14=$B64)*(ORARIO!$B$5:$B$14=W$3)),\"\")","v":0},{"$f":"IF($B64<>\"\",SUMPRODUCT(1*(ORARIO!$M$5:$Q$14=$B64)*(ORARIO!$B$5:$B$14=X$3)),\"\")","v":0},{"$f":"IF($B64<>\"\",SUMPRODUCT(1*(ORARIO!$M$5:$Q$14=$B64)*(ORARIO!$B$5:$B$14=Y$3)),\"\")","v":0},{"$f":"IF($B64<>\"\",SUMPRODUCT(1*(ORARIO!$M$5:$Q$14=$B64)*(ORARIO!$B$5:$B$14=Z$3)),\"\")","v":0},{"$f":"IF($B64<>\"\",SUMPRODUCT(1*(ORARIO!$M$5:$Q$14=$B64)*(ORARIO!$B$5:$B$14=AA$3)),\"\")","v":0},{"$f":"IF($B64<>\"\",SUMPRODUCT(1*(ORARIO!$M$5:$Q$14=$B64)*(ORARIO!$B$5:$B$14=AB$3)),\"\")","v":0},null,{"$f":"IF($B64<>\"\",SUMPRODUCT(1*(ORARIO!$R$5:$V$14=$B64)*(ORARIO!$B$5:$B$14=AD$3)),\"\")","v":0},{"$f":"IF($B64<>\"\",SUMPRODUCT(1*(ORARIO!$R$5:$V$14=$B64)*(ORARIO!$B$5:$B$14=AE$3)),\"\")","v":0},{"$f":"IF($B64<>\"\",SUMPRODUCT(1*(ORARIO!$R$5:$V$14=$B64)*(ORARIO!$B$5:$B$14=AF$3)),\"\")","v":0},{"$f":"IF($B64<>\"\",SUMPRODUCT(1*(ORARIO!$R$5:$V$14=$B64)*(ORARIO!$B$5:$B$14=AG$3)),\"\")","v":0},{"$f":"IF($B64<>\"\",SUMPRODUCT(1*(ORARIO!$R$5:$V$14=$B64)*(ORARIO!$B$5:$B$14=AH$3)),\"\")","v":0},{"$f":"IF($B64<>\"\",SUMPRODUCT(1*(ORARIO!$R$5:$V$14=$B64)*(ORARIO!$B$5:$B$14=AI$3)),\"\")","v":0},{"$f":"IF($B64<>\"\",SUMPRODUCT(1*(ORARIO!$R$5:$V$14=$B64)*(ORARIO!$B$5:$B$14=AJ$3)),\"\")","v":0},{"$f":"IF($B64<>\"\",SUMPRODUCT(1*(ORARIO!$R$5:$V$14=$B64)*(ORARIO!$B$5:$B$14=AK$3)),\"\")","v":0},null,{"$f":"IF($B64<>\"\",SUMPRODUCT(1*(ORARIO!$W$5:$AA$14=$B64)*(ORARIO!$B$5:$B$14=AM$3)),\"\")","v":0},{"$f":"IF($B64<>\"\",SUMPRODUCT(1*(ORARIO!$W$5:$AA$14=$B64)*(ORARIO!$B$5:$B$14=AN$3)),\"\")","v":0},{"$f":"IF($B64<>\"\",SUMPRODUCT(1*(ORARIO!$W$5:$AA$14=$B64)*(ORARIO!$B$5:$B$14=AO$3)),\"\")","v":0},{"$f":"IF($B64<>\"\",SUMPRODUCT(1*(ORARIO!$W$5:$AA$14=$B64)*(ORARIO!$B$5:$B$14=AP$3)),\"\")","v":0},{"$f":"IF($B64<>\"\",SUMPRODUCT(1*(ORARIO!$W$5:$AA$14=$B64)*(ORARIO!$B$5:$B$14=AQ$3)),\"\")","v":0},{"$f":"IF($B64<>\"\",SUMPRODUCT(1*(ORARIO!$W$5:$AA$14=$B64)*(ORARIO!$B$5:$B$14=AR$3)),\"\")","v":0},{"$f":"IF($B64<>\"\",SUMPRODUCT(1*(ORARIO!$W$5:$AA$14=$B64)*(ORARIO!$B$5:$B$14=AS$3)),\"\")","v":0},{"$f":"IF($B64<>\"\",SUMPRODUCT(1*(ORARIO!$W$5:$AA$14=$B64)*(ORARIO!$B$5:$B$14=AT$3)),\"\")","v":0}]
[null,"F ita",{"$f":"IF($B$4<>\"\",SUMPRODUCT(1*(ORARIO!$C$5:$G$14=$B65)*(ORARIO!$B$5:$B$14=C$3)),\"\")","v":0},{"$f":"IF($B$4<>\"\",SUMPRODUCT(1*(ORARIO!$C$5:$G$14=$B65)*(ORARIO!$B$5:$B$14=D$3)),\"\")","v":0},{"$f":"IF($B$4<>\"\",SUMPRODUCT(1*(ORARIO!$C$5:$G$14=$B65)*(ORARIO!$B$5:$B$14=E$3)),\"\")","v":0},{"$f":"IF($B$4<>\"\",SUMPRODUCT(1*(ORARIO!$C$5:$G$14=$B65)*(ORARIO!$B$5:$B$14=F$3)),\"\")","v":0},{"$f":"IF($B$4<>\"\",SUMPRODUCT(1*(ORARIO!$C$5:$G$14=$B65)*(ORARIO!$B$5:$B$14=G$3)),\"\")","v":1},{"$f":"IF($B$4<>\"\",SUMPRODUCT(1*(ORARIO!$C$5:$G$14=$B65)*(ORARIO!$B$5:$B$14=H$3)),\"\")","v":0},{"$f":"IF($B$4<>\"\",SUMPRODUCT(1*(ORARIO!$C$5:$G$14=$B65)*(ORARIO!$B$5:$B$14=I$3)),\"\")","v":0},{"$f":"IF($B$4<>\"\",SUMPRODUCT(1*(ORARIO!$C$5:$G$14=$B65)*(ORARIO!$B$5:$B$14=J$3)),\"\")","v":0},null,{"$f":"IF($B65<>\"\",SUMPRODUCT(1*(ORARIO!$H$5:$L$14=$B65)*(ORARIO!$B$5:$B$14=L$3)),\"\")","v":0},{"$f":"IF($B65<>\"\",SUMPRODUCT(1*(ORARIO!$H$5:$L$14=$B65)*(ORARIO!$B$5:$B$14=M$3)),\"\")","v":0},{"$f":"IF($B65<>\"\",SUMPRODUCT(1*(ORARIO!$H$5:$L$14=$B65)*(ORARIO!$B$5:$B$14=N$3)),\"\")","v":0},{"$f":"IF($B65<>\"\",SUMPRODUCT(1*(ORARIO!$H$5:$L$14=$B65)*(ORARIO!$B$5:$B$14=O$3)),\"\")","v":0},{"$f":"IF($B65<>\"\",SUMPRODUCT(1*(ORARIO!$H$5:$L$14=$B65)*(ORARIO!$B$5:$B$14=P$3)),\"\")","v":0},{"$f":"IF($B65<>\"\",SUMPRODUCT(1*(ORARIO!$H$5:$L$14=$B65)*(ORARIO!$B$5:$B$14=Q$3)),\"\")","v":0},{"$f":"IF($B65<>\"\",SUMPRODUCT(1*(ORARIO!$H$5:$L$14=$B65)*(ORARIO!$B$5:$B$14=R$3)),\"\")","v":0},{"$f":"IF($B65<>\"\",SUMPRODUCT(1*(ORARIO!$H$5:$L$14=$B65)*(ORARIO!$B$5:$B$14=S$3)),\"\")","v":0},null,{"$f":"IF($B65<>\"\",SUMPRODUCT(1*(ORARIO!$M$5:$Q$14=$B65)*(ORARIO!$B$5:$B$14=U$3)),\"\")","v":0},{"$f":"IF($B65<>\"\",SUMPRODUCT(1*(ORARIO!$M$5:$Q$14=$B65)*(ORARIO!$B$5:$B$14=V$3)),\"\")","v":0},{"$f":"IF($B65<>\"\",SUMPRODUCT(1*(ORARIO!$M$5:$Q$14=$B65)*(ORARIO!$B$5:$B$14=W$3)),\"\")","v":0},{"$f":"IF($B65<>\"\",SUMPRODUCT(1*(ORARIO!$M$5:$Q$14=$B65)*(ORARIO!$B$5:$B$14=X$3)),\"\")","v":0},{"$f":"IF($B65<>\"\",SUMPRODUCT(1*(ORARIO!$M$5:$Q$14=$B65)*(ORARIO!$B$5:$B$14=Y$3)),\"\")","v":0},{"$f":"IF($B65<>\"\",SUMPRODUCT(1*(ORARIO!$M$5:$Q$14=$B65)*(ORARIO!$B$5:$B$14=Z$3)),\"\")","v":0},{"$f":"IF($B65<>\"\",SUMPRODUCT(1*(ORARIO!$M$5:$Q$14=$B65)*(ORARIO!$B$5:$B$14=AA$3)),\"\")","v":0},{"$f":"IF($B65<>\"\",SUMPRODUCT(1*(ORARIO!$M$5:$Q$14=$B65)*(ORARIO!$B$5:$B$14=AB$3)),\"\")","v":0},null,{"$f":"IF($B65<>\"\",SUMPRODUCT(1*(ORARIO!$R$5:$V$14=$B65)*(ORARIO!$B$5:$B$14=AD$3)),\"\")","v":0},{"$f":"IF($B65<>\"\",SUMPRODUCT(1*(ORARIO!$R$5:$V$14=$B65)*(ORARIO!$B$5:$B$14=AE$3)),\"\")","v":0},{"$f":"IF($B65<>\"\",SUMPRODUCT(1*(ORARIO!$R$5:$V$14=$B65)*(ORARIO!$B$5:$B$14=AF$3)),\"\")","v":0},{"$f":"IF($B65<>\"\",SUMPRODUCT(1*(ORARIO!$R$5:$V$14=$B65)*(ORARIO!$B$5:$B$14=AG$3)),\"\")","v":0},{"$f":"IF($B65<>\"\",SUMPRODUCT(1*(ORARIO!$R$5:$V$14=$B65)*(ORARIO!$B$5:$B$14=AH$3)),\"\")","v":0},{"$f":"IF($B65<>\"\",SUMPRODUCT(1*(ORARIO!$R$5:$V$14=$B65)*(ORARIO!$B$5:$B$14=AI$3)),\"\")","v":0},{"$f":"IF($B65<>\"\",SUMPRODUCT(1*(ORARIO!$R$5:$V$14=$B65)*(ORARIO!$B$5:$B$14=AJ$3)),\"\")","v":0},{"$f":"IF($B65<>\"\",SUMPRODUCT(1*(ORARIO!$R$5:$V$14=$B65)*(ORARIO!$B$5:$B$14=AK$3)),\"\")","v":0},null,{"$f":"IF($B65<>\"\",SUMPRODUCT(1*(ORARIO!$W$5:$AA$14=$B65)*(ORARIO!$B$5:$B$14=AM$3)),\"\")","v":0},{"$f":"IF($B65<>\"\",SUMPRODUCT(1*(ORARIO!$W$5:$AA$14=$B65)*(ORARIO!$B$5:$B$14=AN$3)),\"\")","v":0},{"$f":"IF($B65<>\"\",SUMPRODUCT(1*(ORARIO!$W$5:$AA$14=$B65)*(ORARIO!$B$5:$B$14=AO$3)),\"\")","v":0},{"$f":"IF($B65<>\"\",SUMPRODUCT(1*(ORARIO!$W$5:$AA$14=$B65)*(ORARIO!$B$5:$B$14=AP$3)),\"\")","v":0},{"$f":"IF($B65<>\"\",SUMPRODUCT(1*(ORARIO!$W$5:$AA$14=$B65)*(ORARIO!$B$5:$B$14=AQ$3)),\"\")","v":0},{"$f":"IF($B65<>\"\",SUMPRODUCT(1*(ORARIO!$W$5:$AA$14=$B65)*(ORARIO!$B$5:$B$14=AR$3)),\"\")","v":0},{"$f":"IF($B65<>\"\",SUMPRODUCT(1*(ORARIO!$W$5:$AA$14=$B65)*(ORARIO!$B$5:$B$14=AS$3)),\"\")","v":0},{"$f":"IF($B65<>\"\",SUMPRODUCT(1*(ORARIO!$W$5:$AA$14=$B65)*(ORARIO!$B$5:$B$14=AT$3)),\"\")","v":0}]
[null,"F ang",{"$f":"IF($B$4<>\"\",SUMPRODUCT(1*(ORARIO!$C$5:$G$14=$B66)*(ORARIO!$B$5:$B$14=C$3)),\"\")","v":0},{"$f":"IF($B$4<>\"\",SUMPRODUCT(1*(ORARIO!$C$5:$G$14=$B66)*(ORARIO!$B$5:$B$14=D$3)),\"\")","v":0},{"$f":"IF($B$4<>\"\",SUMPRODUCT(1*(ORARIO!$C$5:$G$14=$B66)*(ORARIO!$B$5:$B$14=E$3)),\"\")","v":0},{"$f":"IF($B$4<>\"\",SUMPRODUCT(1*(ORARIO!$C$5:$G$14=$B66)*(ORARIO!$B$5:$B$14=F$3)),\"\")","v":0},{"$f":"IF($B$4<>\"\",SUMPRODUCT(1*(ORARIO!$C$5:$G$14=$B66)*(ORARIO!$B$5:$B$14=G$3)),\"\")","v":0},{"$f":"IF($B$4<>\"\",SUMPRODUCT(1*(ORARIO!$C$5:$G$14=$B66)*(ORARIO!$B$5:$B$14=H$3)),\"\")","v":0},{"$f":"IF($B$4<>\"\",SUMPRODUCT(1*(ORARIO!$C$5:$G$14=$B66)*(ORARIO!$B$5:$B$14=I$3)),\"\")","v":0},{"$f":"IF($B$4<>\"\",SUMPRODUCT(1*(ORARIO!$C$5:$G$14=$B66)*(ORARIO!$B$5:$B$14=J$3)),\"\")","v":0},null,{"$f":"IF($B66<>\"\",SUMPRODUCT(1*(ORARIO!$H$5:$L$14=$B66)*(ORARIO!$B$5:$B$14=L$3)),\"\")","v":0},{"$f":"IF($B66<>\"\",SUMPRODUCT(1*(ORARIO!$H$5:$L$14=$B66)*(ORARIO!$B$5:$B$14=M$3)),\"\")","v":0},{"$f":"IF($B66<>\"\",SUMPRODUCT(1*(ORARIO!$H$5:$L$14=$B66)*(ORARIO!$B$5:$B$14=N$3)),\"\")","v":0},{"$f":"IF($B66<>\"\",SUMPRODUCT(1*(ORARIO!$H$5:$L$14=$B66)*(ORARIO!$B$5:$B$14=O$3)),\"\")","v":0},{"$f":"IF($B66<>\"\",SUMPRODUCT(1*(ORARIO!$H$5:$L$14=$B66)*(ORARIO!$B$5:$B$14=P$3)),\"\")","v":0},{"$f":"IF($B66<>\"\",SUMPRODUCT(1*(ORARIO!$H$5:$L$14=$B66)*(ORARIO!$B$5:$B$14=Q$3)),\"\")","v":0},{"$f":"IF($B66<>\"\",SUMPRODUCT(1*(ORARIO!$H$5:$L$14=$B66)*(ORARIO!$B$5:$B$14=R$3)),\"\")","v":0},{"$f":"IF($B66<>\"\",SUMPRODUCT(1*(ORARIO!$H$5:$L$14=$B66)*(ORARIO!$B$5:$B$14=S$3)),\"\")","v":0},null,{"$f":"IF($B66<>\"\",SUMPRODUCT(1*(ORARIO!$M$5:$Q$14=$B66)*(ORARIO!$B$5:$B$14=U$3)),\"\")","v":0},{"$f":"IF($B66<>\"\",SUMPRODUCT(1*(ORARIO!$M$5:$Q$14=$B66)*(ORARIO!$B$5:$B$14=V$3)),\"\")","v":0},{"$f":"IF($B66<>\"\",SUMPRODUCT(1*(ORARIO!$M$5:$Q$14=$B66)*(ORARIO!$B$5:$B$14=W$3)),\"\")","v":0},{"$f":"IF($B66<>\"\",SUMPRODUCT(1*(ORARIO!$M$5:$Q$14=$B66)*(ORARIO!$B$5:$B$14=X$3)),\"\")","v":0},{"$f":"IF($B66<>\"\",SUMPRODUCT(1*(ORARIO!$M$5:$Q$14=$B66)*(ORARIO!$B$5:$B$14=Y$3)),\"\")","v":0},{"$f":"IF($B66<>\"\",SUMPRODUCT(1*(ORARIO!$M$5:$Q$14=$B66)*(ORARIO!$B$5:$B$14=Z$3)),\"\")","v":0},{"$f":"IF($B66<>\"\",SUMPRODUCT(1*(ORARIO!$M$5:$Q$14=$B66)*(ORARIO!$B$5:$B$14=AA$3)),\"\")","v":0},{"$f":"IF($B66<>\"\",SUMPRODUCT(1*(ORARIO!$M$5:$Q$14=$B66)*(ORARIO!$B$5:$B$14=AB$3)),\"\")","v":0},null,{"$f":"IF($B66<>\"\",SUMPRODUCT(1*(ORARIO!$R$5:$V$14=$B66)*(ORARIO!$B$5:$B$14=AD$3)),\"\")","v":0},{"$f":"IF($B66<>\"\",SUMPRODUCT(1*(ORARIO!$R$5:$V$14=$B66)*(ORARIO!$B$5:$B$14=AE$3)),\"\")","v":0},{"$f":"IF($B66<>\"\",SUMPRODUCT(1*(ORARIO!$R$5:$V$14=$B66)*(ORARIO!$B$5:$B$14=AF$3)),\"\")","v":0},{"$f":"IF($B66<>\"\",SUMPRODUCT(1*(ORARIO!$R$5:$V$14=$B66)*(ORARIO!$B$5:$B$14=AG$3)),\"\")","v":0},{"$f":"IF($B66<>\"\",SUMPRODUCT(1*(ORARIO!$R$5:$V$14=$B66)*(ORARIO!$B$5:$B$14=AH$3)),\"\")","v":0},{"$f":"IF($B66<>\"\",SUMPRODUCT(1*(ORARIO!$R$5:$V$14=$B66)*(ORARIO!$B$5:$B$14=AI$3)),\"\")","v":0},{"$f":"IF($B66<>\"\",SUMPRODUCT(1*(ORARIO!$R$5:$V$14=$B66)*(ORARIO!$B$5:$B$14=AJ$3)),\"\")","v":0},{"$f":"IF($B66<>\"\",SUMPRODUCT(1*(ORARIO!$R$5:$V$14=$B66)*(ORARIO!$B$5:$B$14=AK$3)),\"\")","v":0},null,{"$f":"IF($B66<>\"\",SUMPRODUCT(1*(ORARIO!$W$5:$AA$14=$B66)*(ORARIO!$B$5:$B$14=AM$3)),\"\")","v":1},{"$f":"IF($B66<>\"\",SUMPRODUCT(1*(ORARIO!$W$5:$AA$14=$B66)*(ORARIO!$B$5:$B$14=AN$3)),\"\")","v":0},{"$f":"IF($B66<>\"\",SUMPRODUCT(1*(ORARIO!$W$5:$AA$14=$B66)*(ORARIO!$B$5:$B$14=AO$3)),\"\")","v":0},{"$f":"IF($B66<>\"\",SUMPRODUCT(1*(ORARIO!$W$5:$AA$14=$B66)*(ORARIO!$B$5:$B$14=AP$3)),\"\")","v":0},{"$f":"IF($B66<>\"\",SUMPRODUCT(1*(ORARIO!$W$5:$AA$14=$B66)*(ORARIO!$B$5:$B$14=AQ$3)),\"\")","v":0},{"$f":"IF($B66<>\"\",SUMPRODUCT(1*(ORARIO!$W$5:$AA$14=$B66)*(ORARIO!$B$5:$B$14=AR$3)),\"\")","v":0},{"$f":"IF($B66<>\"\",SUMPRODUCT(1*(ORARIO!$W$5:$AA$14=$B66)*(ORARIO!$B$5:$B$14=AS$3)),\"\")","v":0},{"$f":"IF($B66<>\"\",SUMPRODUCT(1*(ORARIO!$W$5:$AA$14=$B66)*(ORARIO!$B$5:$B$14=AT$3)),\"\")","v":0}]
[null,"F mat",{"$f":"IF($B$4<>\"\",SUMPRODUCT(1*(ORARIO!$C$5:$G$14=$B67)*(ORARIO!$B$5:$B$14=C$3)),\"\")","v":0},{"$f":"IF($B$4<>\"\",SUMPRODUCT(1*(ORARIO!$C$5:$G$14=$B67)*(ORARIO!$B$5:$B$14=D$3)),\"\")","v":0},{"$f":"IF($B$4<>\"\",SUMPRODUCT(1*(ORARIO!$C$5:$G$14=$B67)*(ORARIO!$B$5:$B$14=E$3)),\"\")","v":0},{"$f":"IF($B$4<>\"\",SUMPRODUCT(1*(ORARIO!$C$5:$G$14=$B67)*(ORARIO!$B$5:$B$14=F$3)),\"\")","v":0},{"$f":"IF($B$4<>\"\",SUMPRODUCT(1*(ORARIO!$C$5:$G$14=$B67)*(ORARIO!$B$5:$B$14=G$3)),\"\")","v":0},{"$f":"IF($B$4<>\"\",SUMPRODUCT(1*(ORARIO!$C$5:$G$14=$B67)*(ORARIO!$B$5:$B$14=H$3)),\"\")","v":0},{"$f":"IF($B$4<>\"\",SUMPRODUCT(1*(ORARIO!$C$5:$G$14=$B67)*(ORARIO!$B$5:$B$14=I$3)),\"\")","v":0},{"$f":"IF($B$4<>\"\",SUMPRODUCT(1*(ORARIO!$C$5:$G$14=$B67)*(ORARIO!$B$5:$B$14=J$3)),\"\")","v":0},null,{"$f":"IF($B67<>\"\",SUMPRODUCT(1*(ORARIO!$H$5:$L$14=$B67)*(ORARIO!$B$5:$B$14=L$3)),\"\")","v":0},{"$f":"IF($B67<>\"\",SUMPRODUCT(1*(ORARIO!$H$5:$L$14=$B67)*(ORARIO!$B$5:$B$14=M$3)),\"\")","v":0},{"$f":"IF($B67<>\"\",SUMPRODUCT(1*(ORARIO!$H$5:$L$14=$B67)*(ORARIO!$B$5:$B$14=N$3)),\"\")","v":0},{"$f":"IF($B67<>\"\",SUMPRODUCT(1*(ORARIO!$H$5:$L$14=$B67)*(ORARIO!$B$5:$B$14=O$3)),\"\")","v":0},{"$f":"IF($B67<>\"\",SUMPRODUCT(1*(ORARIO!$H$5:$L$14=$B67)*(ORARIO!$B$5:$B$14=P$3)),\"\")","v":0},{"$f":"IF($B67<>\"\",SUMPRODUCT(1*(ORARIO!$H$5:$L$14=$B67)*(ORARIO!$B$5:$B$14=Q$3)),\"\")","v":0},{"$f":"IF($B67<>\"\",SUMPRODUCT(1*(ORARIO!$H$5:$L$14=$B67)*(ORARIO!$B$5:$B$14=R$3)),\"\")","v":0},{"$f":"IF($B67<>\"\",SUMPRODUCT(1*(ORARIO!$H$5:$L$14=$B67)*(ORARIO!$B$5:$B$14=S$3)),\"\")","v":0},null,{"$f":"IF($B67<>\"\",SUMPRODUCT(1*(ORARIO!$M$5:$Q$14=$B67)*(ORARIO!$B$5:$B$14=U$3)),\"\")","v":0},{"$f":"IF($B67<>\"\",SUMPRODUCT(1*(ORARIO!$M$5:$Q$14=$B67)*(ORARIO!$B$5:$B$14=V$3)),\"\")","v":0},{"$f":"IF($B67<>\"\",SUMPRODUCT(1*(ORARIO!$M$5:$Q$14=$B67)*(ORARIO!$B$5:$B$14=W$3)),\"\")","v":0},{"$f":"IF($B67<>\"\",SUMPRODUCT(1*(ORARIO!$M$5:$Q$14=$B67)*(ORARIO!$B$5:$B$14=X$3)),\"\")","v":0},{"$f":"IF($B67<>\"\",SUMPRODUCT(1*(ORARIO!$M$5:$Q$14=$B67)*(ORARIO!$B$5:$B$14=Y$3)),\"\")","v":0},{"$f":"IF($B67<>\"\",SUMPRODUCT(1*(ORARIO!$M$5:$Q$14=$B67)*(ORARIO!$B$5:$B$14=Z$3)),\"\")","v":0},{"$f":"IF($B67<>\"\",SUMPRODUCT(1*(ORARIO!$M$5:$Q$14=$B67)*(ORARIO!$B$5:$B$14=AA$3)),\"\")","v":0},{"$f":"IF($B67<>\"\",SUMPRODUCT(1*(ORARIO!$M$5:$Q$14=$B67)*(ORARIO!$B$5:$B$14=AB$3)),\"\")","v":0},null,{"$f":"IF($B67<>\"\",SUMPRODUCT(1*(ORARIO!$R$5:$V$14=$B67)*(ORARIO!$B$5:$B$14=AD$3)),\"\")","v":0},{"$f":"IF($B67<>\"\",SUMPRODUCT(1*(ORARIO!$R$5:$V$14=$B67)*(ORARIO!$B$5:$B$14=AE$3)),\"\")","v":0},{"$f":"IF($B67<>\"\",SUMPRODUCT(1*(ORARIO!$R$5:$V$14=$B67)*(ORARIO!$B$5:$B$14=AF$3)),\"\")","v":0},{"$f":"IF($B67<>\"\",SUMPRODUCT(1*(ORARIO!$R$5:$V$14=$B67)*(ORARIO!$B$5:$B$14=AG$3)),\"\")","v":0},{"$f":"IF($B67<>\"\",SUMPRODUCT(1*(ORARIO!$R$5:$V$14=$B67)*(ORARIO!$B$5:$B$14=AH$3)),\"\")","v":0},{"$f":"IF($B67<>\"\",SUMPRODUCT(1*(ORARIO!$R$5:$V$14=$B67)*(ORARIO!$B$5:$B$14=AI$3)),\"\")","v":0},{"$f":"IF($B67<>\"\",SUMPRODUCT(1*(ORARIO!$R$5:$V$14=$B67)*(ORARIO!$B$5:$B$14=AJ$3)),\"\")","v":0},{"$f":"IF($B67<>\"\",SUMPRODUCT(1*(ORARIO!$R$5:$V$14=$B67)*(ORARIO!$B$5:$B$14=AK$3)),\"\")","v":0},null,{"$f":"IF($B67<>\"\",SUMPRODUCT(1*(ORARIO!$W$5:$AA$14=$B67)*(ORARIO!$B$5:$B$14=AM$3)),\"\")","v":0},{"$f":"IF($B67<>\"\",SUMPRODUCT(1*(ORARIO!$W$5:$AA$14=$B67)*(ORARIO!$B$5:$B$14=AN$3)),\"\")","v":0},{"$f":"IF($B67<>\"\",SUMPRODUCT(1*(ORARIO!$W$5:$AA$14=$B67)*(ORARIO!$B$5:$B$14=AO$3)),\"\")","v":0},{"$f":"IF($B67<>\"\",SUMPRODUCT(1*(ORARIO!$W$5:$AA$14=$B67)*(ORARIO!$B$5:$B$14=AP$3)),\"\")","v":0},{"$f":"IF($B67<>\"\",SUMPRODUCT(1*(ORARIO!$W$5:$AA$14=$B67)*(ORARIO!$B$5:$B$14=AQ$3)),\"\")","v":0},{"$f":"IF($B67<>\"\",SUMPRODUCT(1*(ORARIO!$W$5:$AA$14=$B67)*(ORARIO!$B$5:$B$14=AR$3)),\"\")","v":0},{"$f":"IF($B67<>\"\",SUMPRODUCT(1*(ORARIO!$W$5:$AA$14=$B67)*(ORARIO!$B$5:$B$14=AS$3)),\"\")","v":0},{"$f":"IF($B67<>\"\",SUMPRODUCT(1*(ORARIO!$W$5:$AA$14=$B67)*(ORARIO!$B$5:$B$14=AT$3)),\"\")","v":0}]
[null,"F nar",{"$f":"IF($B$4<>\"\",SUMPRODUCT(1*(ORARIO!$C$5:$G$14=$B68)*(ORARIO!$B$5:$B$14=C$3)),\"\")","v":0},{"$f":"IF($B$4<>\"\",SUMPRODUCT(1*(ORARIO!$C$5:$G$14=$B68)*(ORARIO!$B$5:$B$14=D$3)),\"\")","v":0},{"$f":"IF($B$4<>\"\",SUMPRODUCT(1*(ORARIO!$C$5:$G$14=$B68)*(ORARIO!$B$5:$B$14=E$3)),\"\")","v":0},{"$f":"IF($B$4<>\"\",SUMPRODUCT(1*(ORARIO!$C$5:$G$14=$B68)*(ORARIO!$B$5:$B$14=F$3)),\"\")","v":0},{"$f":"IF($B$4<>\"\",SUMPRODUCT(1*(ORARIO!$C$5:$G$14=$B68)*(ORARIO!$B$5:$B$14=G$3)),\"\")","v":0},{"$f":"IF($B$4<>\"\",SUMPRODUCT(1*(ORARIO!$C$5:$G$14=$B68)*(ORARIO!$B$5:$B$14=H$3)),\"\")","v":0},{"$f":"IF($B$4<>\"\",SUMPRODUCT(1*(ORARIO!$C$5:$G$14=$B68)*(ORARIO!$B$5:$B$14=I$3)),\"\")","v":0},{"$f":"IF($B$4<>\"\",SUMPRODUCT(1*(ORARIO!$C$5:$G$14=$B68)*(ORARIO!$B$5:$B$14=J$3)),\"\")","v":0},null,{"$f":"IF($B68<>\"\",SUMPRODUCT(1*(ORARIO!$H$5:$L$14=$B68)*(ORARIO!$B$5:$B$14=L$3)),\"\")","v":0},{"$f":"IF($B68<>\"\",SUMPRODUCT(1*(ORARIO!$H$5:$L$14=$B68)*(ORARIO!$B$5:$B$14=M$3)),\"\")","v":0},{"$f":"IF($B68<>\"\",SUMPRODUCT(1*(ORARIO!$H$5:$L$14=$B68)*(ORARIO!$B$5:$B$14=N$3)),\"\")","v":0},{"$f":"IF($B68<>\"\",SUMPRODUCT(1*(ORARIO!$H$5:$L$14=$B68)*(ORARIO!$B$5:$B$14=O$3)),\"\")","v":0},{"$f":"IF($B68<>\"\",SUMPRODUCT(1*(ORARIO!$H$5:$L$14=$B68)*(ORARIO!$B$5:$B$14=P$3)),\"\")","v":0},{"$f":"IF($B68<>\"\",SUMPRODUCT(1*(ORARIO!$H$5:$L$14=$B68)*(ORARIO!$B$5:$B$14=Q$3)),\"\")","v":0},{"$f":"IF($B68<>\"\",SUMPRODUCT(1*(ORARIO!$H$5:$L$14=$B68)*(ORARIO!$B$5:$B$14=R$3)),\"\")","v":0},{"$f":"IF($B68<>\"\",SUMPRODUCT(1*(ORARIO!$H$5:$L$14=$B68)*(ORARIO!$B$5:$B$14=S$3)),\"\")","v":0},null,{"$f":"IF($B68<>\"\",SUMPRODUCT(1*(ORARIO!$M$5:$Q$14=$B68)*(ORARIO!$B$5:$B$14=U$3)),\"\")","v":0},{"$f":"IF($B68<>\"\",SUMPRODUCT(1*(ORARIO!$M$5:$Q$14=$B68)*(ORARIO!$B$5:$B$14=V$3)),\"\")","v":0},{"$f":"IF($B68<>\"\",SUMPRODUCT(1*(ORARIO!$M$5:$Q$14=$B68)*(ORARIO!$B$5:$B$14=W$3)),\"\")","v":0},{"$f":"IF($B68<>\"\",SUMPRODUCT(1*(ORARIO!$M$5:$Q$14=$B68)*(ORARIO!$B$5:$B$14=X$3)),\"\")","v":0},{"$f":"IF($B68<>\"\",SUMPRODUCT(1*(ORARIO!$M$5:$Q$14=$B68)*(ORARIO!$B$5:$B$14=Y$3)),\"\")","v":0},{"$f":"IF($B68<>\"\",SUMPRODUCT(1*(ORARIO!$M$5:$Q$14=$B68)*(ORARIO!$B$5:$B$14=Z$3)),\"\")","v":0},{"$f":"IF($B68<>\"\",SUMPRODUCT(1*(ORARIO!$M$5:$Q$14=$B68)*(ORARIO!$B$5:$B$14=AA$3)),\"\")","v":0},{"$f":"IF($B68<>\"\",SUMPRODUCT(1*(ORARIO!$M$5:$Q$14=$B68)*(ORARIO!$B$5:$B$14=AB$3)),\"\")","v":0},null,{"$f":"IF($B68<>\"\",SUMPRODUCT(1*(ORARIO!$R$5:$V$14=$B68)*(ORARIO!$B$5:$B$14=AD$3)),\"\")","v":0},{"$f":"IF($B68<>\"\",SUMPRODUCT(1*(ORARIO!$R$5:$V$14=$B68)*(ORARIO!$B$5:$B$14=AE$3)),\"\")","v":0},{"$f":"IF($B68<>\"\",SUMPRODUCT(1*(ORARIO!$R$5:$V$14=$B68)*(ORARIO!$B$5:$B$14=AF$3)),\"\")","v":0},{"$f":"IF($B68<>\"\",SUMPRODUCT(1*(ORARIO!$R$5:$V$14=$B68)*(ORARIO!$B$5:$B$14=AG$3)),\"\")","v":0},{"$f":"IF($B68<>\"\",SUMPRODUCT(1*(ORARIO!$R$5:$V$14=$B68)*(ORARIO!$B$5:$B$14=AH$3)),\"\")","v":0},{"$f":"IF($B68<>\"\",SUMPRODUCT(1*(ORARIO!$R$5:$V$14=$B68)*(ORARIO!$B$5:$B$14=AI$3)),\"\")","v":0},{"$f":"IF($B68<>\"\",SUMPRODUCT(1*(ORARIO!$R$5:$V$14=$B68)*(ORARIO!$B$5:$B$14=AJ$3)),\"\")","v":0},{"$f":"IF($B68<>\"\",SUMPRODUCT(1*(ORARIO!$R$5:$V$14=$B68)*(ORARIO!$B$5:$B$14=AK$3)),\"\")","v":0},null,{"$f":"IF($B68<>\"\",SUMPRODUCT(1*(ORARIO!$W$5:$AA$14=$B68)*(ORARIO!$B$5:$B$14=AM$3)),\"\")","v":0},{"$f":"IF($B68<>\"\",SUMPRODUCT(1*(ORARIO!$W$5:$AA$14=$B68)*(ORARIO!$B$5:$B$14=AN$3)),\"\")","v":0},{"$f":"IF($B68<>\"\",SUMPRODUCT(1*(ORARIO!$W$5:$AA$14=$B68)*(ORARIO!$B$5:$B$14=AO$3)),\"\")","v":0},{"$f":"IF($B68<>\"\",SUMPRODUCT(1*(ORARIO!$W$5:$AA$14=$B68)*(ORARIO!$B$5:$B$14=AP$3)),\"\")","v":0},{"$f":"IF($B68<>\"\",SUMPRODUCT(1*(ORARIO!$W$5:$AA$14=$B68)*(ORARIO!$B$5:$B$14=AQ$3)),\"\")","v":0},{"$f":"IF($B68<>\"\",SUMPRODUCT(1*(ORARIO!$W$5:$AA$14=$B68)*(ORARIO!$B$5:$B$14=AR$3)),\"\")","v":0},{"$f":"IF($B68<>\"\",SUMPRODUCT(1*(ORARIO!$W$5:$AA$14=$B68)*(ORARIO!$B$5:$B$14=AS$3)),\"\")","v":0},{"$f":"IF($B68<>\"\",SUMPRODUCT(1*(ORARIO!$W$5:$AA$14=$B68)*(ORARIO!$B$5:$B$14=AT$3)),\"\")","v":0}]
[null,"F zgo",{"$f":"IF($B$4<>\"\",SUMPRODUCT(1*(ORARIO!$C$5:$G$14=$B69)*(ORARIO!$B$5:$B$14=C$3)),\"\")","v":0},{"$f":"IF($B$4<>\"\",SUMPRODUCT(1*(ORARIO!$C$5:$G$14=$B69)*(ORARIO!$B$5:$B$14=D$3)),\"\")","v":0},{"$f":"IF($B$4<>\"\",SUMPRODUCT(1*(ORARIO!$C$5:$G$14=$B69)*(ORARIO!$B$5:$B$14=E$3)),\"\")","v":0},{"$f":"IF($B$4<>\"\",SUMPRODUCT(1*(ORARIO!$C$5:$G$14=$B69)*(ORARIO!$B$5:$B$14=F$3)),\"\")","v":0},{"$f":"IF($B$4<>\"\",SUMPRODUCT(1*(ORARIO!$C$5:$G$14=$B69)*(ORARIO!$B$5:$B$14=G$3)),\"\")","v":0},{"$f":"IF($B$4<>\"\",SUMPRODUCT(1*(ORARIO!$C$5:$G$14=$B69)*(ORARIO!$B$5:$B$14=H$3)),\"\")","v":0},{"$f":"IF($B$4<>\"\",SUMPRODUCT(1*(ORARIO!$C$5:$G$14=$B69)*(ORARIO!$B$5:$B$14=I$3)),\"\")","v":0},{"$f":"IF($B$4<>\"\",SUMPRODUCT(1*(ORARIO!$C$5:$G$14=$B69)*(ORARIO!$B$5:$B$14=J$3)),\"\")","v":0},null,{"$f":"IF($B69<>\"\",SUMPRODUCT(1*(ORARIO!$H$5:$L$14=$B69)*(ORARIO!$B$5:$B$14=L$3)),\"\")","v":0},{"$f":"IF($B69<>\"\",SUMPRODUCT(1*(ORARIO!$H$5:$L$14=$B69)*(ORARIO!$B$5:$B$14=M$3)),\"\")","v":0},{"$f":"IF($B69<>\"\",SUMPRODUCT(1*(ORARIO!$H$5:$L$14=$B69)*(ORARIO!$B$5:$B$14=N$3)),\"\")","v":0},{"$f":"IF($B69<>\"\",SUMPRODUCT(1*(ORARIO!$H$5:$L$14=$B69)*(ORARIO!$B$5:$B$14=O$3)),\"\")","v":0},{"$f":"IF($B69<>\"\",SUMPRODUCT(1*(ORARIO!$H$5:$L$14=$B69)*(ORARIO!$B$5:$B$14=P$3)),\"\")","v":0},{"$f":"IF($B69<>\"\",SUMPRODUCT(1*(ORARIO!$H$5:$L$14=$B69)*(ORARIO!$B$5:$B$14=Q$3)),\"\")","v":0},{"$f":"IF($B69<>\"\",SUMPRODUCT(1*(ORARIO!$H$5:$L$14=$B69)*(ORARIO!$B$5:$B$14=R$3)),\"\")","v":0},{"$f":"IF($B69<>\"\",SUMPRODUCT(1*(ORARIO!$H$5:$L$14=$B69)*(ORARIO!$B$5:$B$14=S$3)),\"\")","v":0},null,{"$f":"IF($B69<>\"\",SUMPRODUCT(1*(ORARIO!$M$5:$Q$14=$B69)*(ORARIO!$B$5:$B$14=U$3)),\"\")","v":0},{"$f":"IF($B69<>\"\",SUMPRODUCT(1*(ORARIO!$M$5:$Q$14=$B69)*(ORARIO!$B$5:$B$14=V$3)),\"\")","v":0},{"$f":"IF($B69<>\"\",SUMPRODUCT(1*(ORARIO!$M$5:$Q$14=$B69)*(ORARIO!$B$5:$B$14=W$3)),\"\")","v":0},{"$f":"IF($B69<>\"\",SUMPRODUCT(1*(ORARIO!$M$5:$Q$14=$B69)*(ORARIO!$B$5:$B$14=X$3)),\"\")","v":0},{"$f":"IF($B69<>\"\",SUMPRODUCT(1*(ORARIO!$M$5:$Q$14=$B69)*(ORARIO!$B$5:$B$14=Y$3)),\"\")","v":0},{"$f":"IF($B69<>\"\",SUMPRODUCT(1*(ORARIO!$M$5:$Q$14=$B69)*(ORARIO!$B$5:$B$14=Z$3)),\"\")","v":0},{"$f":"IF($B69<>\"\",SUMPRODUCT(1*(ORARIO!$M$5:$Q$14=$B69)*(ORARIO!$B$5:$B$14=AA$3)),\"\")","v":0},{"$f":"IF($B69<>\"\",SUMPRODUCT(1*(ORARIO!$M$5:$Q$14=$B69)*(ORARIO!$B$5:$B$14=AB$3)),\"\")","v":0},null,{"$f":"IF($B69<>\"\",SUMPRODUCT(1*(ORARIO!$R$5:$V$14=$B69)*(ORARIO!$B$5:$B$14=AD$3)),\"\")","v":0},{"$f":"IF($B69<>\"\",SUMPRODUCT(1*(ORARIO!$R$5:$V$14=$B69)*(ORARIO!$B$5:$B$14=AE$3)),\"\")","v":0},{"$f":"IF($B69<>\"\",SUMPRODUCT(1*(ORARIO!$R$5:$V$14=$B69)*(ORARIO!$B$5:$B$14=AF$3)),\"\")","v":0},{"$f":"IF($B69<>\"\",SUMPRODUCT(1*(ORARIO!$R$5:$V$14=$B69)*(ORARIO!$B$5:$B$14=AG$3)),\"\")","v":0},{"$f":"IF($B69<>\"\",SUMPRODUCT(1*(ORARIO!$R$5:$V$14=$B69)*(ORARIO!$B$5:$B$14=AH$3)),\"\")","v":0},{"$f":"IF($B69<>\"\",SUMPRODUCT(1*(ORARIO!$R$5:$V$14=$B69)*(ORARIO!$B$5:$B$14=AI$3)),\"\")","v":0},{"$f":"IF($B69<>\"\",SUMPRODUCT(1*(ORARIO!$R$5:$V$14=$B69)*(ORARIO!$B$5:$B$14=AJ$3)),\"\")","v":0},{"$f":"IF($B69<>\"\",SUMPRODUCT(1*(ORARIO!$R$5:$V$14=$B69)*(ORARIO!$B$5:$B$14=AK$3)),\"\")","v":0},null,{"$f":"IF($B69<>\"\",SUMPRODUCT(1*(ORARIO!$W$5:$AA$14=$B69)*(ORARIO!$B$5:$B$14=AM$3)),\"\")","v":0},{"$f":"IF($B69<>\"\",SUMPRODUCT(1*(ORARIO!$W$5:$AA$14=$B69)*(ORARIO!$B$5:$B$14=AN$3)),\"\")","v":0},{"$f":"IF($B69<>\"\",SUMPRODUCT(1*(ORARIO!$W$5:$AA$14=$B69)*(ORARIO!$B$5:$B$14=AO$3)),\"\")","v":0},{"$f":"IF($B69<>\"\",SUMPRODUCT(1*(ORARIO!$W$5:$AA$14=$B69)*(ORARIO!$B$5:$B$14=AP$3)),\"\")","v":0},{"$f":"IF($B69<>\"\",SUMPRODUCT(1*(ORARIO!$W$5:$AA$14=$B69)*(ORARIO!$B$5:$B$14=AQ$3)),\"\")","v":0},{"$f":"IF($B69<>\"\",SUMPRODUCT(1*(ORARIO!$W$5:$AA$14=$B69)*(ORARIO!$B$5:$B$14=AR$3)),\"\")","v":0},{"$f":"IF($B69<>\"\",SUMPRODUCT(1*(ORARIO!$W$5:$AA$14=$B69)*(ORARIO!$B$5:$B$14=AS$3)),\"\")","v":0},{"$f":"IF($B69<>\"\",SUMPRODUCT(1*(ORARIO!$W$5:$AA$14=$B69)*(ORARIO!$B$5:$B$14=AT$3)),\"\")","v":0}]
[null,"F geo",{"$f":"IF($B$4<>\"\",SUMPRODUCT(1*(ORARIO!$C$5:$G$14=$B70)*(ORARIO!$B$5:$B$14=C$3)),\"\")","v":0},{"$f":"IF($B$4<>\"\",SUMPRODUCT(1*(ORARIO!$C$5:$G$14=$B70)*(ORARIO!$B$5:$B$14=D$3)),\"\")","v":1},{"$f":"IF($B$4<>\"\",SUMPRODUCT(1*(ORARIO!$C$5:$G$14=$B70)*(ORARIO!$B$5:$B$14=E$3)),\"\")","v":0},{"$f":"IF($B$4<>\"\",SUMPRODUCT(1*(ORARIO!$C$5:$G$14=$B70)*(ORARIO!$B$5:$B$14=F$3)),\"\")","v":0},{"$f":"IF($B$4<>\"\",SUMPRODUCT(1*(ORARIO!$C$5:$G$14=$B70)*(ORARIO!$B$5:$B$14=G$3)),\"\")","v":0},{"$f":"IF($B$4<>\"\",SUMPRODUCT(1*(ORARIO!$C$5:$G$14=$B70)*(ORARIO!$B$5:$B$14=H$3)),\"\")","v":0},{"$f":"IF($B$4<>\"\",SUMPRODUCT(1*(ORARIO!$C$5:$G$14=$B70)*(ORARIO!$B$5:$B$14=I$3)),\"\")","v":0},{"$f":"IF($B$4<>\"\",SUMPRODUCT(1*(ORARIO!$C$5:$G$14=$B70)*(ORARIO!$B$5:$B$14=J$3)),\"\")","v":0},null,{"$f":"IF($B70<>\"\",SUMPRODUCT(1*(ORARIO!$H$5:$L$14=$B70)*(ORARIO!$B$5:$B$14=L$3)),\"\")","v":0},{"$f":"IF($B70<>\"\",SUMPRODUCT(1*(ORARIO!$H$5:$L$14=$B70)*(ORARIO!$B$5:$B$14=M$3)),\"\")","v":0},{"$f":"IF($B70<>\"\",SUMPRODUCT(1*(ORARIO!$H$5:$L$14=$B70)*(ORARIO!$B$5:$B$14=N$3)),\"\")","v":0},{"$f":"IF($B70<>\"\",SUMPRODUCT(1*(ORARIO!$H$5:$L$14=$B70)*(ORARIO!$B$5:$B$14=O$3)),\"\")","v":0},{"$f":"IF($B70<>\"\",SUMPRODUCT(1*(ORARIO!$H$5:$L$14=$B70)*(ORARIO!$B$5:$B$14=P$3)),\"\")","v":0},{"$f":"IF($B70<>\"\",SUMPRODUCT(1*(ORARIO!$H$5:$L$14=$B70)*(ORARIO!$B$5:$B$14=Q$3)),\"\")","v":0},{"$f":"IF($B70<>\"\",SUMPRODUCT(1*(ORARIO!$H$5:$L$14=$B70)*(ORARIO!$B$5:$B$14=R$3)),\"\")","v":0},{"$f":"IF($B70<>\"\",SUMPRODUCT(1*(ORARIO!$H$5:$L$14=$B70)*(ORARIO!$B$5:$B$14=S$3)),\"\")","v":0},null,{"$f":"IF($B70<>\"\",SUMPRODUCT(1*(ORARIO!$M$5:$Q$14=$B70)*(ORARIO!$B$5:$B$14=U$3)),\"\")","v":0},{"$f":"IF($B70<>\"\",SUMPRODUCT(1*(ORARIO!$M$5:$Q$14=$B70)*(ORARIO!$B$5:$B$14=V$3)),\"\")","v":0},{"$f":"IF($B70<>\"\",SUMPRODUCT(1*(ORARIO!$M$5:$Q$14=$B70)*(ORARIO!$B$5:$B$14=W$3)),\"\")","v":0},{"$f":"IF($B70<>\"\",SUMPRODUCT(1*(ORARIO!$M$5:$Q$14=$B70)*(ORARIO!$B$5:$B$14=X$3)),\"\")","v":0},{"$f":"IF($B70<>\"\",SUMPRODUCT(1*(ORARIO!$M$5:$Q$14=$B70)*(ORARIO!$B$5:$B$14=Y$3)),\"\")","v":0},{"$f":"IF($B70<>\"\",SUMPRODUCT(1*(ORARIO!$M$5:$Q$14=$B70)*(ORARIO!$B$5:$B$14=Z$3)),\"\")","v":0},{"$f":"IF($B70<>\"\",SUMPRODUCT(1*(ORARIO!$M$5:$Q$14=$B70)*(ORARIO!$B$5:$B$14=AA$3)),\"\")","v":0},{"$f":"IF($B70<>\"\",SUMPRODUCT(1*(ORARIO!$M$5:$Q$14=$B70)*(ORARIO!$B$5:$B$14=AB$3)),\"\")","v":0},null,{"$f":"IF($B70<>\"\",SUMPRODUCT(1*(ORARIO!$R$5:$V$14=$B70)*(ORARIO!$B$5:$B$14=AD$3)),\"\")","v":0},{"$f":"IF($B70<>\"\",SUMPRODUCT(1*(ORARIO!$R$5:$V$14=$B70)*(ORARIO!$B$5:$B$14=AE$3)),\"\")","v":0},{"$f":"IF($B70<>\"\",SUMPRODUCT(1*(ORARIO!$R$5:$V$14=$B70)*(ORARIO!$B$5:$B$14=AF$3)),\"\")","v":0},{"$f":"IF($B70<>\"\",SUMPRODUCT(1*(ORARIO!$R$5:$V$14=$B70)*(ORARIO!$B$5:$B$14=AG$3)),\"\")","v":0},{"$f":"IF($B70<>\"\",SUMPRODUCT(1*(ORARIO!$R$5:$V$14=$B70)*(ORARIO!$B$5:$B$14=AH$3)),\"\")","v":0},{"$f":"IF($B70<>\"\",SUMPRODUCT(1*(ORARIO!$R$5:$V$14=$B70)*(ORARIO!$B$5:$B$14=AI$3)),\"\")","v":0},{"$f":"IF($B70<>\"\",SUMPRODUCT(1*(ORARIO!$R$5:$V$14=$B70)*(ORARIO!$B$5:$B$14=AJ$3)),\"\")","v":0},{"$f":"IF($B70<>\"\",SUMPRODUCT(1*(ORARIO!$R$5:$V$14=$B70)*(ORARIO!$B$5:$B$14=AK$3)),\"\")","v":0},null,{"$f":"IF($B70<>\"\",SUMPRODUCT(1*(ORARIO!$W$5:$AA$14=$B70)*(ORARIO!$B$5:$B$14=AM$3)),\"\")","v":0},{"$f":"IF($B70<>\"\",SUMPRODUCT(1*(ORARIO!$W$5:$AA$14=$B70)*(ORARIO!$B$5:$B$14=AN$3)),\"\")","v":0},{"$f":"IF($B70<>\"\",SUMPRODUCT(1*(ORARIO!$W$5:$AA$14=$B70)*(ORARIO!$B$5:$B$14=AO$3)),\"\")","v":0},{"$f":"IF($B70<>\"\",SUMPRODUCT(1*(ORARIO!$W$5:$AA$14=$B70)*(ORARIO!$B$5:$B$14=AP$3)),\"\")","v":0},{"$f":"IF($B70<>\"\",SUMPRODUCT(1*(ORARIO!$W$5:$AA$14=$B70)*(ORARIO!$B$5:$B$14=AQ$3)),\"\")","v":0},{"$f":"IF($B70<>\"\",SUMPRODUCT(1*(ORARIO!$W$5:$AA$14=$B70)*(ORARIO!$B$5:$B$14=AR$3)),\"\")","v":0},{"$f":"IF($B70<>\"\",SUMPRODUCT(1*(ORARIO!$W$5:$AA$14=$B70)*(ORARIO!$B$5:$B$14=AS$3)),\"\")","v":0},{"$f":"IF($B70<>\"\",SUMPRODUCT(1*(ORARIO!$W$5:$AA$14=$B70)*(ORARIO!$B$5:$B$14=AT$3)),\"\")","v":0}]
[null,"F lik",{"$f":"IF($B$4<>\"\",SUMPRODUCT(1*(ORARIO!$C$5:$G$14=$B71)*(ORARIO!$B$5:$B$14=C$3)),\"\")","v":0},{"$f":"IF($B$4<>\"\",SUMPRODUCT(1*(ORARIO!$C$5:$G$14=$B71)*(ORARIO!$B$5:$B$14=D$3)),\"\")","v":0},{"$f":"IF($B$4<>\"\",SUMPRODUCT(1*(ORARIO!$C$5:$G$14=$B71)*(ORARIO!$B$5:$B$14=E$3)),\"\")","v":0},{"$f":"IF($B$4<>\"\",SUMPRODUCT(1*(ORARIO!$C$5:$G$14=$B71)*(ORARIO!$B$5:$B$14=F$3)),\"\")","v":0},{"$f":"IF($B$4<>\"\",SUMPRODUCT(1*(ORARIO!$C$5:$G$14=$B71)*(ORARIO!$B$5:$B$14=G$3)),\"\")","v":0},{"$f":"IF($B$4<>\"\",SUMPRODUCT(1*(ORARIO!$C$5:$G$14=$B71)*(ORARIO!$B$5:$B$14=H$3)),\"\")","v":0},{"$f":"IF($B$4<>\"\",SUMPRODUCT(1*(ORARIO!$C$5:$G$14=$B71)*(ORARIO!$B$5:$B$14=I$3)),\"\")","v":0},{"$f":"IF($B$4<>\"\",SUMPRODUCT(1*(ORARIO!$C$5:$G$14=$B71)*(ORARIO!$B$5:$B$14=J$3)),\"\")","v":0},null,{"$f":"IF($B71<>\"\",SUMPRODUCT(1*(ORARIO!$H$5:$L$14=$B71)*(ORARIO!$B$5:$B$14=L$3)),\"\")","v":0},{"$f":"IF($B71<>\"\",SUMPRODUCT(1*(ORARIO!$H$5:$L$14=$B71)*(ORARIO!$B$5:$B$14=M$3)),\"\")","v":0},{"$f":"IF($B71<>\"\",SUMPRODUCT(1*(ORARIO!$H$5:$L$14=$B71)*(ORARIO!$B$5:$B$14=N$3)),\"\")","v":0},{"$f":"IF($B71<>\"\",SUMPRODUCT(1*(ORARIO!$H$5:$L$14=$B71)*(ORARIO!$B$5:$B$14=O$3)),\"\")","v":0},{"$f":"IF($B71<>\"\",SUMPRODUCT(1*(ORARIO!$H$5:$L$14=$B71)*(ORARIO!$B$5:$B$14=P$3)),\"\")","v":0},{"$f":"IF($B71<>\"\",SUMPRODUCT(1*(ORARIO!$H$5:$L$14=$B71)*(ORARIO!$B$5:$B$14=Q$3)),\"\")","v":0},{"$f":"IF($B71<>\"\",SUMPRODUCT(1*(ORARIO!$H$5:$L$14=$B71)*(ORARIO!$B$5:$B$14=R$3)),\"\")","v":0},{"$f":"IF($B71<>\"\",SUMPRODUCT(1*(ORARIO!$H$5:$L$14=$B71)*(ORARIO!$B$5:$B$14=S$3)),\"\")","v":0},null,{"$f":"IF($B71<>\"\",SUMPRODUCT(1*(ORARIO!$M$5:$Q$14=$B71)*(ORARIO!$B$5:$B$14=U$3)),\"\")","v":0},{"$f":"IF($B71<>\"\",SUMPRODUCT(1*(ORARIO!$M$5:$Q$14=$B71)*(ORARIO!$B$5:$B$14=V$3)),\"\")","v":0},{"$f":"IF($B71<>\"\",SUMPRODUCT(1*(ORARIO!$M$5:$Q$14=$B71)*(ORARIO!$B$5:$B$14=W$3)),\"\")","v":0},{"$f":"IF($B71<>\"\",SUMPRODUCT(1*(ORARIO!$M$5:$Q$14=$B71)*(ORARIO!$B$5:$B$14=X$3)),\"\")","v":0},{"$f":"IF($B71<>\"\",SUMPRODUCT(1*(ORARIO!$M$5:$Q$14=$B71)*(ORARIO!$B$5:$B$14=Y$3)),\"\")","v":0},{"$f":"IF($B71<>\"\",SUMPRODUCT(1*(ORARIO!$M$5:$Q$14=$B71)*(ORARIO!$B$5:$B$14=Z$3)),\"\")","v":0},{"$f":"IF($B71<>\"\",SUMPRODUCT(1*(ORARIO!$M$5:$Q$14=$B71)*(ORARIO!$B$5:$B$14=AA$3)),\"\")","v":0},{"$f":"IF($B71<>\"\",SUMPRODUCT(1*(ORARIO!$M$5:$Q$14=$B71)*(ORARIO!$B$5:$B$14=AB$3)),\"\")","v":0},null,{"$f":"IF($B71<>\"\",SUMPRODUCT(1*(ORARIO!$R$5:$V$14=$B71)*(ORARIO!$B$5:$B$14=AD$3)),\"\")","v":0},{"$f":"IF($B71<>\"\",SUMPRODUCT(1*(ORARIO!$R$5:$V$14=$B71)*(ORARIO!$B$5:$B$14=AE$3)),\"\")","v":0},{"$f":"IF($B71<>\"\",SUMPRODUCT(1*(ORARIO!$R$5:$V$14=$B71)*(ORARIO!$B$5:$B$14=AF$3)),\"\")","v":0},{"$f":"IF($B71<>\"\",SUMPRODUCT(1*(ORARIO!$R$5:$V$14=$B71)*(ORARIO!$B$5:$B$14=AG$3)),\"\")","v":0},{"$f":"IF($B71<>\"\",SUMPRODUCT(1*(ORARIO!$R$5:$V$14=$B71)*(ORARIO!$B$5:$B$14=AH$3)),\"\")","v":0},{"$f":"IF($B71<>\"\",SUMPRODUCT(1*(ORARIO!$R$5:$V$14=$B71)*(ORARIO!$B$5:$B$14=AI$3)),\"\")","v":0},{"$f":"IF($B71<>\"\",SUMPRODUCT(1*(ORARIO!$R$5:$V$14=$B71)*(ORARIO!$B$5:$B$14=AJ$3)),\"\")","v":0},{"$f":"IF($B71<>\"\",SUMPRODUCT(1*(ORARIO!$R$5:$V$14=$B71)*(ORARIO!$B$5:$B$14=AK$3)),\"\")","v":0},null,{"$f":"IF($B71<>\"\",SUMPRODUCT(1*(ORARIO!$W$5:$AA$14=$B71)*(ORARIO!$B$5:$B$14=AM$3)),\"\")","v":0},{"$f":"IF($B71<>\"\",SUMPRODUCT(1*(ORARIO!$W$5:$AA$14=$B71)*(ORARIO!$B$5:$B$14=AN$3)),\"\")","v":0},{"$f":"IF($B71<>\"\",SUMPRODUCT(1*(ORARIO!$W$5:$AA$14=$B71)*(ORARIO!$B$5:$B$14=AO$3)),\"\")","v":0},{"$f":"IF($B71<>\"\",SUMPRODUCT(1*(ORARIO!$W$5:$AA$14=$B71)*(ORARIO!$B$5:$B$14=AP$3)),\"\")","v":0},{"$f":"IF($B71<>\"\",SUMPRODUCT(1*(ORARIO!$W$5:$AA$14=$B71)*(ORARIO!$B$5:$B$14=AQ$3)),\"\")","v":0},{"$f":"IF($B71<>\"\",SUMPRODUCT(1*(ORARIO!$W$5:$AA$14=$B71)*(ORARIO!$B$5:$B$14=AR$3)),\"\")","v":0},{"$f":"IF($B71<>\"\",SUMPRODUCT(1*(ORARIO!$W$5:$AA$14=$B71)*(ORARIO!$B$5:$B$14=AS$3)),\"\")","v":0},{"$f":"IF($B71<>\"\",SUMPRODUCT(1*(ORARIO!$W$5:$AA$14=$B71)*(ORARIO!$B$5:$B$14=AT$3)),\"\")","v":0}]
[null,"F gla",{"$f":"IF($B$4<>\"\",SUMPRODUCT(1*(ORARIO!$C$5:$G$14=$B72)*(ORARIO!$B$5:$B$14=C$3)),\"\")","v":0},{"$f":"IF($B$4<>\"\",SUMPRODUCT(1*(ORARIO!$C$5:$G$14=$B72)*(ORARIO!$B$5:$B$14=D$3)),\"\")","v":0},{"$f":"IF($B$4<>\"\",SUMPRODUCT(1*(ORARIO!$C$5:$G$14=$B72)*(ORARIO!$B$5:$B$14=E$3)),\"\")","v":0},{"$f":"IF($B$4<>\"\",SUMPRODUCT(1*(ORARIO!$C$5:$G$14=$B72)*(ORARIO!$B$5:$B$14=F$3)),\"\")","v":0},{"$f":"IF($B$4<>\"\",SUMPRODUCT(1*(ORARIO!$C$5:$G$14=$B72)*(ORARIO!$B$5:$B$14=G$3)),\"\")","v":0},{"$f":"IF($B$4<>\"\",SUMPRODUCT(1*(ORARIO!$C$5:$G$14=$B72)*(ORARIO!$B$5:$B$14=H$3)),\"\")","v":0},{"$f":"IF($B$4<>\"\",SUMPRODUCT(1*(ORARIO!$C$5:$G$14=$B72)*(ORARIO!$B$5:$B$14=I$3)),\"\")","v":0},{"$f":"IF($B$4<>\"\",SUMPRODUCT(1*(ORARIO!$C$5:$G$14=$B72)*(ORARIO!$B$5:$B$14=J$3)),\"\")","v":0},null,{"$f":"IF($B72<>\"\",SUMPRODUCT(1*(ORARIO!$H$5:$L$14=$B72)*(ORARIO!$B$5:$B$14=L$3)),\"\")","v":0},{"$f":"IF($B72<>\"\",SUMPRODUCT(1*(ORARIO!$H$5:$L$14=$B72)*(ORARIO!$B$5:$B$14=M$3)),\"\")","v":0},{"$f":"IF($B72<>\"\",SUMPRODUCT(1*(ORARIO!$H$5:$L$14=$B72)*(ORARIO!$B$5:$B$14=N$3)),\"\")","v":0},{"$f":"IF($B72<>\"\",SUMPRODUCT(1*(ORARIO!$H$5:$L$14=$B72)*(ORARIO!$B$5:$B$14=O$3)),\"\")","v":0},{"$f":"IF($B72<>\"\",SUMPRODUCT(1*(ORARIO!$H$5:$L$14=$B72)*(ORARIO!$B$5:$B$14=P$3)),\"\")","v":0},{"$f":"IF($B72<>\"\",SUMPRODUCT(1*(ORARIO!$H$5:$L$14=$B72)*(ORARIO!$B$5:$B$14=Q$3)),\"\")","v":0},{"$f":"IF($B72<>\"\",SUMPRODUCT(1*(ORARIO!$H$5:$L$14=$B72)*(ORARIO!$B$5:$B$14=R$3)),\"\")","v":0},{"$f":"IF($B72<>\"\",SUMPRODUCT(1*(ORARIO!$H$5:$L$14=$B72)*(ORARIO!$B$5:$B$14=S$3)),\"\")","v":0},null,{"$f":"IF($B72<>\"\",SUMPRODUCT(1*(ORARIO!$M$5:$Q$14=$B72)*(ORARIO!$B$5:$B$14=U$3)),\"\")","v":0},{"$f":"IF($B72<>\"\",SUMPRODUCT(1*(ORARIO!$M$5:$Q$14=$B72)*(ORARIO!$B$5:$B$14=V$3)),\"\")","v":0},{"$f":"IF($B72<>\"\",SUMPRODUCT(1*(ORARIO!$M$5:$Q$14=$B72)*(ORARIO!$B$5:$B$14=W$3)),\"\")","v":0},{"$f":"IF($B72<>\"\",SUMPRODUCT(1*(ORARIO!$M$5:$Q$14=$B72)*(ORARIO!$B$5:$B$14=X$3)),\"\")","v":0},{"$f":"IF($B72<>\"\",SUMPRODUCT(1*(ORARIO!$M$5:$Q$14=$B72)*(ORARIO!$B$5:$B$14=Y$3)),\"\")","v":0},{"$f":"IF($B72<>\"\",SUMPRODUCT(1*(ORARIO!$M$5:$Q$14=$B72)*(ORARIO!$B$5:$B$14=Z$3)),\"\")","v":0},{"$f":"IF($B72<>\"\",SUMPRODUCT(1*(ORARIO!$M$5:$Q$14=$B72)*(ORARIO!$B$5:$B$14=AA$3)),\"\")","v":0},{"$f":"IF($B72<>\"\",SUMPRODUCT(1*(ORARIO!$M$5:$Q$14=$B72)*(ORARIO!$B$5:$B$14=AB$3)),\"\")","v":0},null,{"$f":"IF($B72<>\"\",SUMPRODUCT(1*(ORARIO!$R$5:$V$14=$B72)*(ORARIO!$B$5:$B$14=AD$3)),\"\")","v":0},{"$f":"IF($B72<>\"\",SUMPRODUCT(1*(ORARIO!$R$5:$V$14=$B72)*(ORARIO!$B$5:$B$14=AE$3)),\"\")","v":0},{"$f":"IF($B72<>\"\",SUMPRODUCT(1*(ORARIO!$R$5:$V$14=$B72)*(ORARIO!$B$5:$B$14=AF$3)),\"\")","v":0},{"$f":"IF($B72<>\"\",SUMPRODUCT(1*(ORARIO!$R$5:$V$14=$B72)*(ORARIO!$B$5:$B$14=AG$3)),\"\")","v":0},{"$f":"IF($B72<>\"\",SUMPRODUCT(1*(ORARIO!$R$5:$V$14=$B72)*(ORARIO!$B$5:$B$14=AH$3)),\"\")","v":0},{"$f":"IF($B72<>\"\",SUMPRODUCT(1*(ORARIO!$R$5:$V$14=$B72)*(ORARIO!$B$5:$B$14=AI$3)),\"\")","v":0},{"$f":"IF($B72<>\"\",SUMPRODUCT(1*(ORARIO!$R$5:$V$14=$B72)*(ORARIO!$B$5:$B$14=AJ$3)),\"\")","v":0},{"$f":"IF($B72<>\"\",SUMPRODUCT(1*(ORARIO!$R$5:$V$14=$B72)*(ORARIO!$B$5:$B$14=AK$3)),\"\")","v":0},null,{"$f":"IF($B72<>\"\",SUMPRODUCT(1*(ORARIO!$W$5:$AA$14=$B72)*(ORARIO!$B$5:$B$14=AM$3)),\"\")","v":0},{"$f":"IF($B72<>\"\",SUMPRODUCT(1*(ORARIO!$W$5:$AA$14=$B72)*(ORARIO!$B$5:$B$14=AN$3)),\"\")","v":0},{"$f":"IF($B72<>\"\",SUMPRODUCT(1*(ORARIO!$W$5:$AA$14=$B72)*(ORARIO!$B$5:$B$14=AO$3)),\"\")","v":0},{"$f":"IF($B72<>\"\",SUMPRODUCT(1*(ORARIO!$W$5:$AA$14=$B72)*(ORARIO!$B$5:$B$14=AP$3)),\"\")","v":0},{"$f":"IF($B72<>\"\",SUMPRODUCT(1*(ORARIO!$W$5:$AA$14=$B72)*(ORARIO!$B$5:$B$14=AQ$3)),\"\")","v":0},{"$f":"IF($B72<>\"\",SUMPRODUCT(1*(ORARIO!$W$5:$AA$14=$B72)*(ORARIO!$B$5:$B$14=AR$3)),\"\")","v":0},{"$f":"IF($B72<>\"\",SUMPRODUCT(1*(ORARIO!$W$5:$AA$14=$B72)*(ORARIO!$B$5:$B$14=AS$3)),\"\")","v":0},{"$f":"IF($B72<>\"\",SUMPRODUCT(1*(ORARIO!$W$5:$AA$14=$B72)*(ORARIO!$B$5:$B$14=AT$3)),\"\")","v":0}]
[null,"F tel",{"$f":"IF($B$4<>\"\",SUMPRODUCT(1*(ORARIO!$C$5:$G$14=$B73)*(ORARIO!$B$5:$B$14=C$3)),\"\")","v":0},{"$f":"IF($B$4<>\"\",SUMPRODUCT(1*(ORARIO!$C$5:$G$14=$B73)*(ORARIO!$B$5:$B$14=D$3)),\"\")","v":0},{"$f":"IF($B$4<>\"\",SUMPRODUCT(1*(ORARIO!$C$5:$G$14=$B73)*(ORARIO!$B$5:$B$14=E$3)),\"\")","v":0},{"$f":"IF($B$4<>\"\",SUMPRODUCT(1*(ORARIO!$C$5:$G$14=$B73)*(ORARIO!$B$5:$B$14=F$3)),\"\")","v":0},{"$f":"IF($B$4<>\"\",SUMPRODUCT(1*(ORARIO!$C$5:$G$14=$B73)*(ORARIO!$B$5:$B$14=G$3)),\"\")","v":0},{"$f":"IF($B$4<>\"\",SUMPRODUCT(1*(ORARIO!$C$5:$G$14=$B73)*(ORARIO!$B$5:$B$14=H$3)),\"\")","v":0},{"$f":"IF($B$4<>\"\",SUMPRODUCT(1*(ORARIO!$C$5:$G$14=$B73)*(ORARIO!$B$5:$B$14=I$3)),\"\")","v":0},{"$f":"IF($B$4<>\"\",SUMPRODUCT(1*(ORARIO!$C$5:$G$14=$B73)*(ORARIO!$B$5:$B$14=J$3)),\"\")","v":0},null,{"$f":"IF($B73<>\"\",SUMPRODUCT(1*(ORARIO!$H$5:$L$14=$B73)*(ORARIO!$B$5:$B$14=L$3)),\"\")","v":0},{"$f":"IF($B73<>\"\",SUMPRODUCT(1*(ORARIO!$H$5:$L$14=$B73)*(ORARIO!$B$5:$B$14=M$3)),\"\")","v":0},{"$f":"IF($B73<>\"\",SUMPRODUCT(1*(ORARIO!$H$5:$L$14=$B73)*(ORARIO!$B$5:$B$14=N$3)),\"\")","v":0},{"$f":"IF($B73<>\"\",SUMPRODUCT(1*(ORARIO!$H$5:$L$14=$B73)*(ORARIO!$B$5:$B$14=O$3)),\"\")","v":0},{"$f":"IF($B73<>\"\",SUMPRODUCT(1*(ORARIO!$H$5:$L$14=$B73)*(ORARIO!$B$5:$B$14=P$3)),\"\")","v":0},{"$f":"IF($B73<>\"\",SUMPRODUCT(1*(ORARIO!$H$5:$L$14=$B73)*(ORARIO!$B$5:$B$14=Q$3)),\"\")","v":0},{"$f":"IF($B73<>\"\",SUMPRODUCT(1*(ORARIO!$H$5:$L$14=$B73)*(ORARIO!$B$5:$B$14=R$3)),\"\")","v":0},{"$f":"IF($B73<>\"\",SUMPRODUCT(1*(ORARIO!$H$5:$L$14=$B73)*(ORARIO!$B$5:$B$14=S$3)),\"\")","v":0},null,{"$f":"IF($B73<>\"\",SUMPRODUCT(1*(ORARIO!$M$5:$Q$14=$B73)*(ORARIO!$B$5:$B$14=U$3)),\"\")","v":0},{"$f":"IF($B73<>\"\",SUMPRODUCT(1*(ORARIO!$M$5:$Q$14=$B73)*(ORARIO!$B$5:$B$14=V$3)),\"\")","v":0},{"$f":"IF($B73<>\"\",SUMPRODUCT(1*(ORARIO!$M$5:$Q$14=$B73)*(ORARIO!$B$5:$B$14=W$3)),\"\")","v":0},{"$f":"IF($B73<>\"\",SUMPRODUCT(1*(ORARIO!$M$5:$Q$14=$B73)*(ORARIO!$B$5:$B$14=X$3)),\"\")","v":0},{"$f":"IF($B73<>\"\",SUMPRODUCT(1*(ORARIO!$M$5:$Q$14=$B73)*(ORARIO!$B$5:$B$14=Y$3)),\"\")","v":0},{"$f":"IF($B73<>\"\",SUMPRODUCT(1*(ORARIO!$M$5:$Q$14=$B73)*(ORARIO!$B$5:$B$14=Z$3)),\"\")","v":0},{"$f":"IF($B73<>\"\",SUMPRODUCT(1*(ORARIO!$M$5:$Q$14=$B73)*(ORARIO!$B$5:$B$14=AA$3)),\"\")","v":0},{"$f":"IF($B73<>\"\",SUMPRODUCT(1*(ORARIO!$M$5:$Q$14=$B73)*(ORARIO!$B$5:$B$14=AB$3)),\"\")","v":0},null,{"$f":"IF($B73<>\"\",SUMPRODUCT(1*(ORARIO!$R$5:$V$14=$B73)*(ORARIO!$B$5:$B$14=AD$3)),\"\")","v":0},{"$f":"IF($B73<>\"\",SUMPRODUCT(1*(ORARIO!$R$5:$V$14=$B73)*(ORARIO!$B$5:$B$14=AE$3)),\"\")","v":0},{"$f":"IF($B73<>\"\",SUMPRODUCT(1*(ORARIO!$R$5:$V$14=$B73)*(ORARIO!$B$5:$B$14=AF$3)),\"\")","v":0},{"$f":"IF($B73<>\"\",SUMPRODUCT(1*(ORARIO!$R$5:$V$14=$B73)*(ORARIO!$B$5:$B$14=AG$3)),\"\")","v":0},{"$f":"IF($B73<>\"\",SUMPRODUCT(1*(ORARIO!$R$5:$V$14=$B73)*(ORARIO!$B$5:$B$14=AH$3)),\"\")","v":0},{"$f":"IF($B73<>\"\",SUMPRODUCT(1*(ORARIO!$R$5:$V$14=$B73)*(ORARIO!$B$5:$B$14=AI$3)),\"\")","v":0},{"$f":"IF($B73<>\"\",SUMPRODUCT(1*(ORARIO!$R$5:$V$14=$B73)*(ORARIO!$B$5:$B$14=AJ$3)),\"\")","v":0},{"$f":"IF($B73<>\"\",SUMPRODUCT(1*(ORARIO!$R$5:$V$14=$B73)*(ORARIO!$B$5:$B$14=AK$3)),\"\")","v":0},null,{"$f":"IF($B73<>\"\",SUMPRODUCT(1*(ORARIO!$W$5:$AA$14=$B73)*(ORARIO!$B$5:$B$14=AM$3)),\"\")","v":0},{"$f":"IF($B73<>\"\",SUMPRODUCT(1*(ORARIO!$W$5:$AA$14=$B73)*(ORARIO!$B$5:$B$14=AN$3)),\"\")","v":0},{"$f":"IF($B73<>\"\",SUMPRODUCT(1*(ORARIO!$W$5:$AA$14=$B73)*(ORARIO!$B$5:$B$14=AO$3)),\"\")","v":0},{"$f":"IF($B73<>\"\",SUMPRODUCT(1*(ORARIO!$W$5:$AA$14=$B73)*(ORARIO!$B$5:$B$14=AP$3)),\"\")","v":0},{"$f":"IF($B73<>\"\",SUMPRODUCT(1*(ORARIO!$W$5:$AA$14=$B73)*(ORARIO!$B$5:$B$14=AQ$3)),\"\")","v":0},{"$f":"IF($B73<>\"\",SUMPRODUCT(1*(ORARIO!$W$5:$AA$14=$B73)*(ORARIO!$B$5:$B$14=AR$3)),\"\")","v":0},{"$f":"IF($B73<>\"\",SUMPRODUCT(1*(ORARIO!$W$5:$AA$14=$B73)*(ORARIO!$B$5:$B$14=AS$3)),\"\")","v":0},{"$f":"IF($B73<>\"\",SUMPRODUCT(1*(ORARIO!$W$5:$AA$14=$B73)*(ORARIO!$B$5:$B$14=AT$3)),\"\")","v":0}]
[null,"F ver",{"$f":"IF($B$4<>\"\",SUMPRODUCT(1*(ORARIO!$C$5:$G$14=$B74)*(ORARIO!$B$5:$B$14=C$3)),\"\")","v":0},{"$f":"IF($B$4<>\"\",SUMPRODUCT(1*(ORARIO!$C$5:$G$14=$B74)*(ORARIO!$B$5:$B$14=D$3)),\"\")","v":0},{"$f":"IF($B$4<>\"\",SUMPRODUCT(1*(ORARIO!$C$5:$G$14=$B74)*(ORARIO!$B$5:$B$14=E$3)),\"\")","v":0},{"$f":"IF($B$4<>\"\",SUMPRODUCT(1*(ORARIO!$C$5:$G$14=$B74)*(ORARIO!$B$5:$B$14=F$3)),\"\")","v":0},{"$f":"IF($B$4<>\"\",SUMPRODUCT(1*(ORARIO!$C$5:$G$14=$B74)*(ORARIO!$B$5:$B$14=G$3)),\"\")","v":0},{"$f":"IF($B$4<>\"\",SUMPRODUCT(1*(ORARIO!$C$5:$G$14=$B74)*(ORARIO!$B$5:$B$14=H$3)),\"\")","v":0},{"$f":"IF($B$4<>\"\",SUMPRODUCT(1*(ORARIO!$C$5:$G$14=$B74)*(ORARIO!$B$5:$B$14=I$3)),\"\")","v":0},{"$f":"IF($B$4<>\"\",SUMPRODUCT(1*(ORARIO!$C$5:$G$14=$B74)*(ORARIO!$B$5:$B$14=J$3)),\"\")","v":0},null,{"$f":"IF($B74<>\"\",SUMPRODUCT(1*(ORARIO!$H$5:$L$14=$B74)*(ORARIO!$B$5:$B$14=L$3)),\"\")","v":0},{"$f":"IF($B74<>\"\",SUMPRODUCT(1*(ORARIO!$H$5:$L$14=$B74)*(ORARIO!$B$5:$B$14=M$3)),\"\")","v":0},{"$f":"IF($B74<>\"\",SUMPRODUCT(1*(ORARIO!$H$5:$L$14=$B74)*(ORARIO!$B$5:$B$14=N$3)),\"\")","v":0},{"$f":"IF($B74<>\"\",SUMPRODUCT(1*(ORARIO!$H$5:$L$14=$B74)*(ORARIO!$B$5:$B$14=O$3)),\"\")","v":0},{"$f":"IF($B74<>\"\",SUMPRODUCT(1*(ORARIO!$H$5:$L$14=$B74)*(ORARIO!$B$5:$B$14=P$3)),\"\")","v":0},{"$f":"IF($B74<>\"\",SUMPRODUCT(1*(ORARIO!$H$5:$L$14=$B74)*(ORARIO!$B$5:$B$14=Q$3)),\"\")","v":0},{"$f":"IF($B74<>\"\",SUMPRODUCT(1*(ORARIO!$H$5:$L$14=$B74)*(ORARIO!$B$5:$B$14=R$3)),\"\")","v":0},{"$f":"IF($B74<>\"\",SUMPRODUCT(1*(ORARIO!$H$5:$L$14=$B74)*(ORARIO!$B$5:$B$14=S$3)),\"\")","v":0},null,{"$f":"IF($B74<>\"\",SUMPRODUCT(1*(ORARIO!$M$5:$Q$14=$B74)*(ORARIO!$B$5:$B$14=U$3)),\"\")","v":0},{"$f":"IF($B74<>\"\",SUMPRODUCT(1*(ORARIO!$M$5:$Q$14=$B74)*(ORARIO!$B$5:$B$14=V$3)),\"\")","v":0},{"$f":"IF($B74<>\"\",SUMPRODUCT(1*(ORARIO!$M$5:$Q$14=$B74)*(ORARIO!$B$5:$B$14=W$3)),\"\")","v":0},{"$f":"IF($B74<>\"\",SUMPRODUCT(1*(ORARIO!$M$5:$Q$14=$B74)*(ORARIO!$B$5:$B$14=X$3)),\"\")","v":0},{"$f":"IF($B74<>\"\",SUMPRODUCT(1*(ORARIO!$M$5:$Q$14=$B74)*(ORARIO!$B$5:$B$14=Y$3)),\"\")","v":0},{"$f":"IF($B74<>\"\",SUMPRODUCT(1*(ORARIO!$M$5:$Q$14=$B74)*(ORARIO!$B$5:$B$14=Z$3)),\"\")","v":0},{"$f":"IF($B74<>\"\",SUMPRODUCT(1*(ORARIO!$M$5:$Q$14=$B74)*(ORARIO!$B$5:$B$14=AA$3)),\"\")","v":0},{"$f":"IF($B74<>\"\",SUMPRODUCT(1*(ORARIO!$M$5:$Q$14=$B74)*(ORARIO!$B$5:$B$14=AB$3)),\"\")","v":0},null,{"$f":"IF($B74<>\"\",SUMPRODUCT(1*(ORARIO!$R$5:$V$14=$B74)*(ORARIO!$B$5:$B$14=AD$3)),\"\")","v":0},{"$f":"IF($B74<>\"\",SUMPRODUCT(1*(ORARIO!$R$5:$V$14=$B74)*(ORARIO!$B$5:$B$14=AE$3)),\"\")","v":0},{"$f":"IF($B74<>\"\",SUMPRODUCT(1*(ORARIO!$R$5:$V$14=$B74)*(ORARIO!$B$5:$B$14=AF$3)),\"\")","v":0},{"$f":"IF($B74<>\"\",SUMPRODUCT(1*(ORARIO!$R$5:$V$14=$B74)*(ORARIO!$B$5:$B$14=AG$3)),\"\")","v":0},{"$f":"IF($B74<>\"\",SUMPRODUCT(1*(ORARIO!$R$5:$V$14=$B74)*(ORARIO!$B$5:$B$14=AH$3)),\"\")","v":0},{"$f":"IF($B74<>\"\",SUMPRODUCT(1*(ORARIO!$R$5:$V$14=$B74)*(ORARIO!$B$5:$B$14=AI$3)),\"\")","v":0},{"$f":"IF($B74<>\"\",SUMPRODUCT(1*(ORARIO!$R$5:$V$14=$B74)*(ORARIO!$B$5:$B$14=AJ$3)),\"\")","v":0},{"$f":"IF($B74<>\"\",SUMPRODUCT(1*(ORARIO!$R$5:$V$14=$B74)*(ORARIO!$B$5:$B$14=AK$3)),\"\")","v":0},null,{"$f":"IF($B74<>\"\",SUMPRODUCT(1*(ORARIO!$W$5:$AA$14=$B74)*(ORARIO!$B$5:$B$14=AM$3)),\"\")","v":0},{"$f":"IF($B74<>\"\",SUMPRODUCT(1*(ORARIO!$W$5:$AA$14=$B74)*(ORARIO!$B$5:$B$14=AN$3)),\"\")","v":0},{"$f":"IF($B74<>\"\",SUMPRODUCT(1*(ORARIO!$W$5:$AA$14=$B74)*(ORARIO!$B$5:$B$14=AO$3)),\"\")","v":0},{"$f":"IF($B74<>\"\",SUMPRODUCT(1*(ORARIO!$W$5:$AA$14=$B74)*(ORARIO!$B$5:$B$14=AP$3)),\"\")","v":0},{"$f":"IF($B74<>\"\",SUMPRODUCT(1*(ORARIO!$W$5:$AA$14=$B74)*(ORARIO!$B$5:$B$14=AQ$3)),\"\")","v":0},{"$f":"IF($B74<>\"\",SUMPRODUCT(1*(ORARIO!$W$5:$AA$14=$B74)*(ORARIO!$B$5:$B$14=AR$3)),\"\")","v":1},{"$f":"IF($B74<>\"\",SUMPRODUCT(1*(ORARIO!$W$5:$AA$14=$B74)*(ORARIO!$B$5:$B$14=AS$3)),\"\")","v":0},{"$f":"IF($B74<>\"\",SUMPRODUCT(1*(ORARIO!$W$5:$AA$14=$B74)*(ORARIO!$B$5:$B$14=AT$3)),\"\")","v":0}]
[null,"F sop",{"$f":"IF($B$4<>\"\",SUMPRODUCT(1*(ORARIO!$C$5:$G$14=$B75)*(ORARIO!$B$5:$B$14=C$3)),\"\")","v":0},{"$f":"IF($B$4<>\"\",SUMPRODUCT(1*(ORARIO!$C$5:$G$14=$B75)*(ORARIO!$B$5:$B$14=D$3)),\"\")","v":0},{"$f":"IF($B$4<>\"\",SUMPRODUCT(1*(ORARIO!$C$5:$G$14=$B75)*(ORARIO!$B$5:$B$14=E$3)),\"\")","v":0},{"$f":"IF($B$4<>\"\",SUMPRODUCT(1*(ORARIO!$C$5:$G$14=$B75)*(ORARIO!$B$5:$B$14=F$3)),\"\")","v":0},{"$f":"IF($B$4<>\"\",SUMPRODUCT(1*(ORARIO!$C$5:$G$14=$B75)*(ORARIO!$B$5:$B$14=G$3)),\"\")","v":0},{"$f":"IF($B$4<>\"\",SUMPRODUCT(1*(ORARIO!$C$5:$G$14=$B75)*(ORARIO!$B$5:$B$14=H$3)),\"\")","v":0},{"$f":"IF($B$4<>\"\",SUMPRODUCT(1*(ORARIO!$C$5:$G$14=$B75)*(ORARIO!$B$5:$B$14=I$3)),\"\")","v":0},{"$f":"IF($B$4<>\"\",SUMPRODUCT(1*(ORARIO!$C$5:$G$14=$B75)*(ORARIO!$B$5:$B$14=J$3)),\"\")","v":0},null,{"$f":"IF($B75<>\"\",SUMPRODUCT(1*(ORARIO!$H$5:$L$14=$B75)*(ORARIO!$B$5:$B$14=L$3)),\"\")","v":0},{"$f":"IF($B75<>\"\",SUMPRODUCT(1*(ORARIO!$H$5:$L$14=$B75)*(ORARIO!$B$5:$B$14=M$3)),\"\")","v":0},{"$f":"IF($B75<>\"\",SUMPRODUCT(1*(ORARIO!$H$5:$L$14=$B75)*(ORARIO!$B$5:$B$14=N$3)),\"\")","v":0},{"$f":"IF($B75<>\"\",SUMPRODUCT(1*(ORARIO!$H$5:$L$14=$B75)*(ORARIO!$B$5:$B$14=O$3)),\"\")","v":0},{"$f":"IF($B75<>\"\",SUMPRODUCT(1*(ORARIO!$H$5:$L$14=$B75)*(ORARIO!$B$5:$B$14=P$3)),\"\")","v":0},{"$f":"IF($B75<>\"\",SUMPRODUCT(1*(ORARIO!$H$5:$L$14=$B75)*(ORARIO!$B$5:$B$14=Q$3)),\"\")","v":0},{"$f":"IF($B75<>\"\",SUMPRODUCT(1*(ORARIO!$H$5:$L$14=$B75)*(ORARIO!$B$5:$B$14=R$3)),\"\")","v":0},{"$f":"IF($B75<>\"\",SUMPRODUCT(1*(ORARIO!$H$5:$L$14=$B75)*(ORARIO!$B$5:$B$14=S$3)),\"\")","v":0},null,{"$f":"IF($B75<>\"\",SUMPRODUCT(1*(ORARIO!$M$5:$Q$14=$B75)*(ORARIO!$B$5:$B$14=U$3)),\"\")","v":0},{"$f":"IF($B75<>\"\",SUMPRODUCT(1*(ORARIO!$M$5:$Q$14=$B75)*(ORARIO!$B$5:$B$14=V$3)),\"\")","v":0},{"$f":"IF($B75<>\"\",SUMPRODUCT(1*(ORARIO!$M$5:$Q$14=$B75)*(ORARIO!$B$5:$B$14=W$3)),\"\")","v":0},{"$f":"IF($B75<>\"\",SUMPRODUCT(1*(ORARIO!$M$5:$Q$14=$B75)*(ORARIO!$B$5:$B$14=X$3)),\"\")","v":0},{"$f":"IF($B75<>\"\",SUMPRODUCT(1*(ORARIO!$M$5:$Q$14=$B75)*(ORARIO!$B$5:$B$14=Y$3)),\"\")","v":0},{"$f":"IF($B75<>\"\",SUMPRODUCT(1*(ORARIO!$M$5:$Q$14=$B75)*(ORARIO!$B$5:$B$14=Z$3)),\"\")","v":0},{"$f":"IF($B75<>\"\",SUMPRODUCT(1*(ORARIO!$M$5:$Q$14=$B75)*(ORARIO!$B$5:$B$14=AA$3)),\"\")","v":0},{"$f":"IF($B75<>\"\",SUMPRODUCT(1*(ORARIO!$M$5:$Q$14=$B75)*(ORARIO!$B$5:$B$14=AB$3)),\"\")","v":0},null,{"$f":"IF($B75<>\"\",SUMPRODUCT(1*(ORARIO!$R$5:$V$14=$B75)*(ORARIO!$B$5:$B$14=AD$3)),\"\")","v":0},{"$f":"IF($B75<>\"\",SUMPRODUCT(1*(ORARIO!$R$5:$V$14=$B75)*(ORARIO!$B$5:$B$14=AE$3)),\"\")","v":0},{"$f":"IF($B75<>\"\",SUMPRODUCT(1*(ORARIO!$R$5:$V$14=$B75)*(ORARIO!$B$5:$B$14=AF$3)),\"\")","v":0},{"$f":"IF($B75<>\"\",SUMPRODUCT(1*(ORARIO!$R$5:$V$14=$B75)*(ORARIO!$B$5:$B$14=AG$3)),\"\")","v":0},{"$f":"IF($B75<>\"\",SUMPRODUCT(1*(ORARIO!$R$5:$V$14=$B75)*(ORARIO!$B$5:$B$14=AH$3)),\"\")","v":0},{"$f":"IF($B75<>\"\",SUMPRODUCT(1*(ORARIO!$R$5:$V$14=$B75)*(ORARIO!$B$5:$B$14=AI$3)),\"\")","v":0},{"$f":"IF($B75<>\"\",SUMPRODUCT(1*(ORARIO!$R$5:$V$14=$B75)*(ORARIO!$B$5:$B$14=AJ$3)),\"\")","v":0},{"$f":"IF($B75<>\"\",SUMPRODUCT(1*(ORARIO!$R$5:$V$14=$B75)*(ORARIO!$B$5:$B$14=AK$3)),\"\")","v":0},null,{"$f":"IF($B75<>\"\",SUMPRODUCT(1*(ORARIO!$W$5:$AA$14=$B75)*(ORARIO!$B$5:$B$14=AM$3)),\"\")","v":0},{"$f":"IF($B75<>\"\",SUMPRODUCT(1*(ORARIO!$W$5:$AA$14=$B75)*(ORARIO!$B$5:$B$14=AN$3)),\"\")","v":0},{"$f":"IF($B75<>\"\",SUMPRODUCT(1*(ORARIO!$W$5:$AA$14=$B75)*(ORARIO!$B$5:$B$14=AO$3)),\"\")","v":0},{"$f":"IF($B75<>\"\",SUMPRODUCT(1*(ORARIO!$W$5:$AA$14=$B75)*(ORARIO!$B$5:$B$14=AP$3)),\"\")","v":0},{"$f":"IF($B75<>\"\",SUMPRODUCT(1*(ORARIO!$W$5:$AA$14=$B75)*(ORARIO!$B$5:$B$14=AQ$3)),\"\")","v":0},{"$f":"IF($B75<>\"\",SUMPRODUCT(1*(ORARIO!$W$5:$AA$14=$B75)*(ORARIO!$B$5:$B$14=AR$3)),\"\")","v":0},{"$f":"IF($B75<>\"\",SUMPRODUCT(1*(ORARIO!$W$5:$AA$14=$B75)*(ORARIO!$B$5:$B$14=AS$3)),\"\")","v":0},{"$f":"IF($B75<>\"\",SUMPRODUCT(1*(ORARIO!$W$5:$AA$14=$B75)*(ORARIO!$B$5:$B$14=AT$3)),\"\")","v":0}]
[null,"G slo",{"$f":"IF($B$4<>\"\",SUMPRODUCT(1*(ORARIO!$C$5:$G$14=$B76)*(ORARIO!$B$5:$B$14=C$3)),\"\")","v":0},{"$f":"IF($B$4<>\"\",SUMPRODUCT(1*(ORARIO!$C$5:$G$14=$B76)*(ORARIO!$B$5:$B$14=D$3)),\"\")","v":0},{"$f":"IF($B$4<>\"\",SUMPRODUCT(1*(ORARIO!$C$5:$G$14=$B76)*(ORARIO!$B$5:$B$14=E$3)),\"\")","v":0},{"$f":"IF($B$4<>\"\",SUMPRODUCT(1*(ORARIO!$C$5:$G$14=$B76)*(ORARIO!$B$5:$B$14=F$3)),\"\")","v":0},{"$f":"IF($B$4<>\"\",SUMPRODUCT(1*(ORARIO!$C$5:$G$14=$B76)*(ORARIO!$B$5:$B$14=G$3)),\"\")","v":0},{"$f":"IF($B$4<>\"\",SUMPRODUCT(1*(ORARIO!$C$5:$G$14=$B76)*(ORARIO!$B$5:$B$14=H$3)),\"\")","v":0},{"$f":"IF($B$4<>\"\",SUMPRODUCT(1*(ORARIO!$C$5:$G$14=$B76)*(ORARIO!$B$5:$B$14=I$3)),\"\")","v":0},{"$f":"IF($B$4<>\"\",SUMPRODUCT(1*(ORARIO!$C$5:$G$14=$B76)*(ORARIO!$B$5:$B$14=J$3)),\"\")","v":0},null,{"$f":"IF($B76<>\"\",SUMPRODUCT(1*(ORARIO!$H$5:$L$14=$B76)*(ORARIO!$B$5:$B$14=L$3)),\"\")","v":0},{"$f":"IF($B76<>\"\",SUMPRODUCT(1*(ORARIO!$H$5:$L$14=$B76)*(ORARIO!$B$5:$B$14=M$3)),\"\")","v":0},{"$f":"IF($B76<>\"\",SUMPRODUCT(1*(ORARIO!$H$5:$L$14=$B76)*(ORARIO!$B$5:$B$14=N$3)),\"\")","v":0},{"$f":"IF($B76<>\"\",SUMPRODUCT(1*(ORARIO!$H$5:$L$14=$B76)*(ORARIO!$B$5:$B$14=O$3)),\"\")","v":0},{"$f":"IF($B76<>\"\",SUMPRODUCT(1*(ORARIO!$H$5:$L$14=$B76)*(ORARIO!$B$5:$B$14=P$3)),\"\")","v":0},{"$f":"IF($B76<>\"\",SUMPRODUCT(1*(ORARIO!$H$5:$L$14=$B76)*(ORARIO!$B$5:$B$14=Q$3)),\"\")","v":0},{"$f":"IF($B76<>\"\",SUMPRODUCT(1*(ORARIO!$H$5:$L$14=$B76)*(ORARIO!$B$5:$B$14=R$3)),\"\")","v":0},{"$f":"IF($B76<>\"\",SUMPRODUCT(1*(ORARIO!$H$5:$L$14=$B76)*(ORARIO!$B$5:$B$14=S$3)),\"\")","v":0},null,{"$f":"IF($B76<>\"\",SUMPRODUCT(1*(ORARIO!$M$5:$Q$14=$B76)*(ORARIO!$B$5:$B$14=U$3)),\"\")","v":0},{"$f":"IF($B76<>\"\",SUMPRODUCT(1*(ORARIO!$M$5:$Q$14=$B76)*(ORARIO!$B$5:$B$14=V$3)),\"\")","v":0},{"$f":"IF($B76<>\"\",SUMPRODUCT(1*(ORARIO!$M$5:$Q$14=$B76)*(ORARIO!$B$5:$B$14=W$3)),\"\")","v":0},{"$f":"IF($B76<>\"\",SUMPRODUCT(1*(ORARIO!$M$5:$Q$14=$B76)*(ORARIO!$B$5:$B$14=X$3)),\"\")","v":0},{"$f":"IF($B76<>\"\",SUMPRODUCT(1*(ORARIO!$M$5:$Q$14=$B76)*(ORARIO!$B$5:$B$14=Y$3)),\"\")","v":0},{"$f":"IF($B76<>\"\",SUMPRODUCT(1*(ORARIO!$M$5:$Q$14=$B76)*(ORARIO!$B$5:$B$14=Z$3)),\"\")","v":0},{"$f":"IF($B76<>\"\",SUMPRODUCT(1*(ORARIO!$M$5:$Q$14=$B76)*(ORARIO!$B$5:$B$14=AA$3)),\"\")","v":0},{"$f":"IF($B76<>\"\",SUMPRODUCT(1*(ORARIO!$M$5:$Q$14=$B76)*(ORARIO!$B$5:$B$14=AB$3)),\"\")","v":0},null,{"$f":"IF($B76<>\"\",SUMPRODUCT(1*(ORARIO!$R$5:$V$14=$B76)*(ORARIO!$B$5:$B$14=AD$3)),\"\")","v":0},{"$f":"IF($B76<>\"\",SUMPRODUCT(1*(ORARIO!$R$5:$V$14=$B76)*(ORARIO!$B$5:$B$14=AE$3)),\"\")","v":0},{"$f":"IF($B76<>\"\",SUMPRODUCT(1*(ORARIO!$R$5:$V$14=$B76)*(ORARIO!$B$5:$B$14=AF$3)),\"\")","v":0},{"$f":"IF($B76<>\"\",SUMPRODUCT(1*(ORARIO!$R$5:$V$14=$B76)*(ORARIO!$B$5:$B$14=AG$3)),\"\")","v":0},{"$f":"IF($B76<>\"\",SUMPRODUCT(1*(ORARIO!$R$5:$V$14=$B76)*(ORARIO!$B$5:$B$14=AH$3)),\"\")","v":0},{"$f":"IF($B76<>\"\",SUMPRODUCT(1*(ORARIO!$R$5:$V$14=$B76)*(ORARIO!$B$5:$B$14=AI$3)),\"\")","v":0},{"$f":"IF($B76<>\"\",SUMPRODUCT(1*(ORARIO!$R$5:$V$14=$B76)*(ORARIO!$B$5:$B$14=AJ$3)),\"\")","v":0},{"$f":"IF($B76<>\"\",SUMPRODUCT(1*(ORARIO!$R$5:$V$14=$B76)*(ORARIO!$B$5:$B$14=AK$3)),\"\")","v":0},null,{"$f":"IF($B76<>\"\",SUMPRODUCT(1*(ORARIO!$W$5:$AA$14=$B76)*(ORARIO!$B$5:$B$14=AM$3)),\"\")","v":0},{"$f":"IF($B76<>\"\",SUMPRODUCT(1*(ORARIO!$W$5:$AA$14=$B76)*(ORARIO!$B$5:$B$14=AN$3)),\"\")","v":0},{"$f":"IF($B76<>\"\",SUMPRODUCT(1*(ORARIO!$W$5:$AA$14=$B76)*(ORARIO!$B$5:$B$14=AO$3)),\"\")","v":0},{"$f":"IF($B76<>\"\",SUMPRODUCT(1*(ORARIO!$W$5:$AA$14=$B76)*(ORARIO!$B$5:$B$14=AP$3)),\"\")","v":0},{"$f":"IF($B76<>\"\",SUMPRODUCT(1*(ORARIO!$W$5:$AA$14=$B76)*(ORARIO!$B$5:$B$14=AQ$3)),\"\")","v":0},{"$f":"IF($B76<>\"\",SUMPRODUCT(1*(ORARIO!$W$5:$AA$14=$B76)*(ORARIO!$B$5:$B$14=AR$3)),\"\")","v":0},{"$f":"IF($B76<>\"\",SUMPRODUCT(1*(ORARIO!$W$5:$AA$14=$B76)*(ORARIO!$B$5:$B$14=AS$3)),\"\")","v":0},{"$f":"IF($B76<>\"\",SUMPRODUCT(1*(ORARIO!$W$5:$AA$14=$B76)*(ORARIO!$B$5:$B$14=AT$3)),\"\")","v":0}]
[null,"G ita",{"$f":"IF($B$4<>\"\",SUMPRODUCT(1*(ORARIO!$C$5:$G$14=$B77)*(ORARIO!$B$5:$B$14=C$3)),\"\")","v":0},{"$f":"IF($B$4<>\"\",SUMPRODUCT(1*(ORARIO!$C$5:$G$14=$B77)*(ORARIO!$B$5:$B$14=D$3)),\"\")","v":0},{"$f":"IF($B$4<>\"\",SUMPRODUCT(1*(ORARIO!$C$5:$G$14=$B77)*(ORARIO!$B$5:$B$14=E$3)),\"\")","v":0},{"$f":"IF($B$4<>\"\",SUMPRODUCT(1*(ORARIO!$C$5:$G$14=$B77)*(ORARIO!$B$5:$B$14=F$3)),\"\")","v":0},{"$f":"IF($B$4<>\"\",SUMPRODUCT(1*(ORARIO!$C$5:$G$14=$B77)*(ORARIO!$B$5:$B$14=G$3)),\"\")","v":0},{"$f":"IF($B$4<>\"\",SUMPRODUCT(1*(ORARIO!$C$5:$G$14=$B77)*(ORARIO!$B$5:$B$14=H$3)),\"\")","v":0},{"$f":"IF($B$4<>\"\",SUMPRODUCT(1*(ORARIO!$C$5:$G$14=$B77)*(ORARIO!$B$5:$B$14=I$3)),\"\")","v":0},{"$f":"IF($B$4<>\"\",SUMPRODUCT(1*(ORARIO!$C$5:$G$14=$B77)*(ORARIO!$B$5:$B$14=J$3)),\"\")","v":0},null,{"$f":"IF($B77<>\"\",SUMPRODUCT(1*(ORARIO!$H$5:$L$14=$B77)*(ORARIO!$B$5:$B$14=L$3)),\"\")","v":0},{"$f":"IF($B77<>\"\",SUMPRODUCT(1*(ORARIO!$H$5:$L$14=$B77)*(ORARIO!$B$5:$B$14=M$3)),\"\")","v":0},{"$f":"IF($B77<>\"\",SUMPRODUCT(1*(ORARIO!$H$5:$L$14=$B77)*(ORARIO!$B$5:$B$14=N$3)),\"\")","v":0},{"$f":"IF($B77<>\"\",SUMPRODUCT(1*(ORARIO!$H$5:$L$14=$B77)*(ORARIO!$B$5:$B$14=O$3)),\"\")","v":0},{"$f":"IF($B77<>\"\",SUMPRODUCT(1*(ORARIO!$H$5:$L$14=$B77)*(ORARIO!$B$5:$B$14=P$3)),\"\")","v":0},{"$f":"IF($B77<>\"\",SUMPRODUCT(1*(ORARIO!$H$5:$L$14=$B77)*(ORARIO!$B$5:$B$14=Q$3)),\"\")","v":0},{"$f":"IF($B77<>\"\",SUMPRODUCT(1*(ORARIO!$H$5:$L$14=$B77)*(ORARIO!$B$5:$B$14=R$3)),\"\")","v":0},{"$f":"IF($B77<>\"\",SUMPRODUCT(1*(ORARIO!$H$5:$L$14=$B77)*(ORARIO!$B$5:$B$14=S$3)),\"\")","v":0},null,{"$f":"IF($B77<>\"\",SUMPRODUCT(1*(ORARIO!$M$5:$Q$14=$B77)*(ORARIO!$B$5:$B$14=U$3)),\"\")","v":0},{"$f":"IF($B77<>\"\",SUMPRODUCT(1*(ORARIO!$M$5:$Q$14=$B77)*(ORARIO!$B$5:$B$14=V$3)),\"\")","v":0},{"$f":"IF($B77<>\"\",SUMPRODUCT(1*(ORARIO!$M$5:$Q$14=$B77)*(ORARIO!$B$5:$B$14=W$3)),\"\")","v":0},{"$f":"IF($B77<>\"\",SUMPRODUCT(1*(ORARIO!$M$5:$Q$14=$B77)*(ORARIO!$B$5:$B$14=X$3)),\"\")","v":0},{"$f":"IF($B77<>\"\",SUMPRODUCT(1*(ORARIO!$M$5:$Q$14=$B77)*(ORARIO!$B$5:$B$14=Y$3)),\"\")","v":0},{"$f":"IF($B77<>\"\",SUMPRODUCT(1*(ORARIO!$M$5:$Q$14=$B77)*(ORARIO!$B$5:$B$14=Z$3)),\"\")","v":0},{"$f":"IF($B77<>\"\",SUMPRODUCT(1*(ORARIO!$M$5:$Q$14=$B77)*(ORARIO!$B$5:$B$14=AA$3)),\"\")","v":0},{"$f":"IF($B77<>\"\",SUMPRODUCT(1*(ORARIO!$M$5:$Q$14=$B77)*(ORARIO!$B$5:$B$14=AB$3)),\"\")","v":0},null,{"$f":"IF($B77<>\"\",SUMPRODUCT(1*(ORARIO!$R$5:$V$14=$B77)*(ORARIO!$B$5:$B$14=AD$3)),\"\")","v":0},{"$f":"IF($B77<>\"\",SUMPRODUCT(1*(ORARIO!$R$5:$V$14=$B77)*(ORARIO!$B$5:$B$14=AE$3)),\"\")","v":0},{"$f":"IF($B77<>\"\",SUMPRODUCT(1*(ORARIO!$R$5:$V$14=$B77)*(ORARIO!$B$5:$B$14=AF$3)),\"\")","v":0},{"$f":"IF($B77<>\"\",SUMPRODUCT(1*(ORARIO!$R$5:$V$14=$B77)*(ORARIO!$B$5:$B$14=AG$3)),\"\")","v":0},{"$f":"IF($B77<>\"\",SUMPRODUCT(1*(ORARIO!$R$5:$V$14=$B77)*(ORARIO!$B$5:$B$14=AH$3)),\"\")","v":0},{"$f":"IF($B77<>\"\",SUMPRODUCT(1*(ORARIO!$R$5:$V$14=$B77)*(ORARIO!$B$5:$B$14=AI$3)),\"\")","v":0},{"$f":"IF($B77<>\"\",SUMPRODUCT(1*(ORARIO!$R$5:$V$14=$B77)*(ORARIO!$B$5:$B$14=AJ$3)),\"\")","v":0},{"$f":"IF($B77<>\"\",SUMPRODUCT(1*(ORARIO!$R$5:$V$14=$B77)*(ORARIO!$B$5:$B$14=AK$3)),\"\")","v":0},null,{"$f":"IF($B77<>\"\",SUMPRODUCT(1*(ORARIO!$W$5:$AA$14=$B77)*(ORARIO!$B$5:$B$14=AM$3)),\"\")","v":0},{"$f":"IF($B77<>\"\",SUMPRODUCT(1*(ORARIO!$W$5:$AA$14=$B77)*(ORARIO!$B$5:$B$14=AN$3)),\"\")","v":0},{"$f":"IF($B77<>\"\",SUMPRODUCT(1*(ORARIO!$W$5:$AA$14=$B77)*(ORARIO!$B$5:$B$14=AO$3)),\"\")","v":0},{"$f":"IF($B77<>\"\",SUMPRODUCT(1*(ORARIO!$W$5:$AA$14=$B77)*(ORARIO!$B$5:$B$14=AP$3)),\"\")","v":0},{"$f":"IF($B77<>\"\",SUMPRODUCT(1*(ORARIO!$W$5:$AA$14=$B77)*(ORARIO!$B$5:$B$14=AQ$3)),\"\")","v":0},{"$f":"IF($B77<>\"\",SUMPRODUCT(1*(ORARIO!$W$5:$AA$14=$B77)*(ORARIO!$B$5:$B$14=AR$3)),\"\")","v":0},{"$f":"IF($B77<>\"\",SUMPRODUCT(1*(ORARIO!$W$5:$AA$14=$B77)*(ORARIO!$B$5:$B$14=AS$3)),\"\")","v":0},{"$f":"IF($B77<>\"\",SUMPRODUCT(1*(ORARIO!$W$5:$AA$14=$B77)*(ORARIO!$B$5:$B$14=AT$3)),\"\")","v":0}]
[null,"G ang",{"$f":"IF($B$4<>\"\",SUMPRODUCT(1*(ORARIO!$C$5:$G$14=$B78)*(ORARIO!$B$5:$B$14=C$3)),\"\")","v":0},{"$f":"IF($B$4<>\"\",SUMPRODUCT(1*(ORARIO!$C$5:$G$14=$B78)*(ORARIO!$B$5:$B$14=D$3)),\"\")","v":0},{"$f":"IF($B$4<>\"\",SUMPRODUCT(1*(ORARIO!$C$5:$G$14=$B78)*(ORARIO!$B$5:$B$14=E$3)),\"\")","v":0},{"$f":"IF($B$4<>\"\",SUMPRODUCT(1*(ORARIO!$C$5:$G$14=$B78)*(ORARIO!$B$5:$B$14=F$3)),\"\")","v":0},{"$f":"IF($B$4<>\"\",SUMPRODUCT(1*(ORARIO!$C$5:$G$14=$B78)*(ORARIO!$B$5:$B$14=G$3)),\"\")","v":0},{"$f":"IF($B$4<>\"\",SUMPRODUCT(1*(ORARIO!$C$5:$G$14=$B78)*(ORARIO!$B$5:$B$14=H$3)),\"\")","v":0},{"$f":"IF($B$4<>\"\",SUMPRODUCT(1*(ORARIO!$C$5:$G$14=$B78)*(ORARIO!$B$5:$B$14=I$3)),\"\")","v":0},{"$f":"IF($B$4<>\"\",SUMPRODUCT(1*(ORARIO!$C$5:$G$14=$B78)*(ORARIO!$B$5:$B$14=J$3)),\"\")","v":0},null,{"$f":"IF($B78<>\"\",SUMPRODUCT(1*(ORARIO!$H$5:$L$14=$B78)*(ORARIO!$B$5:$B$14=L$3)),\"\")","v":0},{"$f":"IF($B78<>\"\",SUMPRODUCT(1*(ORARIO!$H$5:$L$14=$B78)*(ORARIO!$B$5:$B$14=M$3)),\"\")","v":0},{"$f":"IF($B78<>\"\",SUMPRODUCT(1*(ORARIO!$H$5:$L$14=$B78)*(ORARIO!$B$5:$B$14=N$3)),\"\")","v":0},{"$f":"IF($B78<>\"\",SUMPRODUCT(1*(ORARIO!$H$5:$L$14=$B78)*(ORARIO!$B$5:$B$14=O$3)),\"\")","v":0},{"$f":"IF($B78<>\"\",SUMPRODUCT(1*(ORARIO!$H$5:$L$14=$B78)*(ORARIO!$B$5:$B$14=P$3)),\"\")","v":0},{"$f":"IF($B78<>\"\",SUMPRODUCT(1*(ORARIO!$H$5:$L$14=$B78)*(ORARIO!$B$5:$B$14=Q$3)),\"\")","v":0},{"$f":"IF($B78<>\"\",SUMPRODUCT(1*(ORARIO!$H$5:$L$14=$B78)*(ORARIO!$B$5:$B$14=R$3)),\"\")","v":0},{"$f":"IF($B78<>\"\",SUMPRODUCT(1*(ORARIO!$H$5:$L$14=$B78)*(ORARIO!$B$5:$B$14=S$3)),\"\")","v":0},null,{"$f":"IF($B78<>\"\",SUMPRODUCT(1*(ORARIO!$M$5:$Q$14=$B78)*(ORARIO!$B$5:$B$14=U$3)),\"\")","v":0},{"$f":"IF($B78<>\"\",SUMPRODUCT(1*(ORARIO!$M$5:$Q$14=$B78)*(ORARIO!$B$5:$B$14=V$3)),\"\")","v":0},{"$f":"IF($B78<>\"\",SUMPRODUCT(1*(ORARIO!$M$5:$Q$14=$B78)*(ORARIO!$B$5:$B$14=W$3)),\"\")","v":0},{"$f":"IF($B78<>\"\",SUMPRODUCT(1*(ORARIO!$M$5:$Q$14=$B78)*(ORARIO!$B$5:$B$14=X$3)),\"\")","v":0},{"$f":"IF($B78<>\"\",SUMPRODUCT(1*(ORARIO!$M$5:$Q$14=$B78)*(ORARIO!$B$5:$B$14=Y$3)),\"\")","v":0},{"$f":"IF($B78<>\"\",SUMPRODUCT(1*(ORARIO!$M$5:$Q$14=$B78)*(ORARIO!$B$5:$B$14=Z$3)),\"\")","v":0},{"$f":"IF($B78<>\"\",SUMPRODUCT(1*(ORARIO!$M$5:$Q$14=$B78)*(ORARIO!$B$5:$B$14=AA$3)),\"\")","v":0},{"$f":"IF($B78<>\"\",SUMPRODUCT(1*(ORARIO!$M$5:$Q$14=$B78)*(ORARIO!$B$5:$B$14=AB$3)),\"\")","v":0},null,{"$f":"IF($B78<>\"\",SUMPRODUCT(1*(ORARIO!$R$5:$V$14=$B78)*(ORARIO!$B$5:$B$14=AD$3)),\"\")","v":0},{"$f":"IF($B78<>\"\",SUMPRODUCT(1*(ORARIO!$R$5:$V$14=$B78)*(ORARIO!$B$5:$B$14=AE$3)),\"\")","v":0},{"$f":"IF($B78<>\"\",SUMPRODUCT(1*(ORARIO!$R$5:$V$14=$B78)*(ORARIO!$B$5:$B$14=AF$3)),\"\")","v":0},{"$f":"IF($B78<>\"\",SUMPRODUCT(1*(ORARIO!$R$5:$V$14=$B78)*(ORARIO!$B$5:$B$14=AG$3)),\"\")","v":0},{"$f":"IF($B78<>\"\",SUMPRODUCT(1*(ORARIO!$R$5:$V$14=$B78)*(ORARIO!$B$5:$B$14=AH$3)),\"\")","v":0},{"$f":"IF($B78<>\"\",SUMPRODUCT(1*(ORARIO!$R$5:$V$14=$B78)*(ORARIO!$B$5:$B$14=AI$3)),\"\")","v":0},{"$f":"IF($B78<>\"\",SUMPRODUCT(1*(ORARIO!$R$5:$V$14=$B78)*(ORARIO!$B$5:$B$14=AJ$3)),\"\")","v":0},{"$f":"IF($B78<>\"\",SUMPRODUCT(1*(ORARIO!$R$5:$V$14=$B78)*(ORARIO!$B$5:$B$14=AK$3)),\"\")","v":0},null,{"$f":"IF($B78<>\"\",SUMPRODUCT(1*(ORARIO!$W$5:$AA$14=$B78)*(ORARIO!$B$5:$B$14=AM$3)),\"\")","v":0},{"$f":"IF($B78<>\"\",SUMPRODUCT(1*(ORARIO!$W$5:$AA$14=$B78)*(ORARIO!$B$5:$B$14=AN$3)),\"\")","v":0},{"$f":"IF($B78<>\"\",SUMPRODUCT(1*(ORARIO!$W$5:$AA$14=$B78)*(ORARIO!$B$5:$B$14=AO$3)),\"\")","v":0},{"$f":"IF($B78<>\"\",SUMPRODUCT(1*(ORARIO!$W$5:$AA$14=$B78)*(ORARIO!$B$5:$B$14=AP$3)),\"\")","v":0},{"$f":"IF($B78<>\"\",SUMPRODUCT(1*(ORARIO!$W$5:$AA$14=$B78)*(ORARIO!$B$5:$B$14=AQ$3)),\"\")","v":0},{"$f":"IF($B78<>\"\",SUMPRODUCT(1*(ORARIO!$W$5:$AA$14=$B78)*(ORARIO!$B$5:$B$14=AR$3)),\"\")","v":0},{"$f":"IF($B78<>\"\",SUMPRODUCT(1*(ORARIO!$W$5:$AA$14=$B78)*(ORARIO!$B$5:$B$14=AS$3)),\"\")","v":0},{"$f":"IF($B78<>\"\",SUMPRODUCT(1*(ORARIO!$W$5:$AA$14=$B78)*(ORARIO!$B$5:$B$14=AT$3)),\"\")","v":0}]
[null,"G mat",{"$f":"IF($B$4<>\"\",SUMPRODUCT(1*(ORARIO!$C$5:$G$14=$B79)*(ORARIO!$B$5:$B$14=C$3)),\"\")","v":0},{"$f":"IF($B$4<>\"\",SUMPRODUCT(1*(ORARIO!$C$5:$G$14=$B79)*(ORARIO!$B$5:$B$14=D$3)),\"\")","v":0},{"$f":"IF($B$4<>\"\",SUMPRODUCT(1*(ORARIO!$C$5:$G$14=$B79)*(ORARIO!$B$5:$B$14=E$3)),\"\")","v":0},{"$f":"IF($B$4<>\"\",SUMPRODUCT(1*(ORARIO!$C$5:$G$14=$B79)*(ORARIO!$B$5:$B$14=F$3)),\"\")","v":0},{"$f":"IF($B$4<>\"\",SUMPRODUCT(1*(ORARIO!$C$5:$G$14=$B79)*(ORARIO!$B$5:$B$14=G$3)),\"\")","v":0},{"$f":"IF($B$4<>\"\",SUMPRODUCT(1*(ORARIO!$C$5:$G$14=$B79)*(ORARIO!$B$5:$B$14=H$3)),\"\")","v":0},{"$f":"IF($B$4<>\"\",SUMPRODUCT(1*(ORARIO!$C$5:$G$14=$B79)*(ORARIO!$B$5:$B$14=I$3)),\"\")","v":0},{"$f":"IF($B$4<>\"\",SUMPRODUCT(1*(ORARIO!$C$5:$G$14=$B79)*(ORARIO!$B$5:$B$14=J$3)),\"\")","v":0},null,{"$f":"IF($B79<>\"\",SUMPRODUCT(1*(ORARIO!$H$5:$L$14=$B79)*(ORARIO!$B$5:$B$14=L$3)),\"\")","v":0},{"$f":"IF($B79<>\"\",SUMPRODUCT(1*(ORARIO!$H$5:$L$14=$B79)*(ORARIO!$B$5:$B$14=M$3)),\"\")","v":0},{"$f":"IF($B79<>\"\",SUMPRODUCT(1*(ORARIO!$H$5:$L$14=$B79)*(ORARIO!$B$5:$B$14=N$3)),\"\")","v":0},{"$f":"IF($B79<>\"\",SUMPRODUCT(1*(ORARIO!$H$5:$L$14=$B79)*(ORARIO!$B$5:$B$14=O$3)),\"\")","v":0},{"$f":"IF($B79<>\"\",SUMPRODUCT(1*(ORARIO!$H$5:$L$14=$B79)*(ORARIO!$B$5:$B$14=P$3)),\"\")","v":0},{"$f":"IF($B79<>\"\",SUMPRODUCT(1*(ORARIO!$H$5:$L$14=$B79)*(ORARIO!$B$5:$B$14=Q$3)),\"\")","v":0},{"$f":"IF($B79<>\"\",SUMPRODUCT(1*(ORARIO!$H$5:$L$14=$B79)*(ORARIO!$B$5:$B$14=R$3)),\"\")","v":0},{"$f":"IF($B79<>\"\",SUMPRODUCT(1*(ORARIO!$H$5:$L$14=$B79)*(ORARIO!$B$5:$B$14=S$3)),\"\")","v":0},null,{"$f":"IF($B79<>\"\",SUMPRODUCT(1*(ORARIO!$M$5:$Q$14=$B79)*(ORARIO!$B$5:$B$14=U$3)),\"\")","v":0},{"$f":"IF($B79<>\"\",SUMPRODUCT(1*(ORARIO!$M$5:$Q$14=$B79)*(ORARIO!$B$5:$B$14=V$3)),\"\")","v":0},{"$f":"IF($B79<>\"\",SUMPRODUCT(1*(ORARIO!$M$5:$Q$14=$B79)*(ORARIO!$B$5:$B$14=W$3)),\"\")","v":0},{"$f":"IF($B79<>\"\",SUMPRODUCT(1*(ORARIO!$M$5:$Q$14=$B79)*(ORARIO!$B$5:$B$14=X$3)),\"\")","v":0},{"$f":"IF($B79<>\"\",SUMPRODUCT(1*(ORARIO!$M$5:$Q$14=$B79)*(ORARIO!$B$5:$B$14=Y$3)),\"\")","v":0},{"$f":"IF($B79<>\"\",SUMPRODUCT(1*(ORARIO!$M$5:$Q$14=$B79)*(ORARIO!$B$5:$B$14=Z$3)),\"\")","v":0},{"$f":"IF($B79<>\"\",SUMPRODUCT(1*(ORARIO!$M$5:$Q$14=$B79)*(ORARIO!$B$5:$B$14=AA$3)),\"\")","v":0},{"$f":"IF($B79<>\"\",SUMPRODUCT(1*(ORARIO!$M$5:$Q$14=$B79)*(ORARIO!$B$5:$B$14=AB$3)),\"\")","v":0},null,{"$f":"IF($B79<>\"\",SUMPRODUCT(1*(ORARIO!$R$5:$V$14=$B79)*(ORARIO!$B$5:$B$14=AD$3)),\"\")","v":0},{"$f":"IF($B79<>\"\",SUMPRODUCT(1*(ORARIO!$R$5:$V$14=$B79)*(ORARIO!$B$5:$B$14=AE$3)),\"\")","v":0},{"$f":"IF($B79<>\"\",SUMPRODUCT(1*(ORARIO!$R$5:$V$14=$B79)*(ORARIO!$B$5:$B$14=AF$3)),\"\")","v":0},{"$f":"IF($B79<>\"\",SUMPRODUCT(1*(ORARIO!$R$5:$V$14=$B79)*(ORARIO!$B$5:$B$14=AG$3)),\"\")","v":0},{"$f":"IF($B79<>\"\",SUMPRODUCT(1*(ORARIO!$R$5:$V$14=$B79)*(ORARIO!$B$5:$B$14=AH$3)),\"\")","v":0},{"$f":"IF($B79<>\"\",SUMPRODUCT(1*(ORARIO!$R$5:$V$14=$B79)*(ORARIO!$B$5:$B$14=AI$3)),\"\")","v":0},{"$f":"IF($B79<>\"\",SUMPRODUCT(1*(ORARIO!$R$5:$V$14=$B79)*(ORARIO!$B$5:$B$14=AJ$3)),\"\")","v":0},{"$f":"IF($B79<>\"\",SUMPRODUCT(1*(ORARIO!$R$5:$V$14=$B79)*(ORARIO!$B$5:$B$14=AK$3)),\"\")","v":0},null,{"$f":"IF($B79<>\"\",SUMPRODUCT(1*(ORARIO!$W$5:$AA$14=$B79)*(ORARIO!$B$5:$B$14=AM$3)),\"\")","v":0},{"$f":"IF($B79<>\"\",SUMPRODUCT(1*(ORARIO!$W$5:$AA$14=$B79)*(ORARIO!$B$5:$B$14=AN$3)),\"\")","v":0},{"$f":"IF($B79<>\"\",SUMPRODUCT(1*(ORARIO!$W$5:$AA$14=$B79)*(ORARIO!$B$5:$B$14=AO$3)),\"\")","v":0},{"$f":"IF($B79<>\"\",SUMPRODUCT(1*(ORARIO!$W$5:$AA$14=$B79)*(ORARIO!$B$5:$B$14=AP$3)),\"\")","v":0},{"$f":"IF($B79<>\"\",SUMPRODUCT(1*(ORARIO!$W$5:$AA$14=$B79)*(ORARIO!$B$5:$B$14=AQ$3)),\"\")","v":0},{"$f":"IF($B79<>\"\",SUMPRODUCT(1*(ORARIO!$W$5:$AA$14=$B79)*(ORARIO!$B$5:$B$14=AR$3)),\"\")","v":0},{"$f":"IF($B79<>\"\",SUMPRODUCT(1*(ORARIO!$W$5:$AA$14=$B79)*(ORARIO!$B$5:$B$14=AS$3)),\"\")","v":0},{"$f":"IF($B79<>\"\",SUMPRODUCT(1*(ORARIO!$W$5:$AA$14=$B79)*(ORARIO!$B$5:$B$14=AT$3)),\"\")","v":0}]
[null,"G nar",{"$f":"IF($B$4<>\"\",SUMPRODUCT(1*(ORARIO!$C$5:$G$14=$B80)*(ORARIO!$B$5:$B$14=C$3)),\"\")","v":0},{"$f":"IF($B$4<>\"\",SUMPRODUCT(1*(ORARIO!$C$5:$G$14=$B80)*(ORARIO!$B$5:$B$14=D$3)),\"\")","v":0},{"$f":"IF($B$4<>\"\",SUMPRODUCT(1*(ORARIO!$C$5:$G$14=$B80)*(ORARIO!$B$5:$B$14=E$3)),\"\")","v":0},{"$f":"IF($B$4<>\"\",SUMPRODUCT(1*(ORARIO!$C$5:$G$14=$B80)*(ORARIO!$B$5:$B$14=F$3)),\"\")","v":0},{"$f":"IF($B$4<>\"\",SUMPRODUCT(1*(ORARIO!$C$5:$G$14=$B80)*(ORARIO!$B$5:$B$14=G$3)),\"\")","v":0},{"$f":"IF($B$4<>\"\",SUMPRODUCT(1*(ORARIO!$C$5:$G$14=$B80)*(ORARIO!$B$5:$B$14=H$3)),\"\")","v":0},{"$f":"IF($B$4<>\"\",SUMPRODUCT(1*(ORARIO!$C$5:$G$14=$B80)*(ORARIO!$B$5:$B$14=I$3)),\"\")","v":0},{"$f":"IF($B$4<>\"\",SUMPRODUCT(1*(ORARIO!$C$5:$G$14=$B80)*(ORARIO!$B$5:$B$14=J$3)),\"\")","v":0},null,{"$f":"IF($B80<>\"\",SUMPRODUCT(1*(ORARIO!$H$5:$L$14=$B80)*(ORARIO!$B$5:$B$14=L$3)),\"\")","v":0},{"$f":"IF($B80<>\"\",SUMPRODUCT(1*(ORARIO!$H$5:$L$14=$B80)*(ORARIO!$B$5:$B$14=M$3)),\"\")","v":0},{"$f":"IF($B80<>\"\",SUMPRODUCT(1*(ORARIO!$H$5:$L$14=$B80)*(ORARIO!$B$5:$B$14=N$3)),\"\")","v":0},{"$f":"IF($B80<>\"\",SUMPRODUCT(1*(ORARIO!$H$5:$L$14=$B80)*(ORARIO!$B$5:$B$14=O$3)),\"\")","v":0},{"$f":"IF($B80<>\"\",SUMPRODUCT(1*(ORARIO!$H$5:$L$14=$B80)*(ORARIO!$B$5:$B$14=P$3)),\"\")","v":0},{"$f":"IF($B80<>\"\",SUMPRODUCT(1*(ORARIO!$H$5:$L$14=$B80)*(ORARIO!$B$5:$B$14=Q$3)),\"\")","v":0},{"$f":"IF($B80<>\"\",SUMPRODUCT(1*(ORARIO!$H$5:$L$14=$B80)*(ORARIO!$B$5:$B$14=R$3)),\"\")","v":0},{"$f":"IF($B80<>\"\",SUMPRODUCT(1*(ORARIO!$H$5:$L$14=$B80)*(ORARIO!$B$5:$B$14=S$3)),\"\")","v":0},null,{"$f":"IF($B80<>\"\",SUMPRODUCT(1*(ORARIO!$M$5:$Q$14=$B80)*(ORARIO!$B$5:$B$14=U$3)),\"\")","v":0},{"$f":"IF($B80<>\"\",SUMPRODUCT(1*(ORARIO!$M$5:$Q$14=$B80)*(ORARIO!$B$5:$B$14=V$3)),\"\")","v":0},{"$f":"IF($B80<>\"\",SUMPRODUCT(1*(ORARIO!$M$5:$Q$14=$B80)*(ORARIO!$B$5:$B$14=W$3)),\"\")","v":0},{"$f":"IF($B80<>\"\",SUMPRODUCT(1*(ORARIO!$M$5:$Q$14=$B80)*(ORARIO!$B$5:$B$14=X$3)),\"\")","v":0},{"$f":"IF($B80<>\"\",SUMPRODUCT(1*(ORARIO!$M$5:$Q$14=$B80)*(ORARIO!$B$5:$B$14=Y$3)),\"\")","v":0},{"$f":"IF($B80<>\"\",SUMPRODUCT(1*(ORARIO!$M$5:$Q$14=$B80)*(ORARIO!$B$5:$B$14=Z$3)),\"\")","v":0},{"$f":"IF($B80<>\"\",SUMPRODUCT(1*(ORARIO!$M$5:$Q$14=$B80)*(ORARIO!$B$5:$B$14=AA$3)),\"\")","v":0},{"$f":"IF($B80<>\"\",SUMPRODUCT(1*(ORARIO!$M$5:$Q$14=$B80)*(ORARIO!$B$5:$B$14=AB$3)),\"\")","v":0},null,{"$f":"IF($B80<>\"\",SUMPRODUCT(1*(ORARIO!$R$5:$V$14=$B80)*(ORARIO!$B$5:$B$14=AD$3)),\"\")","v":0},{"$f":"IF($B80<>\"\",SUMPRODUCT(1*(ORARIO!$R$5:$V$14=$B80)*(ORARIO!$B$5:$B$14=AE$3)),\"\")","v":0},{"$f":"IF($B80<>\"\",SUMPRODUCT(1*(ORARIO!$R$5:$V$14=$B80)*(ORARIO!$B$5:$B$14=AF$3)),\"\")","v":0},{"$f":"IF($B80<>\"\",SUMPRODUCT(1*(ORARIO!$R$5:$V$14=$B80)*(ORARIO!$B$5:$B$14=AG$3)),\"\")","v":0},{"$f":"IF($B80<>\"\",SUMPRODUCT(1*(ORARIO!$R$5:$V$14=$B80)*(ORARIO!$B$5:$B$14=AH$3)),\"\")","v":0},{"$f":"IF($B80<>\"\",SUMPRODUCT(1*(ORARIO!$R$5:$V$14=$B80)*(ORARIO!$B$5:$B$14=AI$3)),\"\")","v":0},{"$f":"IF($B80<>\"\",SUMPRODUCT(1*(ORARIO!$R$5:$V$14=$B80)*(ORARIO!$B$5:$B$14=AJ$3)),\"\")","v":0},{"$f":"IF($B80<>\"\",SUMPRODUCT(1*(ORARIO!$R$5:$V$14=$B80)*(ORARIO!$B$5:$B$14=AK$3)),\"\")","v":0},null,{"$f":"IF($B80<>\"\",SUMPRODUCT(1*(ORARIO!$W$5:$AA$14=$B80)*(ORARIO!$B$5:$B$14=AM$3)),\"\")","v":0},{"$f":"IF($B80<>\"\",SUMPRODUCT(1*(ORARIO!$W$5:$AA$14=$B80)*(ORARIO!$B$5:$B$14=AN$3)),\"\")","v":0},{"$f":"IF($B80<>\"\",SUMPRODUCT(1*(ORARIO!$W$5:$AA$14=$B80)*(ORARIO!$B$5:$B$14=AO$3)),\"\")","v":0},{"$f":"IF($B80<>\"\",SUMPRODUCT(1*(ORARIO!$W$5:$AA$14=$B80)*(ORARIO!$B$5:$B$14=AP$3)),\"\")","v":0},{"$f":"IF($B80<>\"\",SUMPRODUCT(1*(ORARIO!$W$5:$AA$14=$B80)*(ORARIO!$B$5:$B$14=AQ$3)),\"\")","v":0},{"$f":"IF($B80<>\"\",SUMPRODUCT(1*(ORARIO!$W$5:$AA$14=$B80)*(ORARIO!$B$5:$B$14=AR$3)),\"\")","v":0},{"$f":"IF($B80<>\"\",SUMPRODUCT(1*(ORARIO!$W$5:$AA$14=$B80)*(ORARIO!$B$5:$B$14=AS$3)),\"\")","v":0},{"$f":"IF($B80<>\"\",SUMPRODUCT(1*(ORARIO!$W$5:$AA$14=$B80)*(ORARIO!$B$5:$B$14=AT$3)),\"\")","v":0}]
[null,"G zgo",{"$f":"IF($B$4<>\"\",SUMPRODUCT(1*(ORARIO!$C$5:$G$14=$B81)*(ORARIO!$B$5:$B$14=C$3)),\"\")","v":0},{"$f":"IF($B$4<>\"\",SUMPRODUCT(1*(ORARIO!$C$5:$G$14=$B81)*(ORARIO!$B$5:$B$14=D$3)),\"\")","v":0},{"$f":"IF($B$4<>\"\",SUMPRODUCT(1*(ORARIO!$C$5:$G$14=$B81)*(ORARIO!$B$5:$B$14=E$3)),\"\")","v":0},{"$f":"IF($B$4<>\"\",SUMPRODUCT(1*(ORARIO!$C$5:$G$14=$B81)*(ORARIO!$B$5:$B$14=F$3)),\"\")","v":0},{"$f":"IF($B$4<>\"\",SUMPRODUCT(1*(ORARIO!$C$5:$G$14=$B81)*(ORARIO!$B$5:$B$14=G$3)),\"\")","v":0},{"$f":"IF($B$4<>\"\",SUMPRODUCT(1*(ORARIO!$C$5:$G$14=$B81)*(ORARIO!$B$5:$B$14=H$3)),\"\")","v":0},{"$f":"IF($B$4<>\"\",SUMPRODUCT(1*(ORARIO!$C$5:$G$14=$B81)*(ORARIO!$B$5:$B$14=I$3)),\"\")","v":0},{"$f":"IF($B$4<>\"\",SUMPRODUCT(1*(ORARIO!$C$5:$G$14=$B81)*(ORARIO!$B$5:$B$14=J$3)),\"\")","v":0},null,{"$f":"IF($B81<>\"\",SUMPRODUCT(1*(ORARIO!$H$5:$L$14=$B81)*(ORARIO!$B$5:$B$14=L$3)),\"\")","v":0},{"$f":"IF($B81<>\"\",SUMPRODUCT(1*(ORARIO!$H$5:$L$14=$B81)*(ORARIO!$B$5:$B$14=M$3)),\"\")","v":0},{"$f":"IF($B81<>\"\",SUMPRODUCT(1*(ORARIO!$H$5:$L$14=$B81)*(ORARIO!$B$5:$B$14=N$3)),\"\")","v":0},{"$f":"IF($B81<>\"\",SUMPRODUCT(1*(ORARIO!$H$5:$L$14=$B81)*(ORARIO!$B$5:$B$14=O$3)),\"\")","v":0},{"$f":"IF($B81<>\"\",SUMPRODUCT(1*(ORARIO!$H$5:$L$14=$B81)*(ORARIO!$B$5:$B$14=P$3)),\"\")","v":0},{"$f":"IF($B81<>\"\",SUMPRODUCT(1*(ORARIO!$H$5:$L$14=$B81)*(ORARIO!$B$5:$B$14=Q$3)),\"\")","v":0},{"$f":"IF($B81<>\"\",SUMPRODUCT(1*(ORARIO!$H$5:$L$14=$B81)*(ORARIO!$B$5:$B$14=R$3)),\"\")","v":0},{"$f":"IF($B81<>\"\",SUMPRODUCT(1*(ORARIO!$H$5:$L$14=$B81)*(ORARIO!$B$5:$B$14=S$3)),\"\")","v":0},null,{"$f":"IF($B81<>\"\",SUMPRODUCT(1*(ORARIO!$M$5:$Q$14=$B81)*(ORARIO!$B$5:$B$14=U$3)),\"\")","v":0},{"$f":"IF($B81<>\"\",SUMPRODUCT(1*(ORARIO!$M$5:$Q$14=$B81)*(ORARIO!$B$5:$B$14=V$3)),\"\")","v":0},{"$f":"IF($B81<>\"\",SUMPRODUCT(1*(ORARIO!$M$5:$Q$14=$B81)*(ORARIO!$B$5:$B$14=W$3)),\"\")","v":0},{"$f":"IF($B81<>\"\",SUMPRODUCT(1*(ORARIO!$M$5:$Q$14=$B81)*(ORARIO!$B$5:$B$14=X$3)),\"\")","v":0},{"$f":"IF($B81<>\"\",SUMPRODUCT(1*(ORARIO!$M$5:$Q$14=$B81)*(ORARIO!$B$5:$B$14=Y$3)),\"\")","v":0},{"$f":"IF($B81<>\"\",SUMPRODUCT(1*(ORARIO!$M$5:$Q$14=$B81)*(ORARIO!$B$5:$B$14=Z$3)),\"\")","v":0},{"$f":"IF($B81<>\"\",SUMPRODUCT(1*(ORARIO!$M$5:$Q$14=$B81)*(ORARIO!$B$5:$B$14=AA$3)),\"\")","v":0},{"$f":"IF($B81<>\"\",SUMPRODUCT(1*(ORARIO!$M$5:$Q$14=$B81)*(ORARIO!$B$5:$B$14=AB$3)),\"\")","v":0},null,{"$f":"IF($B81<>\"\",SUMPRODUCT(1*(ORARIO!$R$5:$V$14=$B81)*(ORARIO!$B$5:$B$14=AD$3)),\"\")","v":0},{"$f":"IF($B81<>\"\",SUMPRODUCT(1*(ORARIO!$R$5:$V$14=$B81)*(ORARIO!$B$5:$B$14=AE$3)),\"\")","v":0},{"$f":"IF($B81<>\"\",SUMPRODUCT(1*(ORARIO!$R$5:$V$14=$B81)*(ORARIO!$B$5:$B$14=AF$3)),\"\")","v":0},{"$f":"IF($B81<>\"\",SUMPRODUCT(1*(ORARIO!$R$5:$V$14=$B81)*(ORARIO!$B$5:$B$14=AG$3)),\"\")","v":0},{"$f":"IF($B81<>\"\",SUMPRODUCT(1*(ORARIO!$R$5:$V$14=$B81)*(ORARIO!$B$5:$B$14=AH$3)),\"\")","v":0},{"$f":"IF($B81<>\"\",SUMPRODUCT(1*(ORARIO!$R$5:$V$14=$B81)*(ORARIO!$B$5:$B$14=AI$3)),\"\")","v":0},{"$f":"IF($B81<>\"\",SUMPRODUCT(1*(ORARIO!$R$5:$V$14=$B81)*(ORARIO!$B$5:$B$14=AJ$3)),\"\")","v":0},{"$f":"IF($B81<>\"\",SUMPRODUCT(1*(ORARIO!$R$5:$V$14=$B81)*(ORARIO!$B$5:$B$14=AK$3)),\"\")","v":0},null,{"$f":"IF($B81<>\"\",SUMPRODUCT(1*(ORARIO!$W$5:$AA$14=$B81)*(ORARIO!$B$5:$B$14=AM$3)),\"\")","v":0},{"$f":"IF($B81<>\"\",SUMPRODUCT(1*(ORARIO!$W$5:$AA$14=$B81)*(ORARIO!$B$5:$B$14=AN$3)),\"\")","v":0},{"$f":"IF($B81<>\"\",SUMPRODUCT(1*(ORARIO!$W$5:$AA$14=$B81)*(ORARIO!$B$5:$B$14=AO$3)),\"\")","v":0},{"$f":"IF($B81<>\"\",SUMPRODUCT(1*(ORARIO!$W$5:$AA$14=$B81)*(ORARIO!$B$5:$B$14=AP$3)),\"\")","v":0},{"$f":"IF($B81<>\"\",SUMPRODUCT(1*(ORARIO!$W$5:$AA$14=$B81)*(ORARIO!$B$5:$B$14=AQ$3)),\"\")","v":0},{"$f":"IF($B81<>\"\",SUMPRODUCT(1*(ORARIO!$W$5:$AA$14=$B81)*(ORARIO!$B$5:$B$14=AR$3)),\"\")","v":0},{"$f":"IF($B81<>\"\",SUMPRODUCT(1*(ORARIO!$W$5:$AA$14=$B81)*(ORARIO!$B$5:$B$14=AS$3)),\"\")","v":0},{"$f":"IF($B81<>\"\",SUMPRODUCT(1*(ORARIO!$W$5:$AA$14=$B81)*(ORARIO!$B$5:$B$14=AT$3)),\"\")","v":0}]
[null,"G geo",{"$f":"IF($B$4<>\"\",SUMPRODUCT(1*(ORARIO!$C$5:$G$14=$B82)*(ORARIO!$B$5:$B$14=C$3)),\"\")","v":0},{"$f":"IF($B$4<>\"\",SUMPRODUCT(1*(ORARIO!$C$5:$G$14=$B82)*(ORARIO!$B$5:$B$14=D$3)),\"\")","v":0},{"$f":"IF($B$4<>\"\",SUMPRODUCT(1*(ORARIO!$C$5:$G$14=$B82)*(ORARIO!$B$5:$B$14=E$3)),\"\")","v":0},{"$f":"IF($B$4<>\"\",SUMPRODUCT(1*(ORARIO!$C$5:$G$14=$B82)*(ORARIO!$B$5:$B$14=F$3)),\"\")","v":0},{"$f":"IF($B$4<>\"\",SUMPRODUCT(1*(ORARIO!$C$5:$G$14=$B82)*(ORARIO!$B$5:$B$14=G$3)),\"\")","v":0},{"$f":"IF($B$4<>\"\",SUMPRODUCT(1*(ORARIO!$C$5:$G$14=$B82)*(ORARIO!$B$5:$B$14=H$3)),\"\")","v":0},{"$f":"IF($B$4<>\"\",SUMPRODUCT(1*(ORARIO!$C$5:$G$14=$B82)*(ORARIO!$B$5:$B$14=I$3)),\"\")","v":0},{"$f":"IF($B$4<>\"\",SUMPRODUCT(1*(ORARIO!$C$5:$G$14=$B82)*(ORARIO!$B$5:$B$14=J$3)),\"\")","v":0},null,{"$f":"IF($B82<>\"\",SUMPRODUCT(1*(ORARIO!$H$5:$L$14=$B82)*(ORARIO!$B$5:$B$14=L$3)),\"\")","v":0},{"$f":"IF($B82<>\"\",SUMPRODUCT(1*(ORARIO!$H$5:$L$14=$B82)*(ORARIO!$B$5:$B$14=M$3)),\"\")","v":0},{"$f":"IF($B82<>\"\",SUMPRODUCT(1*(ORARIO!$H$5:$L$14=$B82)*(ORARIO!$B$5:$B$14=N$3)),\"\")","v":0},{"$f":"IF($B82<>\"\",SUMPRODUCT(1*(ORARIO!$H$5:$L$14=$B82)*(ORARIO!$B$5:$B$14=O$3)),\"\")","v":0},{"$f":"IF($B82<>\"\",SUMPRODUCT(1*(ORARIO!$H$5:$L$14=$B82)*(ORARIO!$B$5:$B$14=P$3)),\"\")","v":0},{"$f":"IF($B82<>\"\",SUMPRODUCT(1*(ORARIO!$H$5:$L$14=$B82)*(ORARIO!$B$5:$B$14=Q$3)),\"\")","v":0},{"$f":"IF($B82<>\"\",SUMPRODUCT(1*(ORARIO!$H$5:$L$14=$B82)*(ORARIO!$B$5:$B$14=R$3)),\"\")","v":0},{"$f":"IF($B82<>\"\",SUMPRODUCT(1*(ORARIO!$H$5:$L$14=$B82)*(ORARIO!$B$5:$B$14=S$3)),\"\")","v":0},null,{"$f":"IF($B82<>\"\",SUMPRODUCT(1*(ORARIO!$M$5:$Q$14=$B82)*(ORARIO!$B$5:$B$14=U$3)),\"\")","v":0},{"$f":"IF($B82<>\"\",SUMPRODUCT(1*(ORARIO!$M$5:$Q$14=$B82)*(ORARIO!$B$5:$B$14=V$3)),\"\")","v":0},{"$f":"IF($B82<>\"\",SUMPRODUCT(1*(ORARIO!$M$5:$Q$14=$B82)*(ORARIO!$B$5:$B$14=W$3)),\"\")","v":0},{"$f":"IF($B82<>\"\",SUMPRODUCT(1*(ORARIO!$M$5:$Q$14=$B82)*(ORARIO!$B$5:$B$14=X$3)),\"\")","v":0},{"$f":"IF($B82<>\"\",SUMPRODUCT(1*(ORARIO!$M$5:$Q$14=$B82)*(ORARIO!$B$5:$B$14=Y$3)),\"\")","v":0},{"$f":"IF($B82<>\"\",SUMPRODUCT(1*(ORARIO!$M$5:$Q$14=$B82)*(ORARIO!$B$5:$B$14=Z$3)),\"\")","v":0},{"$f":"IF($B82<>\"\",SUMPRODUCT(1*(ORARIO!$M$5:$Q$14=$B82)*(ORARIO!$B$5:$B$14=AA$3)),\"\")","v":0},{"$f":"IF($B82<>\"\",SUMPRODUCT(1*(ORARIO!$M$5:$Q$14=$B82)*(ORARIO!$B$5:$B$14=AB$3)),\"\")","v":0},null,{"$f":"IF($B82<>\"\",SUMPRODUCT(1*(ORARIO!$R$5:$V$14=$B82)*(ORARIO!$B$5:$B$14=AD$3)),\"\")","v":0},{"$f":"IF($B82<>\"\",SUMPRODUCT(1*(ORARIO!$R$5:$V$14=$B82)*(ORARIO!$B$5:$B$14=AE$3)),\"\")","v":0},{"$f":"IF($B82<>\"\",SUMPRODUCT(1*(ORARIO!$R$5:$V$14=$B82)*(ORARIO!$B$5:$B$14=AF$3)),\"\")","v":0},{"$f":"IF($B82<>\"\",SUMPRODUCT(1*(ORARIO!$R$5:$V$14=$B82)*(ORARIO!$B$5:$B$14=AG$3)),\"\")","v":0},{"$f":"IF($B82<>\"\",SUMPRODUCT(1*(ORARIO!$R$5:$V$14=$B82)*(ORARIO!$B$5:$B$14=AH$3)),\"\")","v":0},{"$f":"IF($B82<>\"\",SUMPRODUCT(1*(ORARIO!$R$5:$V$14=$B82)*(ORARIO!$B$5:$B$14=AI$3)),\"\")","v":0},{"$f":"IF($B82<>\"\",SUMPRODUCT(1*(ORARIO!$R$5:$V$14=$B82)*(ORARIO!$B$5:$B$14=AJ$3)),\"\")","v":0},{"$f":"IF($B82<>\"\",SUMPRODUCT(1*(ORARIO!$R$5:$V$14=$B82)*(ORARIO!$B$5:$B$14=AK$3)),\"\")","v":0},null,{"$f":"IF($B82<>\"\",SUMPRODUCT(1*(ORARIO!$W$5:$AA$14=$B82)*(ORARIO!$B$5:$B$14=AM$3)),\"\")","v":0},{"$f":"IF($B82<>\"\",SUMPRODUCT(1*(ORARIO!$W$5:$AA$14=$B82)*(ORARIO!$B$5:$B$14=AN$3)),\"\")","v":0},{"$f":"IF($B82<>\"\",SUMPRODUCT(1*(ORARIO!$W$5:$AA$14=$B82)*(ORARIO!$B$5:$B$14=AO$3)),\"\")","v":0},{"$f":"IF($B82<>\"\",SUMPRODUCT(1*(ORARIO!$W$5:$AA$14=$B82)*(ORARIO!$B$5:$B$14=AP$3)),\"\")","v":0},{"$f":"IF($B82<>\"\",SUMPRODUCT(1*(ORARIO!$W$5:$AA$14=$B82)*(ORARIO!$B$5:$B$14=AQ$3)),\"\")","v":0},{"$f":"IF($B82<>\"\",SUMPRODUCT(1*(ORARIO!$W$5:$AA$14=$B82)*(ORARIO!$B$5:$B$14=AR$3)),\"\")","v":0},{"$f":"IF($B82<>\"\",SUMPRODUCT(1*(ORARIO!$W$5:$AA$14=$B82)*(ORARIO!$B$5:$B$14=AS$3)),\"\")","v":0},{"$f":"IF($B82<>\"\",SUMPRODUCT(1*(ORARIO!$W$5:$AA$14=$B82)*(ORARIO!$B$5:$B$14=AT$3)),\"\")","v":0}]
[null,"G lik",{"$f":"IF($B$4<>\"\",SUMPRODUCT(1*(ORARIO!$C$5:$G$14=$B83)*(ORARIO!$B$5:$B$14=C$3)),\"\")","v":0},{"$f":"IF($B$4<>\"\",SUMPRODUCT(1*(ORARIO!$C$5:$G$14=$B83)*(ORARIO!$B$5:$B$14=D$3)),\"\")","v":0},{"$f":"IF($B$4<>\"\",SUMPRODUCT(1*(ORARIO!$C$5:$G$14=$B83)*(ORARIO!$B$5:$B$14=E$3)),\"\")","v":0},{"$f":"IF($B$4<>\"\",SUMPRODUCT(1*(ORARIO!$C$5:$G$14=$B83)*(ORARIO!$B$5:$B$14=F$3)),\"\")","v":0},{"$f":"IF($B$4<>\"\",SUMPRODUCT(1*(ORARIO!$C$5:$G$14=$B83)*(ORARIO!$B$5:$B$14=G$3)),\"\")","v":0},{"$f":"IF($B$4<>\"\",SUMPRODUCT(1*(ORARIO!$C$5:$G$14=$B83)*(ORARIO!$B$5:$B$14=H$3)),\"\")","v":0},{"$f":"IF($B$4<>\"\",SUMPRODUCT(1*(ORARIO!$C$5:$G$14=$B83)*(ORARIO!$B$5:$B$14=I$3)),\"\")","v":0},{"$f":"IF($B$4<>\"\",SUMPRODUCT(1*(ORARIO!$C$5:$G$14=$B83)*(ORARIO!$B$5:$B$14=J$3)),\"\")","v":0},null,{"$f":"IF($B83<>\"\",SUMPRODUCT(1*(ORARIO!$H$5:$L$14=$B83)*(ORARIO!$B$5:$B$14=L$3)),\"\")","v":0},{"$f":"IF($B83<>\"\",SUMPRODUCT(1*(ORARIO!$H$5:$L$14=$B83)*(ORARIO!$B$5:$B$14=M$3)),\"\")","v":0},{"$f":"IF($B83<>\"\",SUMPRODUCT(1*(ORARIO!$H$5:$L$14=$B83)*(ORARIO!$B$5:$B$14=N$3)),\"\")","v":0},{"$f":"IF($B83<>\"\",SUMPRODUCT(1*(ORARIO!$H$5:$L$14=$B83)*(ORARIO!$B$5:$B$14=O$3)),\"\")","v":0},{"$f":"IF($B83<>\"\",SUMPRODUCT(1*(ORARIO!$H$5:$L$14=$B83)*(ORARIO!$B$5:$B$14=P$3)),\"\")","v":0},{"$f":"IF($B83<>\"\",SUMPRODUCT(1*(ORARIO!$H$5:$L$14=$B83)*(ORARIO!$B$5:$B$14=Q$3)),\"\")","v":0},{"$f":"IF($B83<>\"\",SUMPRODUCT(1*(ORARIO!$H$5:$L$14=$B83)*(ORARIO!$B$5:$B$14=R$3)),\"\")","v":0},{"$f":"IF($B83<>\"\",SUMPRODUCT(1*(ORARIO!$H$5:$L$14=$B83)*(ORARIO!$B$5:$B$14=S$3)),\"\")","v":0},null,{"$f":"IF($B83<>\"\",SUMPRODUCT(1*(ORARIO!$M$5:$Q$14=$B83)*(ORARIO!$B$5:$B$14=U$3)),\"\")","v":0},{"$f":"IF($B83<>\"\",SUMPRODUCT(1*(ORARIO!$M$5:$Q$14=$B83)*(ORARIO!$B$5:$B$14=V$3)),\"\")","v":0},{"$f":"IF($B83<>\"\",SUMPRODUCT(1*(ORARIO!$M$5:$Q$14=$B83)*(ORARIO!$B$5:$B$14=W$3)),\"\")","v":0},{"$f":"IF($B83<>\"\",SUMPRODUCT(1*(ORARIO!$M$5:$Q$14=$B83)*(ORARIO!$B$5:$B$14=X$3)),\"\")","v":0},{"$f":"IF($B83<>\"\",SUMPRODUCT(1*(ORARIO!$M$5:$Q$14=$B83)*(ORARIO!$B$5:$B$14=Y$3)),\"\")","v":0},{"$f":"IF($B83<>\"\",SUMPRODUCT(1*(ORARIO!$M$5:$Q$14=$B83)*(ORARIO!$B$5:$B$14=Z$3)),\"\")","v":0},{"$f":"IF($B83<>\"\",SUMPRODUCT(1*(ORARIO!$M$5:$Q$14=$B83)*(ORARIO!$B$5:$B$14=AA$3)),\"\")","v":0},{"$f":"IF($B83<>\"\",SUMPRODUCT(1*(ORARIO!$M$5:$Q$14=$B83)*(ORARIO!$B$5:$B$14=AB$3)),\"\")","v":0},null,{"$f":"IF($B83<>\"\",SUMPRODUCT(1*(ORARIO!$R$5:$V$14=$B83)*(ORARIO!$B$5:$B$14=AD$3)),\"\")","v":0},{"$f":"IF($B83<>\"\",SUMPRODUCT(1*(ORARIO!$R$5:$V$14=$B83)*(ORARIO!$B$5:$B$14=AE$3)),\"\")","v":0},{"$f":"IF($B83<>\"\",SUMPRODUCT(1*(ORARIO!$R$5:$V$14=$B83)*(ORARIO!$B$5:$B$14=AF$3)),\"\")","v":0},{"$f":"IF($B83<>\"\",SUMPRODUCT(1*(ORARIO!$R$5:$V$14=$B83)*(ORARIO!$B$5:$B$14=AG$3)),\"\")","v":0},{"$f":"IF($B83<>\"\",SUMPRODUCT(1*(ORARIO!$R$5:$V$14=$B83)*(ORARIO!$B$5:$B$14=AH$3)),\"\")","v":0},{"$f":"IF($B83<>\"\",SUMPRODUCT(1*(ORARIO!$R$5:$V$14=$B83)*(ORARIO!$B$5:$B$14=AI$3)),\"\")","v":0},{"$f":"IF($B83<>\"\",SUMPRODUCT(1*(ORARIO!$R$5:$V$14=$B83)*(ORARIO!$B$5:$B$14=AJ$3)),\"\")","v":0},{"$f":"IF($B83<>\"\",SUMPRODUCT(1*(ORARIO!$R$5:$V$14=$B83)*(ORARIO!$B$5:$B$14=AK$3)),\"\")","v":0},null,{"$f":"IF($B83<>\"\",SUMPRODUCT(1*(ORARIO!$W$5:$AA$14=$B83)*(ORARIO!$B$5:$B$14=AM$3)),\"\")","v":0},{"$f":"IF($B83<>\"\",SUMPRODUCT(1*(ORARIO!$W$5:$AA$14=$B83)*(ORARIO!$B$5:$B$14=AN$3)),\"\")","v":0},{"$f":"IF($B83<>\"\",SUMPRODUCT(1*(ORARIO!$W$5:$AA$14=$B83)*(ORARIO!$B$5:$B$14=AO$3)),\"\")","v":0},{"$f":"IF($B83<>\"\",SUMPRODUCT(1*(ORARIO!$W$5:$AA$14=$B83)*(ORARIO!$B$5:$B$14=AP$3)),\"\")","v":0},{"$f":"IF($B83<>\"\",SUMPRODUCT(1*(ORARIO!$W$5:$AA$14=$B83)*(ORARIO!$B$5:$B$14=AQ$3)),\"\")","v":0},{"$f":"IF($B83<>\"\",SUMPRODUCT(1*(ORARIO!$W$5:$AA$14=$B83)*(ORARIO!$B$5:$B$14=AR$3)),\"\")","v":0},{"$f":"IF($B83<>\"\",SUMPRODUCT(1*(ORARIO!$W$5:$AA$14=$B83)*(ORARIO!$B$5:$B$14=AS$3)),\"\")","v":0},{"$f":"IF($B83<>\"\",SUMPRODUCT(1*(ORARIO!$W$5:$AA$14=$B83)*(ORARIO!$B$5:$B$14=AT$3)),\"\")","v":0}]
[null,"G gla",{"$f":"IF($B$4<>\"\",SUMPRODUCT(1*(ORARIO!$C$5:$G$14=$B84)*(ORARIO!$B$5:$B$14=C$3)),\"\")","v":0},{"$f":"IF($B$4<>\"\",SUMPRODUCT(1*(ORARIO!$C$5:$G$14=$B84)*(ORARIO!$B$5:$B$14=D$3)),\"\")","v":0},{"$f":"IF($B$4<>\"\",SUMPRODUCT(1*(ORARIO!$C$5:$G$14=$B84)*(ORARIO!$B$5:$B$14=E$3)),\"\")","v":0},{"$f":"IF($B$4<>\"\",SUMPRODUCT(1*(ORARIO!$C$5:$G$14=$B84)*(ORARIO!$B$5:$B$14=F$3)),\"\")","v":0},{"$f":"IF($B$4<>\"\",SUMPRODUCT(1*(ORARIO!$C$5:$G$14=$B84)*(ORARIO!$B$5:$B$14=G$3)),\"\")","v":0},{"$f":"IF($B$4<>\"\",SUMPRODUCT(1*(ORARIO!$C$5:$G$14=$B84)*(ORARIO!$B$5:$B$14=H$3)),\"\")","v":0},{"$f":"IF($B$4<>\"\",SUMPRODUCT(1*(ORARIO!$C$5:$G$14=$B84)*(ORARIO!$B$5:$B$14=I$3)),\"\")","v":0},{"$f":"IF($B$4<>\"\",SUMPRODUCT(1*(ORARIO!$C$5:$G$14=$B84)*(ORARIO!$B$5:$B$14=J$3)),\"\")","v":0},null,{"$f":"IF($B84<>\"\",SUMPRODUCT(1*(ORARIO!$H$5:$L$14=$B84)*(ORARIO!$B$5:$B$14=L$3)),\"\")","v":0},{"$f":"IF($B84<>\"\",SUMPRODUCT(1*(ORARIO!$H$5:$L$14=$B84)*(ORARIO!$B$5:$B$14=M$3)),\"\")","v":0},{"$f":"IF($B84<>\"\",SUMPRODUCT(1*(ORARIO!$H$5:$L$14=$B84)*(ORARIO!$B$5:$B$14=N$3)),\"\")","v":0},{"$f":"IF($B84<>\"\",SUMPRODUCT(1*(ORARIO!$H$5:$L$14=$B84)*(ORARIO!$B$5:$B$14=O$3)),\"\")","v":0},{"$f":"IF($B84<>\"\",SUMPRODUCT(1*(ORARIO!$H$5:$L$14=$B84)*(ORARIO!$B$5:$B$14=P$3)),\"\")","v":0},{"$f":"IF($B84<>\"\",SUMPRODUCT(1*(ORARIO!$H$5:$L$14=$B84)*(ORARIO!$B$5:$B$14=Q$3)),\"\")","v":0},{"$f":"IF($B84<>\"\",SUMPRODUCT(1*(ORARIO!$H$5:$L$14=$B84)*(ORARIO!$B$5:$B$14=R$3)),\"\")","v":0},{"$f":"IF($B84<>\"\",SUMPRODUCT(1*(ORARIO!$H$5:$L$14=$B84)*(ORARIO!$B$5:$B$14=S$3)),\"\")","v":0},null,{"$f":"IF($B84<>\"\",SUMPRODUCT(1*(ORARIO!$M$5:$Q$14=$B84)*(ORARIO!$B$5:$B$14=U$3)),\"\")","v":0},{"$f":"IF($B84<>\"\",SUMPRODUCT(1*(ORARIO!$M$5:$Q$14=$B84)*(ORARIO!$B$5:$B$14=V$3)),\"\")","v":0},{"$f":"IF($B84<>\"\",SUMPRODUCT(1*(ORARIO!$M$5:$Q$14=$B84)*(ORARIO!$B$5:$B$14=W$3)),\"\")","v":0},{"$f":"IF($B84<>\"\",SUMPRODUCT(1*(ORARIO!$M$5:$Q$14=$B84)*(ORARIO!$B$5:$B$14=X$3)),\"\")","v":0},{"$f":"IF($B84<>\"\",SUMPRODUCT(1*(ORARIO!$M$5:$Q$14=$B84)*(ORARIO!$B$5:$B$14=Y$3)),\"\")","v":0},{"$f":"IF($B84<>\"\",SUMPRODUCT(1*(ORARIO!$M$5:$Q$14=$B84)*(ORARIO!$B$5:$B$14=Z$3)),\"\")","v":0},{"$f":"IF($B84<>\"\",SUMPRODUCT(1*(ORARIO!$M$5:$Q$14=$B84)*(ORARIO!$B$5:$B$14=AA$3)),\"\")","v":0},{"$f":"IF($B84<>\"\",SUMPRODUCT(1*(ORARIO!$M$5:$Q$14=$B84)*(ORARIO!$B$5:$B$14=AB$3)),\"\")","v":0},null,{"$f":"IF($B84<>\"\",SUMPRODUCT(1*(ORARIO!$R$5:$V$14=$B84)*(ORARIO!$B$5:$B$14=AD$3)),\"\")","v":0},{"$f":"IF($B84<>\"\",SUMPRODUCT(1*(ORARIO!$R$5:$V$14=$B84)*(ORARIO!$B$5:$B$14=AE$3)),\"\")","v":0},{"$f":"IF($B84<>\"\",SUMPRODUCT(1*(ORARIO!$R$5:$V$14=$B84)*(ORARIO!$B$5:$B$14=AF$3)),\"\")","v":0},{"$f":"IF($B84<>\"\",SUMPRODUCT(1*(ORARIO!$R$5:$V$14=$B84)*(ORARIO!$B$5:$B$14=AG$3)),\"\")","v":0},{"$f":"IF($B84<>\"\",SUMPRODUCT(1*(ORARIO!$R$5:$V$14=$B84)*(ORARIO!$B$5:$B$14=AH$3)),\"\")","v":0},{"$f":"IF($B84<>\"\",SUMPRODUCT(1*(ORARIO!$R$5:$V$14=$B84)*(ORARIO!$B$5:$B$14=AI$3)),\"\")","v":0},{"$f":"IF($B84<>\"\",SUMPRODUCT(1*(ORARIO!$R$5:$V$14=$B84)*(ORARIO!$B$5:$B$14=AJ$3)),\"\")","v":0},{"$f":"IF($B84<>\"\",SUMPRODUCT(1*(ORARIO!$R$5:$V$14=$B84)*(ORARIO!$B$5:$B$14=AK$3)),\"\")","v":0},null,{"$f":"IF($B84<>\"\",SUMPRODUCT(1*(ORARIO!$W$5:$AA$14=$B84)*(ORARIO!$B$5:$B$14=AM$3)),\"\")","v":0},{"$f":"IF($B84<>\"\",SUMPRODUCT(1*(ORARIO!$W$5:$AA$14=$B84)*(ORARIO!$B$5:$B$14=AN$3)),\"\")","v":0},{"$f":"IF($B84<>\"\",SUMPRODUCT(1*(ORARIO!$W$5:$AA$14=$B84)*(ORARIO!$B$5:$B$14=AO$3)),\"\")","v":0},{"$f":"IF($B84<>\"\",SUMPRODUCT(1*(ORARIO!$W$5:$AA$14=$B84)*(ORARIO!$B$5:$B$14=AP$3)),\"\")","v":0},{"$f":"IF($B84<>\"\",SUMPRODUCT(1*(ORARIO!$W$5:$AA$14=$B84)*(ORARIO!$B$5:$B$14=AQ$3)),\"\")","v":0},{"$f":"IF($B84<>\"\",SUMPRODUCT(1*(ORARIO!$W$5:$AA$14=$B84)*(ORARIO!$B$5:$B$14=AR$3)),\"\")","v":0},{"$f":"IF($B84<>\"\",SUMPRODUCT(1*(ORARIO!$W$5:$AA$14=$B84)*(ORARIO!$B$5:$B$14=AS$3)),\"\")","v":0},{"$f":"IF($B84<>\"\",SUMPRODUCT(1*(ORARIO!$W$5:$AA$14=$B84)*(ORARIO!$B$5:$B$14=AT$3)),\"\")","v":0}]
[null,"G tel",{"$f":"IF($B$4<>\"\",SUMPRODUCT(1*(ORARIO!$C$5:$G$14=$B85)*(ORARIO!$B$5:$B$14=C$3)),\"\")","v":0},{"$f":"IF($B$4<>\"\",SUMPRODUCT(1*(ORARIO!$C$5:$G$14=$B85)*(ORARIO!$B$5:$B$14=D$3)),\"\")","v":0},{"$f":"IF($B$4<>\"\",SUMPRODUCT(1*(ORARIO!$C$5:$G$14=$B85)*(ORARIO!$B$5:$B$14=E$3)),\"\")","v":0},{"$f":"IF($B$4<>\"\",SUMPRODUCT(1*(ORARIO!$C$5:$G$14=$B85)*(ORARIO!$B$5:$B$14=F$3)),\"\")","v":0},{"$f":"IF($B$4<>\"\",SUMPRODUCT(1*(ORARIO!$C$5:$G$14=$B85)*(ORARIO!$B$5:$B$14=G$3)),\"\")","v":0},{"$f":"IF($B$4<>\"\",SUMPRODUCT(1*(ORARIO!$C$5:$G$14=$B85)*(ORARIO!$B$5:$B$14=H$3)),\"\")","v":0},{"$f":"IF($B$4<>\"\",SUMPRODUCT(1*(ORARIO!$C$5:$G$14=$B85)*(ORARIO!$B$5:$B$14=I$3)),\"\")","v":0},{"$f":"IF($B$4<>\"\",SUMPRODUCT(1*(ORARIO!$C$5:$G$14=$B85)*(ORARIO!$B$5:$B$14=J$3)),\"\")","v":0},null,{"$f":"IF($B85<>\"\",SUMPRODUCT(1*(ORARIO!$H$5:$L$14=$B85)*(ORARIO!$B$5:$B$14=L$3)),\"\")","v":0},{"$f":"IF($B85<>\"\",SUMPRODUCT(1*(ORARIO!$H$5:$L$14=$B85)*(ORARIO!$B$5:$B$14=M$3)),\"\")","v":0},{"$f":"IF($B85<>\"\",SUMPRODUCT(1*(ORARIO!$H$5:$L$14=$B85)*(ORARIO!$B$5:$B$14=N$3)),\"\")","v":0},{"$f":"IF($B85<>\"\",SUMPRODUCT(1*(ORARIO!$H$5:$L$14=$B85)*(ORARIO!$B$5:$B$14=O$3)),\"\")","v":0},{"$f":"IF($B85<>\"\",SUMPRODUCT(1*(ORARIO!$H$5:$L$14=$B85)*(ORARIO!$B$5:$B$14=P$3)),\"\")","v":0},{"$f":"IF($B85<>\"\",SUMPRODUCT(1*(ORARIO!$H$5:$L$14=$B85)*(ORARIO!$B$5:$B$14=Q$3)),\"\")","v":0},{"$f":"IF($B85<>\"\",SUMPRODUCT(1*(ORARIO!$H$5:$L$14=$B85)*(ORARIO!$B$5:$B$14=R$3)),\"\")","v":0},{"$f":"IF($B85<>\"\",SUMPRODUCT(1*(ORARIO!$H$5:$L$14=$B85)*(ORARIO!$B$5:$B$14=S$3)),\"\")","v":0},null,{"$f":"IF($B85<>\"\",SUMPRODUCT(1*(ORARIO!$M$5:$Q$14=$B85)*(ORARIO!$B$5:$B$14=U$3)),\"\")","v":0},{"$f":"IF($B85<>\"\",SUMPRODUCT(1*(ORARIO!$M$5:$Q$14=$B85)*(ORARIO!$B$5:$B$14=V$3)),\"\")","v":0},{"$f":"IF($B85<>\"\",SUMPRODUCT(1*(ORARIO!$M$5:$Q$14=$B85)*(ORARIO!$B$5:$B$14=W$3)),\"\")","v":0},{"$f":"IF($B85<>\"\",SUMPRODUCT(1*(ORARIO!$M$5:$Q$14=$B85)*(ORARIO!$B$5:$B$14=X$3)),\"\")","v":0},{"$f":"IF($B85<>\"\",SUMPRODUCT(1*(ORARIO!$M$5:$Q$14=$B85)*(ORARIO!$B$5:$B$14=Y$3)),\"\")","v":0},{"$f":"IF($B85<>\"\",SUMPRODUCT(1*(ORARIO!$M$5:$Q$14=$B85)*(ORARIO!$B$5:$B$14=Z$3)),\"\")","v":0},{"$f":"IF($B85<>\"\",SUMPRODUCT(1*(ORARIO!$M$5:$Q$14=$B85)*(ORARIO!$B$5:$B$14=AA$3)),\"\")","v":0},{"$f":"IF($B85<>\"\",SUMPRODUCT(1*(ORARIO!$M$5:$Q$14=$B85)*(ORARIO!$B$5:$B$14=AB$3)),\"\")","v":0},null,{"$f":"IF($B85<>\"\",SUMPRODUCT(1*(ORARIO!$R$5:$V$14=$B85)*(ORARIO!$B$5:$B$14=AD$3)),\"\")","v":0},{"$f":"IF($B85<>\"\",SUMPRODUCT(1*(ORARIO!$R$5:$V$14=$B85)*(ORARIO!$B$5:$B$14=AE$3)),\"\")","v":0},{"$f":"IF($B85<>\"\",SUMPRODUCT(1*(ORARIO!$R$5:$V$14=$B85)*(ORARIO!$B$5:$B$14=AF$3)),\"\")","v":0},{"$f":"IF($B85<>\"\",SUMPRODUCT(1*(ORARIO!$R$5:$V$14=$B85)*(ORARIO!$B$5:$B$14=AG$3)),\"\")","v":0},{"$f":"IF($B85<>\"\",SUMPRODUCT(1*(ORARIO!$R$5:$V$14=$B85)*(ORARIO!$B$5:$B$14=AH$3)),\"\")","v":0},{"$f":"IF($B85<>\"\",SUMPRODUCT(1*(ORARIO!$R$5:$V$14=$B85)*(ORARIO!$B$5:$B$14=AI$3)),\"\")","v":0},{"$f":"IF($B85<>\"\",SUMPRODUCT(1*(ORARIO!$R$5:$V$14=$B85)*(ORARIO!$B$5:$B$14=AJ$3)),\"\")","v":0},{"$f":"IF($B85<>\"\",SUMPRODUCT(1*(ORARIO!$R$5:$V$14=$B85)*(ORARIO!$B$5:$B$14=AK$3)),\"\")","v":0},null,{"$f":"IF($B85<>\"\",SUMPRODUCT(1*(ORARIO!$W$5:$AA$14=$B85)*(ORARIO!$B$5:$B$14=AM$3)),\"\")","v":0},{"$f":"IF($B85<>\"\",SUMPRODUCT(1*(ORARIO!$W$5:$AA$14=$B85)*(ORARIO!$B$5:$B$14=AN$3)),\"\")","v":0},{"$f":"IF($B85<>\"\",SUMPRODUCT(1*(ORARIO!$W$5:$AA$14=$B85)*(ORARIO!$B$5:$B$14=AO$3)),\"\")","v":0},{"$f":"IF($B85<>\"\",SUMPRODUCT(1*(ORARIO!$W$5:$AA$14=$B85)*(ORARIO!$B$5:$B$14=AP$3)),\"\")","v":0},{"$f":"IF($B85<>\"\",SUMPRODUCT(1*(ORARIO!$W$5:$AA$14=$B85)*(ORARIO!$B$5:$B$14=AQ$3)),\"\")","v":0},{"$f":"IF($B85<>\"\",SUMPRODUCT(1*(ORARIO!$W$5:$AA$14=$B85)*(ORARIO!$B$5:$B$14=AR$3)),\"\")","v":0},{"$f":"IF($B85<>\"\",SUMPRODUCT(1*(ORARIO!$W$5:$AA$14=$B85)*(ORARIO!$B$5:$B$14=AS$3)),\"\")","v":0},{"$f":"IF($B85<>\"\",SUMPRODUCT(1*(ORARIO!$W$5:$AA$14=$B85)*(ORARIO!$B$5:$B$14=AT$3)),\"\")","v":0}]
[null,"G ver",{"$f":"IF($B$4<>\"\",SUMPRODUCT(1*(ORARIO!$C$5:$G$14=$B86)*(ORARIO!$B$5:$B$14=C$3)),\"\")","v":0},{"$f":"IF($B$4<>\"\",SUMPRODUCT(1*(ORARIO!$C$5:$G$14=$B86)*(ORARIO!$B$5:$B$14=D$3)),\"\")","v":0},{"$f":"IF($B$4<>\"\",SUMPRODUCT(1*(ORARIO!$C$5:$G$14=$B86)*(ORARIO!$B$5:$B$14=E$3)),\"\")","v":0},{"$f":"IF($B$4<>\"\",SUMPRODUCT(1*(ORARIO!$C$5:$G$14=$B86)*(ORARIO!$B$5:$B$14=F$3)),\"\")","v":0},{"$f":"IF($B$4<>\"\",SUMPRODUCT(1*(ORARIO!$C$5:$G$14=$B86)*(ORARIO!$B$5:$B$14=G$3)),\"\")","v":0},{"$f":"IF($B$4<>\"\",SUMPRODUCT(1*(ORARIO!$C$5:$G$14=$B86)*(ORARIO!$B$5:$B$14=H$3)),\"\")","v":0},{"$f":"IF($B$4<>\"\",SUMPRODUCT(1*(ORARIO!$C$5:$G$14=$B86)*(ORARIO!$B$5:$B$14=I$3)),\"\")","v":0},{"$f":"IF($B$4<>\"\",SUMPRODUCT(1*(ORARIO!$C$5:$G$14=$B86)*(ORARIO!$B$5:$B$14=J$3)),\"\")","v":0},null,{"$f":"IF($B86<>\"\",SUMPRODUCT(1*(ORARIO!$H$5:$L$14=$B86)*(ORARIO!$B$5:$B$14=L$3)),\"\")","v":0},{"$f":"IF($B86<>\"\",SUMPRODUCT(1*(ORARIO!$H$5:$L$14=$B86)*(ORARIO!$B$5:$B$14=M$3)),\"\")","v":0},{"$f":"IF($B86<>\"\",SUMPRODUCT(1*(ORARIO!$H$5:$L$14=$B86)*(ORARIO!$B$5:$B$14=N$3)),\"\")","v":0},{"$f":"IF($B86<>\"\",SUMPRODUCT(1*(ORARIO!$H$5:$L$14=$B86)*(ORARIO!$B$5:$B$14=O$3)),\"\")","v":0},{"$f":"IF($B86<>\"\",SUMPRODUCT(1*(ORARIO!$H$5:$L$14=$B86)*(ORARIO!$B$5:$B$14=P$3)),\"\")","v":1},{"$f":"IF($B86<>\"\",SUMPRODUCT(1*(ORARIO!$H$5:$L$14=$B86)*(ORARIO!$B$5:$B$14=Q$3)),\"\")","v":0},{"$f":"IF($B86<>\"\",SUMPRODUCT(1*(ORARIO!$H$5:$L$14=$B86)*(ORARIO!$B$5:$B$14=R$3)),\"\")","v":0},{"$f":"IF($B86<>\"\",SUMPRODUCT(1*(ORARIO!$H$5:$L$14=$B86)*(ORARIO!$B$5:$B$14=S$3)),\"\")","v":0},null,{"$f":"IF($B86<>\"\",SUMPRODUCT(1*(ORARIO!$M$5:$Q$14=$B86)*(ORARIO!$B$5:$B$14=U$3)),\"\")","v":0},{"$f":"IF($B86<>\"\",SUMPRODUCT(1*(ORARIO!$M$5:$Q$14=$B86)*(ORARIO!$B$5:$B$14=V$3)),\"\")","v":0},{"$f":"IF($B86<>\"\",SUMPRODUCT(1*(ORARIO!$M$5:$Q$14=$B86)*(ORARIO!$B$5:$B$14=W$3)),\"\")","v":0},{"$f":"IF($B86<>\"\",SUMPRODUCT(1*(ORARIO!$M$5:$Q$14=$B86)*(ORARIO!$B$5:$B$14=X$3)),\"\")","v":0},{"$f":"IF($B86<>\"\",SUMPRODUCT(1*(ORARIO!$M$5:$Q$14=$B86)*(ORARIO!$B$5:$B$14=Y$3)),\"\")","v":0},{"$f":"IF($B86<>\"\",SUMPRODUCT(1*(ORARIO!$M$5:$Q$14=$B86)*(ORARIO!$B$5:$B$14=Z$3)),\"\")","v":0},{"$f":"IF($B86<>\"\",SUMPRODUCT(1*(ORARIO!$M$5:$Q$14=$B86)*(ORARIO!$B$5:$B$14=AA$3)),\"\")","v":0},{"$f":"IF($B86<>\"\",SUMPRODUCT(1*(ORARIO!$M$5:$Q$14=$B86)*(ORARIO!$B$5:$B$14=AB$3)),\"\")","v":0},null,{"$f":"IF($B86<>\"\",SUMPRODUCT(1*(ORARIO!$R$5:$V$14=$B86)*(ORARIO!$B$5:$B$14=AD$3)),\"\")","v":0},{"$f":"IF($B86<>\"\",SUMPRODUCT(1*(ORARIO!$R$5:$V$14=$B86)*(ORARIO!$B$5:$B$14=AE$3)),\"\")","v":0},{"$f":"IF($B86<>\"\",SUMPRODUCT(1*(ORARIO!$R$5:$V$14=$B86)*(ORARIO!$B$5:$B$14=AF$3)),\"\")","v":0},{"$f":"IF($B86<>\"\",SUMPRODUCT(1*(ORARIO!$R$5:$V$14=$B86)*(ORARIO!$B$5:$B$14=AG$3)),\"\")","v":0},{"$f":"IF($B86<>\"\",SUMPRODUCT(1*(ORARIO!$R$5:$V$14=$B86)*(ORARIO!$B$5:$B$14=AH$3)),\"\")","v":0},{"$f":"IF($B86<>\"\",SUMPRODUCT(1*(ORARIO!$R$5:$V$14=$B86)*(ORARIO!$B$5:$B$14=AI$3)),\"\")","v":0},{"$f":"IF($B86<>\"\",SUMPRODUCT(1*(ORARIO!$R$5:$V$14=$B86)*(ORARIO!$B$5:$B$14=AJ$3)),\"\")","v":0},{"$f":"IF($B86<>\"\",SUMPRODUCT(1*(ORARIO!$R$5:$V$14=$B86)*(ORARIO!$B$5:$B$14=AK$3)),\"\")","v":0},null,{"$f":"IF($B86<>\"\",SUMPRODUCT(1*(ORARIO!$W$5:$AA$14=$B86)*(ORARIO!$B$5:$B$14=AM$3)),\"\")","v":0},{"$f":"IF($B86<>\"\",SUMPRODUCT(1*(ORARIO!$W$5:$AA$14=$B86)*(ORARIO!$B$5:$B$14=AN$3)),\"\")","v":0},{"$f":"IF($B86<>\"\",SUMPRODUCT(1*(ORARIO!$W$5:$AA$14=$B86)*(ORARIO!$B$5:$B$14=AO$3)),\"\")","v":0},{"$f":"IF($B86<>\"\",SUMPRODUCT(1*(ORARIO!$W$5:$AA$14=$B86)*(ORARIO!$B$5:$B$14=AP$3)),\"\")","v":0},{"$f":"IF($B86<>\"\",SUMPRODUCT(1*(ORARIO!$W$5:$AA$14=$B86)*(ORARIO!$B$5:$B$14=AQ$3)),\"\")","v":0},{"$f":"IF($B86<>\"\",SUMPRODUCT(1*(ORARIO!$W$5:$AA$14=$B86)*(ORARIO!$B$5:$B$14=AR$3)),\"\")","v":0},{"$f":"IF($B86<>\"\",SUMPRODUCT(1*(ORARIO!$W$5:$AA$14=$B86)*(ORARIO!$B$5:$B$14=AS$3)),\"\")","v":0},{"$f":"IF($B86<>\"\",SUMPRODUCT(1*(ORARIO!$W$5:$AA$14=$B86)*(ORARIO!$B$5:$B$14=AT$3)),\"\")","v":0}]
[null,"G sop",{"$f":"IF($B$4<>\"\",SUMPRODUCT(1*(ORARIO!$C$5:$G$14=$B87)*(ORARIO!$B$5:$B$14=C$3)),\"\")","v":0},{"$f":"IF($B$4<>\"\",SUMPRODUCT(1*(ORARIO!$C$5:$G$14=$B87)*(ORARIO!$B$5:$B$14=D$3)),\"\")","v":0},{"$f":"IF($B$4<>\"\",SUMPRODUCT(1*(ORARIO!$C$5:$G$14=$B87)*(ORARIO!$B$5:$B$14=E$3)),\"\")","v":0},{"$f":"IF($B$4<>\"\",SUMPRODUCT(1*(ORARIO!$C$5:$G$14=$B87)*(ORARIO!$B$5:$B$14=F$3)),\"\")","v":0},{"$f":"IF($B$4<>\"\",SUMPRODUCT(1*(ORARIO!$C$5:$G$14=$B87)*(ORARIO!$B$5:$B$14=G$3)),\"\")","v":0},{"$f":"IF($B$4<>\"\",SUMPRODUCT(1*(ORARIO!$C$5:$G$14=$B87)*(ORARIO!$B$5:$B$14=H$3)),\"\")","v":0},{"$f":"IF($B$4<>\"\",SUMPRODUCT(1*(ORARIO!$C$5:$G$14=$B87)*(ORARIO!$B$5:$B$14=I$3)),\"\")","v":0},{"$f":"IF($B$4<>\"\",SUMPRODUCT(1*(ORARIO!$C$5:$G$14=$B87)*(ORARIO!$B$5:$B$14=J$3)),\"\")","v":0},null,{"$f":"IF($B87<>\"\",SUMPRODUCT(1*(ORARIO!$H$5:$L$14=$B87)*(ORARIO!$B$5:$B$14=L$3)),\"\")","v":0},{"$f":"IF($B87<>\"\",SUMPRODUCT(1*(ORARIO!$H$5:$L$14=$B87)*(ORARIO!$B$5:$B$14=M$3)),\"\")","v":0},{"$f":"IF($B87<>\"\",SUMPRODUCT(1*(ORARIO!$H$5:$L$14=$B87)*(ORARIO!$B$5:$B$14=N$3)),\"\")","v":0},{"$f":"IF($B87<>\"\",SUMPRODUCT(1*(ORARIO!$H$5:$L$14=$B87)*(ORARIO!$B$5:$B$14=O$3)),\"\")","v":0},{"$f":"IF($B87<>\"\",SUMPRODUCT(1*(ORARIO!$H$5:$L$14=$B87)*(ORARIO!$B$5:$B$14=P$3)),\"\")","v":0},{"$f":"IF($B87<>\"\",SUMPRODUCT(1*(ORARIO!$H$5:$L$14=$B87)*(ORARIO!$B$5:$B$14=Q$3)),\"\")","v":0},{"$f":"IF($B87<>\"\",SUMPRODUCT(1*(ORARIO!$H$5:$L$14=$B87)*(ORARIO!$B$5:$B$14=R$3)),\"\")","v":0},{"$f":"IF($B87<>\"\",SUMPRODUCT(1*(ORARIO!$H$5:$L$14=$B87)*(ORARIO!$B$5:$B$14=S$3)),\"\")","v":0},null,{"$f":"IF($B87<>\"\",SUMPRODUCT(1*(ORARIO!$M$5:$Q$14=$B87)*(ORARIO!$B$5:$B$14=U$3)),\"\")","v":0},{"$f":"IF($B87<>\"\",SUMPRODUCT(1*(ORARIO!$M$5:$Q$14=$B87)*(ORARIO!$B$5:$B$14=V$3)),\"\")","v":0},{"$f":"IF($B87<>\"\",SUMPRODUCT(1*(ORARIO!$M$5:$Q$14=$B87)*(ORARIO!$B$5:$B$14=W$3)),\"\")","v":0},{"$f":"IF($B87<>\"\",SUMPRODUCT(1*(ORARIO!$M$5:$Q$14=$B87)*(ORARIO!$B$5:$B$14=X$3)),\"\")","v":0},{"$f":"IF($B87<>\"\",SUMPRODUCT(1*(ORARIO!$M$5:$Q$14=$B87)*(ORARIO!$B$5:$B$14=Y$3)),\"\")","v":0},{"$f":"IF($B87<>\"\",SUMPRODUCT(1*(ORARIO!$M$5:$Q$14=$B87)*(ORARIO!$B$5:$B$14=Z$3)),\"\")","v":0},{"$f":"IF($B87<>\"\",SUMPRODUCT(1*(ORARIO!$M$5:$Q$14=$B87)*(ORARIO!$B$5:$B$14=AA$3)),\"\")","v":0},{"$f":"IF($B87<>\"\",SUMPRODUCT(1*(ORARIO!$M$5:$Q$14=$B87)*(ORARIO!$B$5:$B$14=AB$3)),\"\")","v":0},null,{"$f":"IF($B87<>\"\",SUMPRODUCT(1*(ORARIO!$R$5:$V$14=$B87)*(ORARIO!$B$5:$B$14=AD$3)),\"\")","v":0},{"$f":"IF($B87<>\"\",SUMPRODUCT(1*(ORARIO!$R$5:$V$14=$B87)*(ORARIO!$B$5:$B$14=AE$3)),\"\")","v":0},{"$f":"IF($B87<>\"\",SUMPRODUCT(1*(ORARIO!$R$5:$V$14=$B87)*(ORARIO!$B$5:$B$14=AF$3)),\"\")","v":0},{"$f":"IF($B87<>\"\",SUMPRODUCT(1*(ORARIO!$R$5:$V$14=$B87)*(ORARIO!$B$5:$B$14=AG$3)),\"\")","v":0},{"$f":"IF($B87<>\"\",SUMPRODUCT(1*(ORARIO!$R$5:$V$14=$B87)*(ORARIO!$B$5:$B$14=AH$3)),\"\")","v":0},{"$f":"IF($B87<>\"\",SUMPRODUCT(1*(ORARIO!$R$5:$V$14=$B87)*(ORARIO!$B$5:$B$14=AI$3)),\"\")","v":0},{"$f":"IF($B87<>\"\",SUMPRODUCT(1*(ORARIO!$R$5:$V$14=$B87)*(ORARIO!$B$5:$B$14=AJ$3)),\"\")","v":0},{"$f":"IF($B87<>\"\",SUMPRODUCT(1*(ORARIO!$R$5:$V$14=$B87)*(ORARIO!$B$5:$B$14=AK$3)),\"\")","v":0},null,{"$f":"IF($B87<>\"\",SUMPRODUCT(1*(ORARIO!$W$5:$AA$14=$B87)*(ORARIO!$B$5:$B$14=AM$3)),\"\")","v":0},{"$f":"IF($B87<>\"\",SUMPRODUCT(1*(ORARIO!$W$5:$AA$14=$B87)*(ORARIO!$B$5:$B$14=AN$3)),\"\")","v":0},{"$f":"IF($B87<>\"\",SUMPRODUCT(1*(ORARIO!$W$5:$AA$14=$B87)*(ORARIO!$B$5:$B$14=AO$3)),\"\")","v":0},{"$f":"IF($B87<>\"\",SUMPRODUCT(1*(ORARIO!$W$5:$AA$14=$B87)*(ORARIO!$B$5:$B$14=AP$3)),\"\")","v":0},{"$f":"IF($B87<>\"\",SUMPRODUCT(1*(ORARIO!$W$5:$AA$14=$B87)*(ORARIO!$B$5:$B$14=AQ$3)),\"\")","v":0},{"$f":"IF($B87<>\"\",SUMPRODUCT(1*(ORARIO!$W$5:$AA$14=$B87)*(ORARIO!$B$5:$B$14=AR$3)),\"\")","v":0},{"$f":"IF($B87<>\"\",SUMPRODUCT(1*(ORARIO!$W$5:$AA$14=$B87)*(ORARIO!$B$5:$B$14=AS$3)),\"\")","v":0},{"$f":"IF($B87<>\"\",SUMPRODUCT(1*(ORARIO!$W$5:$AA$14=$B87)*(ORARIO!$B$5:$B$14=AT$3)),\"\")","v":0}]

{"sheet":"DATI","index":2,"n_rows":471,"n_cols":23,"rows_kept":471,"cut":false,"hidden":false,"merged":[]}
[null,null,"Materie"]
[{"$f":"IFERROR(INDEX($H$3:INDIRECT(\"T\"&COUNTIF($G$3:$G$100,\"<>\"&\"\")+2),ROUNDUP(ROW(A1)/COUNTIF($H$2:$AI$2,\"<>\"&\"\"),0),MOD(ROW(A1)-1,COUNTIF($H$2:$AI$2,\"<>\"&\"\"))+1),\"\")","v":"A SLO"},null,"A SLO",null,null,null,null,"SLO","ITA","ANG","MAT","NAR","ZGO","GEO","LIK","GLA","TEL","VER","SOP"]
[{"$f":"IFERROR(INDEX($H$3:INDIRECT(\"T\"&COUNTIF($G$3:$G$100,\"<>\"&\"\")+2),ROUNDUP(ROW(A2)/COUNTIF($H$2:$AI$2,\"<>\"&\"\"),0),MOD(ROW(A2)-1,COUNTIF($H$2:$AI$2,\"<>\"&\"\"))+1),\"\")","v":"A ITA"},null,"A ITA",null,null,null,"A",{"$f":"IF(OR($G3=\"\",H$2=\"\"),\"\",$G3&\" \"&H$2)","v":"A SLO"},{"$f":"IF(OR($G3=\"\",I$2=\"\"),\"\",$G3&\" \"&I$2)","v":"A ITA"},"A ANG","A MAT","A NAR","A ZGO","A GEO","A LIK","A GLA","A TEL","A VER","A SOP","","","",""]
[{"$f":"IFERROR(INDEX($H$3:INDIRECT(\"T\"&COUNTIF($G$3:$G$100,\"<>\"&\"\")+2),ROUNDUP(ROW(A3)/COUNTIF($H$2:$AI$2,\"<>\"&\"\"),0),MOD(ROW(A3)-1,COUNTIF($H$2:$AI$2,\"<>\"&\"\"))+1),\"\")","v":"A ANG"},null,"A GLA",null,null,null,"B",{"$f":"IF(OR($G4=\"\",H$2=\"\"),\"\",$G4&\" \"&H$2)","v":"B SLO"},"B ITA","B ANG","B MAT","B NAR","B ZGO","B GEO","B LIK","B GLA","B TEL","B VER","B SOP","","","",""]
[{"$f":"IFERROR(INDEX($H$3:INDIRECT(\"T\"&COUNTIF($G$3:$G$100,\"<>\"&\"\")+2),ROUNDUP(ROW(A4)/COUNTIF($H$2:$AI$2,\"<>\"&\"\"),0),MOD(ROW(A4)-1,COUNTIF($H$2:$AI$2,\"<>\"&\"\"))+1),\"\")","v":"A MAT"},null,"A VER",null,null,null,"C","C SLO","C ITA","C ANG","C MAT","C NAR","C ZGO","C GEO","C LIK","C GLA","C TEL","C VER","C SOP","","","",""]
[{"$f":"IFERROR(INDEX($H$3:INDIRECT(\"T\"&COUNTIF($G$3:$G$100,\"<>\"&\"\")+2),ROUNDUP(ROW(A5)/COUNTIF($H$2:$AI$2,\"<>\"&\"\"),0),MOD(ROW(A5)-1,COUNTIF($H$2:$AI$2,\"<>\"&\"\"))+1),\"\")","v":"A NAR"},null,"B SLO",null,null,null,"D","D SLO","D ITA","D ANG","D MAT","D NAR","D ZGO","D GEO","D LIK","D GLA","D TEL","D VER","D SOP","","","",""]
[{"$f":"IFERROR(INDEX($H$3:INDIRECT(\"T\"&COUNTIF($G$3:$G$100,\"<>\"&\"\")+2),ROUNDUP(ROW(A6)/COUNTIF($H$2:$AI$2,\"<>\"&\"\"),0),MOD(ROW(A6)-1,COUNTIF($H$2:$AI$2,\"<>\"&\"\"))+1),\"\")","v":"A ZGO"},null,"B NAR",null,null,null,"E","E SLO","E ITA","E ANG","E MAT","E NAR","E ZGO","E GEO","E LIK","E GLA","E TEL","E VER","E SOP","","","",""]
[{"$f":"IFERROR(INDEX($H$3:INDIRECT(\"T\"&COUNTIF($G$3:$G$100,\"<>\"&\"\")+2),ROUNDUP(ROW(A7)/COUNTIF($H$2:$AI$2,\"<>\"&\"\"),0),MOD(ROW(A7)-1,COUNTIF($H$2:$AI$2,\"<>\"&\"\"))+1),\"\")","v":"A GEO"},null,"B ZGO",null,null,null,"F","F SLO","F ITA","F ANG","F MAT","F NAR","F ZGO","F GEO","F LIK","F GLA","F TEL","F VER","F SOP","","","",""]
[{"$f":"IFERROR(INDEX($H$3:INDIRECT(\"T\"&COUNTIF($G$3:$G$100,\"<>\"&\"\")+2),ROUNDUP(ROW(A8)/COUNTIF($H$2:$AI$2,\"<>\"&\"\"),0),MOD(ROW(A8)-1,COUNTIF($H$2:$AI$2,\"<>\"&\"\"))+1),\"\")","v":"A LIK"},null,"B LIK",null,null,null,"G","G SLO","G ITA","G ANG","G MAT","G NAR","G ZGO","G GEO","G LIK","G GLA","G TEL","G VER","G SOP","","","",""]
[{"$f":"IFERROR(INDEX($H$3:INDIRECT(\"T\"&COUNTIF($G$3:$G$100,\"<>\"&\"\")+2),ROUNDUP(ROW(A9)/COUNTIF($H$2:$AI$2,\"<>\"&\"\"),0),MOD(ROW(A9)-1,COUNTIF($H$2:$AI$2,\"<>\"&\"\"))+1),\"\")","v":"A GLA"},null,"B TEL",null,null,null,"H","H SLO","H ITA","H ANG","H MAT","H NAR","H ZGO","H GEO","H LIK","H GLA","H TEL","H VER","H SOP","","","",""]
[{"$f":"IFERROR(INDEX($H$3:INDIRECT(\"T\"&COUNTIF($G$3:$G$100,\"<>\"&\"\")+2),ROUNDUP(ROW(A10)/COUNTIF($H$2:$AI$2,\"<>\"&\"\"),0),MOD(ROW(A10)-1,COUNTIF($H$2:$AI$2,\"<>\"&\"\"))+1),\"\")","v":"A TEL"},null,"B SOP",null,null,null,"I","I SLO","I ITA","I ANG","I MAT","I NAR","I ZGO","I GEO","I LIK","I GLA","I TEL","I VER","I SOP","","","",""]
[{"$f":"IFERROR(INDEX($H$3:INDIRECT(\"T\"&COUNTIF($G$3:$G$100,\"<>\"&\"\")+2),ROUNDUP(ROW(A11)/COUNTIF($H$2:$AI$2,\"<>\"&\"\"),0),MOD(ROW(A11)-1,COUNTIF($H$2:$AI$2,\"<>\"&\"\"))+1),\"\")","v":"A VER"},null,"C ITA",null,null,null,"L","L SLO","L ITA","L ANG","L MAT","L NAR","L ZGO","L GEO","L LIK","L GLA","L TEL","L VER","L SOP","","","",""]
[{"$f":"IFERROR(INDEX($H$3:INDIRECT(\"T\"&COUNTIF($G$3:$G$100,\"<>\"&\"\")+2),ROUNDUP(ROW(A12)/COUNTIF($H$2:$AI$2,\"<>\"&\"\"),0),MOD(ROW(A12)-1,COUNTIF($H$2:$AI$2,\"<>\"&\"\"))+1),\"\")","v":"A SOP"},null,"C MAT",null,null,null,"M","M SLO","M ITA","M ANG","M MAT","M NAR","M ZGO","M GEO","M LIK","M GLA","M TEL","M VER","M SOP","","","",""]
[{"$f":"IFERROR(INDEX($H$3:INDIRECT(\"T\"&COUNTIF($G$3:$G$100,\"<>\"&\"\")+2),ROUNDUP(ROW(A13)/COUNTIF($H$2:$AI$2,\"<>\"&\"\"),0),MOD(ROW(A13)-1,COUNTIF($H$2:$AI$2,\"<>\"&\"\"))+1),\"\")","v":"B SLO"},null,"Z SOP",null,null,null,"N","N SLO","N ITA","N ANG","N MAT","N NAR","N ZGO","N GEO","N LIK","N GLA","N TEL","N VER","N SOP","","","",""]
[{"$f":"IFERROR(INDEX($H$3:INDIRECT(\"T\"&COUNTIF($G$3:$G$100,\"<>\"&\"\")+2),ROUNDUP(ROW(A14)/COUNTIF($H$2:$AI$2,\"<>\"&\"\"),0),MOD(ROW(A14)-1,COUNTIF($H$2:$AI$2,\"<>\"&\"\"))+1),\"\")","v":"B ITA"},null,null,null,null,null,"O","O SLO","O ITA","O ANG","O MAT","O NAR","O ZGO","O GEO","O LIK","O GLA","O TEL","O VER","O SOP","","","",""]
[{"$f":"IFERROR(INDEX($H$3:INDIRECT(\"T\"&COUNTIF($G$3:$G$100,\"<>\"&\"\")+2),ROUNDUP(ROW(A15)/COUNTIF($H$2:$AI$2,\"<>\"&\"\"),0),MOD(ROW(A15)-1,COUNTIF($H$2:$AI$2,\"<>\"&\"\"))+1),\"\")","v":"B ANG"},null,null,null,null,null,"P","P SLO","P ITA","P ANG","P MAT","P NAR","P ZGO","P GEO","P LIK","P GLA","P TEL","P VER","P SOP","","","",""]
[{"$f":"IFERROR(INDEX($H$3:INDIRECT(\"T\"&COUNTIF($G$3:$G$100,\"<>\"&\"\")+2),ROUNDUP(ROW(A16)/COUNTIF($H$2:$AI$2,\"<>\"&\"\"),0),MOD(ROW(A16)-1,COUNTIF($H$2:$AI$2,\"<>\"&\"\"))+1),\"\")","v":"B MAT"},null,null,null,null,null,"Q","Q SLO","Q ITA","Q ANG","Q MAT","Q NAR","Q ZGO","Q GEO","Q LIK","Q GLA","Q TEL","Q VER","Q SOP","","","",""]
[{"$f":"IFERROR(INDEX($H$3:INDIRECT(\"T\"&COUNTIF($G$3:$G$100,\"<>\"&\"\")+2),ROUNDUP(ROW(A17)/COUNTIF($H$2:$AI$2,\"<>\"&\"\"),0),MOD(ROW(A17)-1,COUNTIF($H$2:$AI$2,\"<>\"&\"\"))+1),\"\")","v":"B NAR"},null,null,null,null,null,"R","R SLO","R ITA","R ANG","R MAT","R NAR","R ZGO","R GEO","R LIK","R GLA","R TEL","R VER","R SOP","","","",""]
[{"$f":"IFERROR(INDEX($H$3:INDIRECT(\"T\"&COUNTIF($G$3:$G$100,\"<>\"&\"\")+2),ROUNDUP(ROW(A18)/COUNTIF($H$2:$AI$2,\"<>\"&\"\"),0),MOD(ROW(A18)-1,COUNTIF($H$2:$AI$2,\"<>\"&\"\"))+1),\"\")","v":"B ZGO"},null,null,null,null,null,"S","S SLO","S ITA","S ANG","S MAT","S NAR","S ZGO","S GEO","S LIK","S GLA","S TEL","S VER","S SOP","","","",""]
[{"$f":"IFERROR(INDEX($H$3:INDIRECT(\"T\"&COUNTIF($G$3:$G$100,\"<>\"&\"\")+2),ROUNDUP(ROW(A19)/COUNTIF($H$2:$AI$2,\"<>\"&\"\"),0),MOD(ROW(A19)-1,COUNTIF($H$2:$AI$2,\"<>\"&\"\"))+1),\"\")","v":"B GEO"},null,null,null,null,null,"T","T SLO","T ITA","T ANG","T MAT","T NAR","T ZGO","T GEO","T LIK","T GLA","T TEL","T VER","T SOP","","",{"$f":"IF(OR($G20=\"\",V$2=\"\"),\"\",$G20&\" \"&V$2)","v":""},""]
[{"$f":"IFERROR(INDEX($H$3:INDIRECT(\"T\"&COUNTIF($G$3:$G$100,\"<>\"&\"\")+2),ROUNDUP(ROW(A20)/COUNTIF($H$2:$AI$2,\"<>\"&\"\"),0),MOD(ROW(A20)-1,COUNTIF($H$2:$AI$2,\"<>\"&\"\"))+1),\"\")","v":"B LIK"},null,null,null,null,null,"U",{"$f":"IF(OR($G21=\"\",H$2=\"\"),\"\",$G21&\" \"&H$2)","v":"U SLO"},"U ITA","U ANG","U MAT","U NAR","U ZGO","U GEO","U LIK","U GLA","U TEL","U VER","U SOP","","","",""]
[{"$f":"IFERROR(INDEX($H$3:INDIRECT(\"T\"&COUNTIF($G$3:$G$100,\"<>\"&\"\")+2),ROUNDUP(ROW(A21)/COUNTIF($H$2:$AI$2,\"<>\"&\"\"),0),MOD(ROW(A21)-1,COUNTIF($H$2:$AI$2,\"<>\"&\"\"))+1),\"\")","v":"B GLA"},null,null,null,null,null,"V","V SLO","V ITA","V ANG","V MAT","V NAR","V ZGO","V GEO","V LIK","V GLA","V TEL","V VER","V SOP","","","",""]
[{"$f":"IFERROR(INDEX($H$3:INDIRECT(\"T\"&COUNTIF($G$3:$G$100,\"<>\"&\"\")+2),ROUNDUP(ROW(A22)/COUNTIF($H$2:$AI$2,\"<>\"&\"\"),0),MOD(ROW(A22)-1,COUNTIF($H$2:$AI$2,\"<>\"&\"\"))+1),\"\")","v":"B TEL"},null,null,null,null,null,"X","X SLO","X ITA","X ANG","X MAT","X NAR","X ZGO","X GEO","X LIK","X GLA","X TEL","X VER","X SOP","","","",""]
[{"$f":"IFERROR(INDEX($H$3:INDIRECT(\"T\"&COUNTIF($G$3:$G$100,\"<>\"&\"\")+2),ROUNDUP(ROW(A23)/COUNTIF($H$2:$AI$2,\"<>\"&\"\"),0),MOD(ROW(A23)-1,COUNTIF($H$2:$AI$2,\"<>\"&\"\"))+1),\"\")","v":"B VER"},null,null,null,null,null,"Y","Y SLO","Y ITA","Y ANG","Y MAT","Y NAR","Y ZGO","Y GEO","Y LIK","Y GLA","Y TEL","Y VER","Y SOP","","","",""]
[{"$f":"IFERROR(INDEX($H$3:INDIRECT(\"T\"&COUNTIF($G$3:$G$100,\"<>\"&\"\")+2),ROUNDUP(ROW(A24)/COUNTIF($H$2:$AI$2,\"<>\"&\"\"),0),MOD(ROW(A24)-1,COUNTIF($H$2:$AI$2,\"<>\"&\"\"))+1),\"\")","v":"B SOP"},null,null,null,null,null,"Z","Z SLO","Z ITA","Z ANG","Z MAT","Z NAR","Z ZGO","Z GEO","Z LIK","Z GLA","Z TEL","Z VER","Z SOP","","","",""]
[{"$f":"IFERROR(INDEX($H$3:INDIRECT(\"T\"&COUNTIF($G$3:$G$100,\"<>\"&\"\")+2),ROUNDUP(ROW(A25)/COUNTIF($H$2:$AI$2,\"<>\"&\"\"),0),MOD(ROW(A25)-1,COUNTIF($H$2:$AI$2,\"<>\"&\"\"))+1),\"\")","v":"C SLO"},null,null,null,null,null,null,"","","","","","","","","","","","","","","",""]
[{"$f":"IFERROR(INDEX($H$3:INDIRECT(\"T\"&COUNTIF($G$3:$G$100,\"<>\"&\"\")+2),ROUNDUP(ROW(A26)/COUNTIF($H$2:$AI$2,\"<>\"&\"\"),0),MOD(ROW(A26)-1,COUNTIF($H$2:$AI$2,\"<>\"&\"\"))+1),\"\")","v":"C ITA"},null,null,null,null,null,null,"","","","","","","","","","","","","","","",""]
[{"$f":"IFERROR(INDEX($H$3:INDIRECT(\"T\"&COUNTIF($G$3:$G$100,\"<>\"&\"\")+2),ROUNDUP(ROW(A27)/COUNTIF($H$2:$AI$2,\"<>\"&\"\"),0),MOD(ROW(A27)-1,COUNTIF($H$2:$AI$2,\"<>\"&\"\"))+1),\"\")","v":"C ANG"},null,null,null,null,null,null,"","","","","","","","","","","","","","","",""]
[{"$f":"IFERROR(INDEX($H$3:INDIRECT(\"T\"&COUNTIF($G$3:$G$100,\"<>\"&\"\")+2),ROUNDUP(ROW(A28)/COUNTIF($H$2:$AI$2,\"<>\"&\"\"),0),MOD(ROW(A28)-1,COUNTIF($H$2:$AI$2,\"<>\"&\"\"))+1),\"\")","v":"C MAT"},null,null,null,null,null,null,"","","","","","","","","","","","","","","",""]
[{"$f":"IFERROR(INDEX($H$3:INDIRECT(\"T\"&COUNTIF($G$3:$G$100,\"<>\"&\"\")+2),ROUNDUP(ROW(A29)/COUNTIF($H$2:$AI$2,\"<>\"&\"\"),0),MOD(ROW(A29)-1,COUNTIF($H$2:$AI$2,\"<>\"&\"\"))+1),\"\")","v":"C NAR"},null,null,null,null,null,null,"","","","","","","","","","","","","","","",""]
[{"$f":"IFERROR(INDEX($H$3:INDIRECT(\"T\"&COUNTIF($G$3:$G$100,\"<>\"&\"\")+2),ROUNDUP(ROW(A30)/COUNTIF($H$2:$AI$2,\"<>\"&\"\"),0),MOD(ROW(A30)-1,COUNTIF($H$2:$AI$2,\"<>\"&\"\"))+1),\"\")","v":"C ZGO"},null,null,null,null,null,null,"","","","","","","","","","","","","","","",""]
[{"$f":"IFERROR(INDEX($H$3:INDIRECT(\"T\"&COUNTIF($G$3:$G$100,\"<>\"&\"\")+2),ROUNDUP(ROW(A31)/COUNTIF($H$2:$AI$2,\"<>\"&\"\"),0),MOD(ROW(A31)-1,COUNTIF($H$2:$AI$2,\"<>\"&\"\"))+1),\"\")","v":"C GEO"},null,null,null,null,null,null,"","","","","","","","","","","","","","","",""]
[{"$f":"IFERROR(INDEX($H$3:INDIRECT(\"T\"&COUNTIF($G$3:$G$100,\"<>\"&\"\")+2),ROUNDUP(ROW(A32)/COUNTIF($H$2:$AI$2,\"<>\"&\"\"),0),MOD(ROW(A32)-1,COUNTIF($H$2:$AI$2,\"<>\"&\"\"))+1),\"\")","v":"C LIK"},null,null,null,null,null,null,"","","","","","","","","","","","","","","",""]
[{"$f":"IFERROR(INDEX($H$3:INDIRECT(\"T\"&COUNTIF($G$3:$G$100,\"<>\"&\"\")+2),ROUNDUP(ROW(A33)/COUNTIF($H$2:$AI$2,\"<>\"&\"\"),0),MOD(ROW(A33)-1,COUNTIF($H$2:$AI$2,\"<>\"&\"\"))+1),\"\")","v":"C GLA"},null,null,null,null,null,null,"","","","","","","","","","","","","","","",""]
[{"$f":"IFERROR(INDEX($H$3:INDIRECT(\"T\"&COUNTIF($G$3:$G$100,\"<>\"&\"\")+2),ROUNDUP(ROW(A34)/COUNTIF($H$2:$AI$2,\"<>\"&\"\"),0),MOD(ROW(A34)-1,COUNTIF($H$2:$AI$2,\"<>\"&\"\"))+1),\"\")","v":"C TEL"}]
[{"$f":"IFERROR(INDEX($H$3:INDIRECT(\"T\"&COUNTIF($G$3:$G$100,\"<>\"&\"\")+2),ROUNDUP(ROW(A35)/COUNTIF($H$2:$AI$2,\"<>\"&\"\"),0),MOD(ROW(A35)-1,COUNTIF($H$2:$AI$2,\"<>\"&\"\"))+1),\"\")","v":"C VER"}]
[{"$f":"IFERROR(INDEX($H$3:INDIRECT(\"T\"&COUNTIF($G$3:$G$100,\"<>\"&\"\")+2),ROUNDUP(ROW(A36)/COUNTIF($H$2:$AI$2,\"<>\"&\"\"),0),MOD(ROW(A36)-1,COUNTIF($H$2:$AI$2,\"<>\"&\"\"))+1),\"\")","v":"C SOP"}]
[{"$f":"IFERROR(INDEX($H$3:INDIRECT(\"T\"&COUNTIF($G$3:$G$100,\"<>\"&\"\")+2),ROUNDUP(ROW(A37)/COUNTIF($H$2:$AI$2,\"<>\"&\"\"),0),MOD(ROW(A37)-1,COUNTIF($H$2:$AI$2,\"<>\"&\"\"))+1),\"\")","v":"D SLO"}]
[{"$f":"IFERROR(INDEX($H$3:INDIRECT(\"T\"&COUNTIF($G$3:$G$100,\"<>\"&\"\")+2),ROUNDUP(ROW(A38)/COUNTIF($H$2:$AI$2,\"<>\"&\"\"),0),MOD(ROW(A38)-1,COUNTIF($H$2:$AI$2,\"<>\"&\"\"))+1),\"\")","v":"D ITA"}]
[{"$f":"IFERROR(INDEX($H$3:INDIRECT(\"T\"&COUNTIF($G$3:$G$100,\"<>\"&\"\")+2),ROUNDUP(ROW(A39)/COUNTIF($H$2:$AI$2,\"<>\"&\"\"),0),MOD(ROW(A39)-1,COUNTIF($H$2:$AI$2,\"<>\"&\"\"))+1),\"\")","v":"D ANG"}]
[{"$f":"IFERROR(INDEX($H$3:INDIRECT(\"T\"&COUNTIF($G$3:$G$100,\"<>\"&\"\")+2),ROUNDUP(ROW(A40)/COUNTIF($H$2:$AI$2,\"<>\"&\"\"),0),MOD(ROW(A40)-1,COUNTIF($H$2:$AI$2,\"<>\"&\"\"))+1),\"\")","v":"D MAT"}]
[{"$f":"IFERROR(INDEX($H$3:INDIRECT(\"T\"&COUNTIF($G$3:$G$100,\"<>\"&\"\")+2),ROUNDUP(ROW(A41)/COUNTIF($H$2:$AI$2,\"<>\"&\"\"),0),MOD(ROW(A41)-1,COUNTIF($H$2:$AI$2,\"<>\"&\"\"))+1),\"\")","v":"D NAR"}]
[{"$f":"IFERROR(INDEX($H$3:INDIRECT(\"T\"&COUNTIF($G$3:$G$100,\"<>\"&\"\")+2),ROUNDUP(ROW(A42)/COUNTIF($H$2:$AI$2,\"<>\"&\"\"),0),MOD(ROW(A42)-1,COUNTIF($H$2:$AI$2,\"<>\"&\"\"))+1),\"\")","v":"D ZGO"}]
[{"$f":"IFERROR(INDEX($H$3:INDIRECT(\"T\"&COUNTIF($G$3:$G$100,\"<>\"&\"\")+2),ROUNDUP(ROW(A43)/COUNTIF($H$2:$AI$2,\"<>\"&\"\"),0),MOD(ROW(A43)-1,COUNTIF($H$2:$AI$2,\"<>\"&\"\"))+1),\"\")","v":"D GEO"}]
[{"$f":"IFERROR(INDEX($H$3:INDIRECT(\"T\"&COUNTIF($G$3:$G$100,\"<>\"&\"\")+2),ROUNDUP(ROW(A44)/COUNTIF($H$2:$AI$2,\"<>\"&\"\"),0),MOD(ROW(A44)-1,COUNTIF($H$2:$AI$2,\"<>\"&\"\"))+1),\"\")","v":"D LIK"}]
[{"$f":"IFERROR(INDEX($H$3:INDIRECT(\"T\"&COUNTIF($G$3:$G$100,\"<>\"&\"\")+2),ROUNDUP(ROW(A45)/COUNTIF($H$2:$AI$2,\"<>\"&\"\"),0),MOD(ROW(A45)-1,COUNTIF($H$2:$AI$2,\"<>\"&\"\"))+1),\"\")","v":"D GLA"}]
[{"$f":"IFERROR(INDEX($H$3:INDIRECT(\"T\"&COUNTIF($G$3:$G$100,\"<>\"&\"\")+2),ROUNDUP(ROW(A46)/COUNTIF($H$2:$AI$2,\"<>\"&\"\"),0),MOD(ROW(A46)-1,COUNTIF($H$2:$AI$2,\"<>\"&\"\"))+1),\"\")","v":"D TEL"}]
[{"$f":"IFERROR(INDEX($H$3:INDIRECT(\"T\"&COUNTIF($G$3:$G$100,\"<>\"&\"\")+2),ROUNDUP(ROW(A47)/COUNTIF($H$2:$AI$2,\"<>\"&\"\"),0),MOD(ROW(A47)-1,COUNTIF($H$2:$AI$2,\"<>\"&\"\"))+1),\"\")","v":"D VER"}]
[{"$f":"IFERROR(INDEX($H$3:INDIRECT(\"T\"&COUNTIF($G$3:$G$100,\"<>\"&\"\")+2),ROUNDUP(ROW(A48)/COUNTIF($H$2:$AI$2,\"<>\"&\"\"),0),MOD(ROW(A48)-1,COUNTIF($H$2:$AI$2,\"<>\"&\"\"))+1),\"\")","v":"D SOP"}]
[{"$f":"IFERROR(INDEX($H$3:INDIRECT(\"T\"&COUNTIF($G$3:$G$100,\"<>\"&\"\")+2),ROUNDUP(ROW(A49)/COUNTIF($H$2:$AI$2,\"<>\"&\"\"),0),MOD(ROW(A49)-1,COUNTIF($H$2:$AI$2,\"<>\"&\"\"))+1),\"\")","v":"E SLO"}]
[{"$f":"IFERROR(INDEX($H$3:INDIRECT(\"T\"&COUNTIF($G$3:$G$100,\"<>\"&\"\")+2),ROUNDUP(ROW(A50)/COUNTIF($H$2:$AI$2,\"<>\"&\"\"),0),MOD(ROW(A50)-1,COUNTIF($H$2:$AI$2,\"<>\"&\"\"))+1),\"\")","v":"E ITA"}]
[{"$f":"IFERROR(INDEX($H$3:INDIRECT(\"T\"&COUNTIF($G$3:$G$100,\"<>\"&\"\")+2),ROUNDUP(ROW(A51)/COUNTIF($H$2:$AI$2,\"<>\"&\"\"),0),MOD(ROW(A51)-1,COUNTIF($H$2:$AI$2,\"<>\"&\"\"))+1),\"\")","v":"E ANG"}]
[{"$f":"IFERROR(INDEX($H$3:INDIRECT(\"T\"&COUNTIF($G$3:$G$100,\"<>\"&\"\")+2),ROUNDUP(ROW(A52)/COUNTIF($H$2:$AI$2,\"<>\"&\"\"),0),MOD(ROW(A52)-1,COUNTIF($H$2:$AI$2,\"<>\"&\"\"))+1),\"\")","v":"E MAT"}]
[{"$f":"IFERROR(INDEX($H$3:INDIRECT(\"T\"&COUNTIF($G$3:$G$100,\"<>\"&\"\")+2),ROUNDUP(ROW(A53)/COUNTIF($H$2:$AI$2,\"<>\"&\"\"),0),MOD(ROW(A53)-1,COUNTIF($H$2:$AI$2,\"<>\"&\"\"))+1),\"\")","v":"E NAR"}]
[{"$f":"IFERROR(INDEX($H$3:INDIRECT(\"T\"&COUNTIF($G$3:$G$100,\"<>\"&\"\")+2),ROUNDUP(ROW(A54)/COUNTIF($H$2:$AI$2,\"<>\"&\"\"),0),MOD(ROW(A54)-1,COUNTIF($H$2:$AI$2,\"<>\"&\"\"))+1),\"\")","v":"E ZGO"}]
[{"$f":"IFERROR(INDEX($H$3:INDIRECT(\"T\"&COUNTIF($G$3:$G$100,\"<>\"&\"\")+2),ROUNDUP(ROW(A55)/COUNTIF($H$2:$AI$2,\"<>\"&\"\"),0),MOD(ROW(A55)-1,COUNTIF($H$2:$AI$2,\"<>\"&\"\"))+1),\"\")","v":"E GEO"}]
[{"$f":"IFERROR(INDEX($H$3:INDIRECT(\"T\"&COUNTIF($G$3:$G$100,\"<>\"&\"\")+2),ROUNDUP(ROW(A56)/COUNTIF($H$2:$AI$2,\"<>\"&\"\"),0),MOD(ROW(A56)-1,COUNTIF($H$2:$AI$2,\"<>\"&\"\"))+1),\"\")","v":"E LIK"}]
[{"$f":"IFERROR(INDEX($H$3:INDIRECT(\"T\"&COUNTIF($G$3:$G$100,\"<>\"&\"\")+2),ROUNDUP(ROW(A57)/COUNTIF($H$2:$AI$2,\"<>\"&\"\"),0),MOD(ROW(A57)-1,COUNTIF($H$2:$AI$2,\"<>\"&\"\"))+1),\"\")","v":"E GLA"}]
[{"$f":"IFERROR(INDEX($H$3:INDIRECT(\"T\"&COUNTIF($G$3:$G$100,\"<>\"&\"\")+2),ROUNDUP(ROW(A58)/COUNTIF($H$2:$AI$2,\"<>\"&\"\"),0),MOD(ROW(A58)-1,COUNTIF($H$2:$AI$2,\"<>\"&\"\"))+1),\"\")","v":"E TEL"}]
[{"$f":"IFERROR(INDEX($H$3:INDIRECT(\"T\"&COUNTIF($G$3:$G$100,\"<>\"&\"\")+2),ROUNDUP(ROW(A59)/COUNTIF($H$2:$AI$2,\"<>\"&\"\"),0),MOD(ROW(A59)-1,COUNTIF($H$2:$AI$2,\"<>\"&\"\"))+1),\"\")","v":"E VER"}]
[{"$f":"IFERROR(INDEX($H$3:INDIRECT(\"T\"&COUNTIF($G$3:$G$100,\"<>\"&\"\")+2),ROUNDUP(ROW(A60)/COUNTIF($H$2:$AI$2,\"<>\"&\"\"),0),MOD(ROW(A60)-1,COUNTIF($H$2:$AI$2,\"<>\"&\"\"))+1),\"\")","v":"E SOP"}]
[{"$f":"IFERROR(INDEX($H$3:INDIRECT(\"T\"&COUNTIF($G$3:$G$100,\"<>\"&\"\")+2),ROUNDUP(ROW(A61)/COUNTIF($H$2:$AI$2,\"<>\"&\"\"),0),MOD(ROW(A61)-1,COUNTIF($H$2:$AI$2,\"<>\"&\"\"))+1),\"\")","v":"F SLO"}]
[{"$f":"IFERROR(INDEX($H$3:INDIRECT(\"T\"&COUNTIF($G$3:$G$100,\"<>\"&\"\")+2),ROUNDUP(ROW(A62)/COUNTIF($H$2:$AI$2,\"<>\"&\"\"),0),MOD(ROW(A62)-1,COUNTIF($H$2:$AI$2,\"<>\"&\"\"))+1),\"\")","v":"F ITA"}]
[{"$f":"IFERROR(INDEX($H$3:INDIRECT(\"T\"&COUNTIF($G$3:$G$100,\"<>\"&\"\")+2),ROUNDUP(ROW(A63)/COUNTIF($H$2:$AI$2,\"<>\"&\"\"),0),MOD(ROW(A63)-1,COUNTIF($H$2:$AI$2,\"<>\"&\"\"))+1),\"\")","v":"F ANG"}]
[{"$f":"IFERROR(INDEX($H$3:INDIRECT(\"T\"&COUNTIF($G$3:$G$100,\"<>\"&\"\")+2),ROUNDUP(ROW(A64)/COUNTIF($H$2:$AI$2,\"<>\"&\"\"),0),MOD(ROW(A64)-1,COUNTIF($H$2:$AI$2,\"<>\"&\"\"))+1),\"\")","v":"F MAT"}]
[{"$f":"IFERROR(INDEX($H$3:INDIRECT(\"T\"&COUNTIF($G$3:$G$100,\"<>\"&\"\")+2),ROUNDUP(ROW(A65)/COUNTIF($H$2:$AI$2,\"<>\"&\"\"),0),MOD(ROW(A65)-1,COUNTIF($H$2:$AI$2,\"<>\"&\"\"))+1),\"\")","v":"F NAR"}]
[{"$f":"IFERROR(INDEX($H$3:INDIRECT(\"T\"&COUNTIF($G$3:$G$100,\"<>\"&\"\")+2),ROUNDUP(ROW(A66)/COUNTIF($H$2:$AI$2,\"<>\"&\"\"),0),MOD(ROW(A66)-1,COUNTIF($H$2:$AI$2,\"<>\"&\"\"))+1),\"\")","v":"F ZGO"}]
[{"$f":"IFERROR(INDEX($H$3:INDIRECT(\"T\"&COUNTIF($G$3:$G$100,\"<>\"&\"\")+2),ROUNDUP(ROW(A67)/COUNTIF($H$2:$AI$2,\"<>\"&\"\"),0),MOD(ROW(A67)-1,COUNTIF($H$2:$AI$2,\"<>\"&\"\"))+1),\"\")","v":"F GEO"}]
[{"$f":"IFERROR(INDEX($H$3:INDIRECT(\"T\"&COUNTIF($G$3:$G$100,\"<>\"&\"\")+2),ROUNDUP(ROW(A68)/COUNTIF($H$2:$AI$2,\"<>\"&\"\"),0),MOD(ROW(A68)-1,COUNTIF($H$2:$AI$2,\"<>\"&\"\"))+1),\"\")","v":"F LIK"}]
[{"$f":"IFERROR(INDEX($H$3:INDIRECT(\"T\"&COUNTIF($G$3:$G$100,\"<>\"&\"\")+2),ROUNDUP(ROW(A69)/COUNTIF($H$2:$AI$2,\"<>\"&\"\"),0),MOD(ROW(A69)-1,COUNTIF($H$2:$AI$2,\"<>\"&\"\"))+1),\"\")","v":"F GLA"}]
[{"$f":"IFERROR(INDEX($H$3:INDIRECT(\"T\"&COUNTIF($G$3:$G$100,\"<>\"&\"\")+2),ROUNDUP(ROW(A70)/COUNTIF($H$2:$AI$2,\"<>\"&\"\"),0),MOD(ROW(A70)-1,COUNTIF($H$2:$AI$2,\"<>\"&\"\"))+1),\"\")","v":"F TEL"}]
[{"$f":"IFERROR(INDEX($H$3:INDIRECT(\"T\"&COUNTIF($G$3:$G$100,\"<>\"&\"\")+2),ROUNDUP(ROW(A71)/COUNTIF($H$2:$AI$2,\"<>\"&\"\"),0),MOD(ROW(A71)-1,COUNTIF($H$2:$AI$2,\"<>\"&\"\"))+1),\"\")","v":"F VER"}]
[{"$f":"IFERROR(INDEX($H$3:INDIRECT(\"T\"&COUNTIF($G$3:$G$100,\"<>\"&\"\")+2),ROUNDUP(ROW(A72)/COUNTIF($H$2:$AI$2,\"<>\"&\"\"),0),MOD(ROW(A72)-1,COUNTIF($H$2:$AI$2,\"<>\"&\"\"))+1),\"\")","v":"F SOP"}]
[{"$f":"IFERROR(INDEX($H$3:INDIRECT(\"T\"&COUNTIF($G$3:$G$100,\"<>\"&\"\")+2),ROUNDUP(ROW(A73)/COUNTIF($H$2:$AI$2,\"<>\"&\"\"),0),MOD(ROW(A73)-1,COUNTIF($H$2:$AI$2,\"<>\"&\"\"))+1),\"\")","v":"G SLO"}]
[{"$f":"IFERROR(INDEX($H$3:INDIRECT(\"T\"&COUNTIF($G$3:$G$100,\"<>\"&\"\")+2),ROUNDUP(ROW(A74)/COUNTIF($H$2:$AI$2,\"<>\"&\"\"),0),MOD(ROW(A74)-1,COUNTIF($H$2:$AI$2,\"<>\"&\"\"))+1),\"\")","v":"G ITA"}]
[{"$f":"IFERROR(INDEX($H$3:INDIRECT(\"T\"&COUNTIF($G$3:$G$100,\"<>\"&\"\")+2),ROUNDUP(ROW(A75)/COUNTIF($H$2:$AI$2,\"<>\"&\"\"),0),MOD(ROW(A75)-1,COUNTIF($H$2:$AI$2,\"<>\"&\"\"))+1),\"\")","v":"G ANG"}]
[{"$f":"IFERROR(INDEX($H$3:INDIRECT(\"T\"&COUNTIF($G$3:$G$100,\"<>\"&\"\")+2),ROUNDUP(ROW(A76)/COUNTIF($H$2:$AI$2,\"<>\"&\"\"),0),MOD(ROW(A76)-1,COUNTIF($H$2:$AI$2,\"<>\"&\"\"))+1),\"\")","v":"G MAT"}]
[{"$f":"IFERROR(INDEX($H$3:INDIRECT(\"T\"&COUNTIF($G$3:$G$100,\"<>\"&\"\")+2),ROUNDUP(ROW(A77)/COUNTIF($H$2:$AI$2,\"<>\"&\"\"),0),MOD(ROW(A77)-1,COUNTIF($H$2:$AI$2,\"<>\"&\"\"))+1),\"\")","v":"G NAR"}]
[{"$f":"IFERROR(INDEX($H$3:INDIRECT(\"T\"&COUNTIF($G$3:$G$100,\"<>\"&\"\")+2),ROUNDUP(ROW(A78)/COUNTIF($H$2:$AI$2,\"<>\"&\"\"),0),MOD(ROW(A78)-1,COUNTIF($H$2:$AI$2,\"<>\"&\"\"))+1),\"\")","v":"G ZGO"}]
[{"$f":"IFERROR(INDEX($H$3:INDIRECT(\"T\"&COUNTIF($G$3:$G$100,\"<>\"&\"\")+2),ROUNDUP(ROW(A79)/COUNTIF($H$2:$AI$2,\"<>\"&\"\"),0),MOD(ROW(A79)-1,COUNTIF($H$2:$AI$2,\"<>\"&\"\"))+1),\"\")","v":"G GEO"}]
[{"$f":"IFERROR(INDEX($H$3:INDIRECT(\"T\"&COUNTIF($G$3:$G$100,\"<>\"&\"\")+2),ROUNDUP(ROW(A80)/COUNTIF($H$2:$AI$2,\"<>\"&\"\"),0),MOD(ROW(A80)-1,COUNTIF($H$2:$AI$2,\"<>\"&\"\"))+1),\"\")","v":"G LIK"}]
[{"$f":"IFERROR(INDEX($H$3:INDIRECT(\"T\"&COUNTIF($G$3:$G$100,\"<>\"&\"\")+2),ROUNDUP(ROW(A81)/COUNTIF($H$2:$AI$2,\"<>\"&\"\"),0),MOD(ROW(A81)-1,COUNTIF($H$2:$AI$2,\"<>\"&\"\"))+1),\"\")","v":"G GLA"}]
[{"$f":"IFERROR(INDEX($H$3:INDIRECT(\"T\"&COUNTIF($G$3:$G$100,\"<>\"&\"\")+2),ROUNDUP(ROW(A82)/COUNTIF($H$2:$AI$2,\"<>\"&\"\"),0),MOD(ROW(A82)-1,COUNTIF($H$2:$AI$2,\"<>\"&\"\"))+1),\"\")","v":"G TEL"}]
[{"$f":"IFERROR(INDEX($H$3:INDIRECT(\"T\"&COUNTIF($G$3:$G$100,\"<>\"&\"\")+2),ROUNDUP(ROW(A83)/COUNTIF($H$2:$AI$2,\"<>\"&\"\"),0),MOD(ROW(A83)-1,COUNTIF($H$2:$AI$2,\"<>\"&\"\"))+1),\"\")","v":"G VER"}]
[{"$f":"IFERROR(INDEX($H$3:INDIRECT(\"T\"&COUNTIF($G$3:$G$100,\"<>\"&\"\")+2),ROUNDUP(ROW(A84)/COUNTIF($H$2:$AI$2,\"<>\"&\"\"),0),MOD(ROW(A84)-1,COUNTIF($H$2:$AI$2,\"<>\"&\"\"))+1),\"\")","v":"G SOP"}]
[{"$f":"IFERROR(INDEX($H$3:INDIRECT(\"T\"&COUNTIF($G$3:$G$100,\"<>\"&\"\")+2),ROUNDUP(ROW(A85)/COUNTIF($H$2:$AI$2,\"<>\"&\"\"),0),MOD(ROW(A85)-1,COUNTIF($H$2:$AI$2,\"<>\"&\"\"))+1),\"\")","v":"H SLO"}]
[{"$f":"IFERROR(INDEX($H$3:INDIRECT(\"T\"&COUNTIF($G$3:$G$100,\"<>\"&\"\")+2),ROUNDUP(ROW(A86)/COUNTIF($H$2:$AI$2,\"<>\"&\"\"),0),MOD(ROW(A86)-1,COUNTIF($H$2:$AI$2,\"<>\"&\"\"))+1),\"\")","v":"H ITA"}]
[{"$f":"IFERROR(INDEX($H$3:INDIRECT(\"T\"&COUNTIF($G$3:$G$100,\"<>\"&\"\")+2),ROUNDUP(ROW(A87)/COUNTIF($H$2:$AI$2,\"<>\"&\"\"),0),MOD(ROW(A87)-1,COUNTIF($H$2:$AI$2,\"<>\"&\"\"))+1),\"\")","v":"H ANG"}]
[{"$f":"IFERROR(INDEX($H$3:INDIRECT(\"T\"&COUNTIF($G$3:$G$100,\"<>\"&\"\")+2),ROUNDUP(ROW(A88)/COUNTIF($H$2:$AI$2,\"<>\"&\"\"),0),MOD(ROW(A88)-1,COUNTIF($H$2:$AI$2,\"<>\"&\"\"))+1),\"\")","v":"H MAT"}]
[{"$f":"IFERROR(INDEX($H$3:INDIRECT(\"T\"&COUNTIF($G$3:$G$100,\"<>\"&\"\")+2),ROUNDUP(ROW(A89)/COUNTIF($H$2:$AI$2,\"<>\"&\"\"),0),MOD(ROW(A89)-1,COUNTIF($H$2:$AI$2,\"<>\"&\"\"))+1),\"\")","v":"H NAR"}]
[{"$f":"IFERROR(INDEX($H$3:INDIRECT(\"T\"&COUNTIF($G$3:$G$100,\"<>\"&\"\")+2),ROUNDUP(ROW(A90)/COUNTIF($H$2:$AI$2,\"<>\"&\"\"),0),MOD(ROW(A90)-1,COUNTIF($H$2:$AI$2,\"<>\"&\"\"))+1),\"\")","v":"H ZGO"}]
[{"$f":"IFERROR(INDEX($H$3:INDIRECT(\"T\"&COUNTIF($G$3:$G$100,\"<>\"&\"\")+2),ROUNDUP(ROW(A91)/COUNTIF($H$2:$AI$2,\"<>\"&\"\"),0),MOD(ROW(A91)-1,COUNTIF($H$2:$AI$2,\"<>\"&\"\"))+1),\"\")","v":"H GEO"}]
[{"$f":"IFERROR(INDEX($H$3:INDIRECT(\"T\"&COUNTIF($G$3:$G$100,\"<>\"&\"\")+2),ROUNDUP(ROW(A92)/COUNTIF($H$2:$AI$2,\"<>\"&\"\"),0),MOD(ROW(A92)-1,COUNTIF($H$2:$AI$2,\"<>\"&\"\"))+1),\"\")","v":"H LIK"}]
[{"$f":"IFERROR(INDEX($H$3:INDIRECT(\"T\"&COUNTIF($G$3:$G$100,\"<>\"&\"\")+2),ROUNDUP(ROW(A93)/COUNTIF($H$2:$AI$2,\"<>\"&\"\"),0),MOD(ROW(A93)-1,COUNTIF($H$2:$AI$2,\"<>\"&\"\"))+1),\"\")","v":"H GLA"}]
[{"$f":"IFERROR(INDEX($H$3:INDIRECT(\"T\"&COUNTIF($G$3:$G$100,\"<>\"&\"\")+2),ROUNDUP(ROW(A94)/COUNTIF($H$2:$AI$2,\"<>\"&\"\"),0),MOD(ROW(A94)-1,COUNTIF($H$2:$AI$2,\"<>\"&\"\"))+1),\"\")","v":"H TEL"}]
[{"$f":"IFERROR(INDEX($H$3:INDIRECT(\"T\"&COUNTIF($G$3:$G$100,\"<>\"&\"\")+2),ROUNDUP(ROW(A95)/COUNTIF($H$2:$AI$2,\"<>\"&\"\"),0),MOD(ROW(A95)-1,COUNTIF($H$2:$AI$2,\"<>\"&\"\"))+1),\"\")","v":"H VER"}]
[{"$f":"IFERROR(INDEX($H$3:INDIRECT(\"T\"&COUNTIF($G$3:$G$100,\"<>\"&\"\")+2),ROUNDUP(ROW(A96)/COUNTIF($H$2:$AI$2,\"<>\"&\"\"),0),MOD(ROW(A96)-1,COUNTIF($H$2:$AI$2,\"<>\"&\"\"))+1),\"\")","v":"H SOP"}]
[{"$f":"IFERROR(INDEX($H$3:INDIRECT(\"T\"&COUNTIF($G$3:$G$100,\"<>\"&\"\")+2),ROUNDUP(ROW(A97)/COUNTIF($H$2:$AI$2,\"<>\"&\"\"),0),MOD(ROW(A97)-1,COUNTIF($H$2:$AI$2,\"<>\"&\"\"))+1),\"\")","v":"I SLO"}]
[{"$f":"IFERROR(INDEX($H$3:INDIRECT(\"T\"&COUNTIF($G$3:$G$100,\"<>\"&\"\")+2),ROUNDUP(ROW(A98)/COUNTIF($H$2:$AI$2,\"<>\"&\"\"),0),MOD(ROW(A98)-1,COUNTIF($H$2:$AI$2,\"<>\"&\"\"))+1),\"\")","v":"I ITA"}]
[{"$f":"IFERROR(INDEX($H$3:INDIRECT(\"T\"&COUNTIF($G$3:$G$100,\"<>\"&\"\")+2),ROUNDUP(ROW(A99)/COUNTIF($H$2:$AI$2,\"<>\"&\"\"),0),MOD(ROW(A99)-1,COUNTIF($H$2:$AI$2,\"<>\"&\"\"))+1),\"\")","v":"I ANG"}]
[{"$f":"IFERROR(INDEX($H$3:INDIRECT(\"T\"&COUNTIF($G$3:$G$100,\"<>\"&\"\")+2),ROUNDUP(ROW(A100)/COUNTIF($H$2:$AI$2,\"<>\"&\"\"),0),MOD(ROW(A100)-1,COUNTIF($H$2:$AI$2,\"<>\"&\"\"))+1),\"\")","v":"I MAT"}]
[{"$f":"IFERROR(INDEX($H$3:INDIRECT(\"T\"&COUNTIF($G$3:$G$100,\"<>\"&\"\")+2),ROUNDUP(ROW(A101)/COUNTIF($H$2:$AI$2,\"<>\"&\"\"),0),MOD(ROW(A101)-1,COUNTIF($H$2:$AI$2,\"<>\"&\"\"))+1),\"\")","v":"I NAR"}]
[{"$f":"IFERROR(INDEX($H$3:INDIRECT(\"T\"&COUNTIF($G$3:$G$100,\"<>\"&\"\")+2),ROUNDUP(ROW(A102)/COUNTIF($H$2:$AI$2,\"<>\"&\"\"),0),MOD(ROW(A102)-1,COUNTIF($H$2:$AI$2,\"<>\"&\"\"))+1),\"\")","v":"I ZGO"}]
[{"$f":"IFERROR(INDEX($H$3:INDIRECT(\"T\"&COUNTIF($G$3:$G$100,\"<>\"&\"\")+2),ROUNDUP(ROW(A103)/COUNTIF($H$2:$AI$2,\"<>\"&\"\"),0),MOD(ROW(A103)-1,COUNTIF($H$2:$AI$2,\"<>\"&\"\"))+1),\"\")","v":"I GEO"}]
[{"$f":"IFERROR(INDEX($H$3:INDIRECT(\"T\"&COUNTIF($G$3:$G$100,\"<>\"&\"\")+2),ROUNDUP(ROW(A104)/COUNTIF($H$2:$AI$2,\"<>\"&\"\"),0),MOD(ROW(A104)-1,COUNTIF($H$2:$AI$2,\"<>\"&\"\"))+1),\"\")","v":"I LIK"}]
[{"$f":"IFERROR(INDEX($H$3:INDIRECT(\"T\"&COUNTIF($G$3:$G$100,\"<>\"&\"\")+2),ROUNDUP(ROW(A105)/COUNTIF($H$2:$AI$2,\"<>\"&\"\"),0),MOD(ROW(A105)-1,COUNTIF($H$2:$AI$2,\"<>\"&\"\"))+1),\"\")","v":"I GLA"}]
[{"$f":"IFERROR(INDEX($H$3:INDIRECT(\"T\"&COUNTIF($G$3:$G$100,\"<>\"&\"\")+2),ROUNDUP(ROW(A106)/COUNTIF($H$2:$AI$2,\"<>\"&\"\"),0),MOD(ROW(A106)-1,COUNTIF($H$2:$AI$2,\"<>\"&\"\"))+1),\"\")","v":"I TEL"}]
[{"$f":"IFERROR(INDEX($H$3:INDIRECT(\"T\"&COUNTIF($G$3:$G$100,\"<>\"&\"\")+2),ROUNDUP(ROW(A107)/COUNTIF($H$2:$AI$2,\"<>\"&\"\"),0),MOD(ROW(A107)-1,COUNTIF($H$2:$AI$2,\"<>\"&\"\"))+1),\"\")","v":"I VER"}]
[{"$f":"IFERROR(INDEX($H$3:INDIRECT(\"T\"&COUNTIF($G$3:$G$100,\"<>\"&\"\")+2),ROUNDUP(ROW(A108)/COUNTIF($H$2:$AI$2,\"<>\"&\"\"),0),MOD(ROW(A108)-1,COUNTIF($H$2:$AI$2,\"<>\"&\"\"))+1),\"\")","v":"I SOP"}]
[{"$f":"IFERROR(INDEX($H$3:INDIRECT(\"T\"&COUNTIF($G$3:$G$100,\"<>\"&\"\")+2),ROUNDUP(ROW(A109)/COUNTIF($H$2:$AI$2,\"<>\"&\"\"),0),MOD(ROW(A109)-1,COUNTIF($H$2:$AI$2,\"<>\"&\"\"))+1),\"\")","v":"L SLO"}]
[{"$f":"IFERROR(INDEX($H$3:INDIRECT(\"T\"&COUNTIF($G$3:$G$100,\"<>\"&\"\")+2),ROUNDUP(ROW(A110)/COUNTIF($H$2:$AI$2,\"<>\"&\"\"),0),MOD(ROW(A110)-1,COUNTIF($H$2:$AI$2,\"<>\"&\"\"))+1),\"\")","v":"L ITA"}]
[{"$f":"IFERROR(INDEX($H$3:INDIRECT(\"T\"&COUNTIF($G$3:$G$100,\"<>\"&\"\")+2),ROUNDUP(ROW(A111)/COUNTIF($H$2:$AI$2,\"<>\"&\"\"),0),MOD(ROW(A111)-1,COUNTIF($H$2:$AI$2,\"<>\"&\"\"))+1),\"\")","v":"L ANG"}]
[{"$f":"IFERROR(INDEX($H$3:INDIRECT(\"T\"&COUNTIF($G$3:$G$100,\"<>\"&\"\")+2),ROUNDUP(ROW(A112)/COUNTIF($H$2:$AI$2,\"<>\"&\"\"),0),MOD(ROW(A112)-1,COUNTIF($H$2:$AI$2,\"<>\"&\"\"))+1),\"\")","v":"L MAT"}]
[{"$f":"IFERROR(INDEX($H$3:INDIRECT(\"T\"&COUNTIF($G$3:$G$100,\"<>\"&\"\")+2),ROUNDUP(ROW(A113)/COUNTIF($H$2:$AI$2,\"<>\"&\"\"),0),MOD(ROW(A113)-1,COUNTIF($H$2:$AI$2,\"<>\"&\"\"))+1),\"\")","v":"L NAR"}]
[{"$f":"IFERROR(INDEX($H$3:INDIRECT(\"T\"&COUNTIF($G$3:$G$100,\"<>\"&\"\")+2),ROUNDUP(ROW(A114)/COUNTIF($H$2:$AI$2,\"<>\"&\"\"),0),MOD(ROW(A114)-1,COUNTIF($H$2:$AI$2,\"<>\"&\"\"))+1),\"\")","v":"L ZGO"}]
[{"$f":"IFERROR(INDEX($H$3:INDIRECT(\"T\"&COUNTIF($G$3:$G$100,\"<>\"&\"\")+2),ROUNDUP(ROW(A115)/COUNTIF($H$2:$AI$2,\"<>\"&\"\"),0),MOD(ROW(A115)-1,COUNTIF($H$2:$AI$2,\"<>\"&\"\"))+1),\"\")","v":"L GEO"}]
[{"$f":"IFERROR(INDEX($H$3:INDIRECT(\"T\"&COUNTIF($G$3:$G$100,\"<>\"&\"\")+2),ROUNDUP(ROW(A116)/COUNTIF($H$2:$AI$2,\"<>\"&\"\"),0),MOD(ROW(A116)-1,COUNTIF($H$2:$AI$2,\"<>\"&\"\"))+1),\"\")","v":"L LIK"}]
[{"$f":"IFERROR(INDEX($H$3:INDIRECT(\"T\"&COUNTIF($G$3:$G$100,\"<>\"&\"\")+2),ROUNDUP(ROW(A117)/COUNTIF($H$2:$AI$2,\"<>\"&\"\"),0),MOD(ROW(A117)-1,COUNTIF($H$2:$AI$2,\"<>\"&\"\"))+1),\"\")","v":"L GLA"}]
[{"$f":"IFERROR(INDEX($H$3:INDIRECT(\"T\"&COUNTIF($G$3:$G$100,\"<>\"&\"\")+2),ROUNDUP(ROW(A118)/COUNTIF($H$2:$AI$2,\"<>\"&\"\"),0),MOD(ROW(A118)-1,COUNTIF($H$2:$AI$2,\"<>\"&\"\"))+1),\"\")","v":"L TEL"}]
[{"$f":"IFERROR(INDEX($H$3:INDIRECT(\"T\"&COUNTIF($G$3:$G$100,\"<>\"&\"\")+2),ROUNDUP(ROW(A119)/COUNTIF($H$2:$AI$2,\"<>\"&\"\"),0),MOD(ROW(A119)-1,COUNTIF($H$2:$AI$2,\"<>\"&\"\"))+1),\"\")","v":"L VER"}]
[{"$f":"IFERROR(INDEX($H$3:INDIRECT(\"T\"&COUNTIF($G$3:$G$100,\"<>\"&\"\")+2),ROUNDUP(ROW(A120)/COUNTIF($H$2:$AI$2,\"<>\"&\"\"),0),MOD(ROW(A120)-1,COUNTIF($H$2:$AI$2,\"<>\"&\"\"))+1),\"\")","v":"L SOP"}]
[{"$f":"IFERROR(INDEX($H$3:INDIRECT(\"T\"&COUNTIF($G$3:$G$100,\"<>\"&\"\")+2),ROUNDUP(ROW(A121)/COUNTIF($H$2:$AI$2,\"<>\"&\"\"),0),MOD(ROW(A121)-1,COUNTIF($H$2:$AI$2,\"<>\"&\"\"))+1),\"\")","v":"M SLO"}]
[{"$f":"IFERROR(INDEX($H$3:INDIRECT(\"T\"&COUNTIF($G$3:$G$100,\"<>\"&\"\")+2),ROUNDUP(ROW(A122)/COUNTIF($H$2:$AI$2,\"<>\"&\"\"),0),MOD(ROW(A122)-1,COUNTIF($H$2:$AI$2,\"<>\"&\"\"))+1),\"\")","v":"M ITA"}]
[{"$f":"IFERROR(INDEX($H$3:INDIRECT(\"T\"&COUNTIF($G$3:$G$100,\"<>\"&\"\")+2),ROUNDUP(ROW(A123)/COUNTIF($H$2:$AI$2,\"<>\"&\"\"),0),MOD(ROW(A123)-1,COUNTIF($H$2:$AI$2,\"<>\"&\"\"))+1),\"\")","v":"M ANG"}]
[{"$f":"IFERROR(INDEX($H$3:INDIRECT(\"T\"&COUNTIF($G$3:$G$100,\"<>\"&\"\")+2),ROUNDUP(ROW(A124)/COUNTIF($H$2:$AI$2,\"<>\"&\"\"),0),MOD(ROW(A124)-1,COUNTIF($H$2:$AI$2,\"<>\"&\"\"))+1),\"\")","v":"M MAT"}]
[{"$f":"IFERROR(INDEX($H$3:INDIRECT(\"T\"&COUNTIF($G$3:$G$100,\"<>\"&\"\")+2),ROUNDUP(ROW(A125)/COUNTIF($H$2:$AI$2,\"<>\"&\"\"),0),MOD(ROW(A125)-1,COUNTIF($H$2:$AI$2,\"<>\"&\"\"))+1),\"\")","v":"M NAR"}]
[{"$f":"IFERROR(INDEX($H$3:INDIRECT(\"T\"&COUNTIF($G$3:$G$100,\"<>\"&\"\")+2),ROUNDUP(ROW(A126)/COUNTIF($H$2:$AI$2,\"<>\"&\"\"),0),MOD(ROW(A126)-1,COUNTIF($H$2:$AI$2,\"<>\"&\"\"))+1),\"\")","v":"M ZGO"}]
[{"$f":"IFERROR(INDEX($H$3:INDIRECT(\"T\"&COUNTIF($G$3:$G$100,\"<>\"&\"\")+2),ROUNDUP(ROW(A127)/COUNTIF($H$2:$AI$2,\"<>\"&\"\"),0),MOD(ROW(A127)-1,COUNTIF($H$2:$AI$2,\"<>\"&\"\"))+1),\"\")","v":"M GEO"}]
[{"$f":"IFERROR(INDEX($H$3:INDIRECT(\"T\"&COUNTIF($G$3:$G$100,\"<>\"&\"\")+2),ROUNDUP(ROW(A128)/COUNTIF($H$2:$AI$2,\"<>\"&\"\"),0),MOD(ROW(A128)-1,COUNTIF($H$2:$AI$2,\"<>\"&\"\"))+1),\"\")","v":"M LIK"}]
[{"$f":"IFERROR(INDEX($H$3:INDIRECT(\"T\"&COUNTIF($G$3:$G$100,\"<>\"&\"\")+2),ROUNDUP(ROW(A129)/COUNTIF($H$2:$AI$2,\"<>\"&\"\"),0),MOD(ROW(A129)-1,COUNTIF($H$2:$AI$2,\"<>\"&\"\"))+1),\"\")","v":"M GLA"}]
[{"$f":"IFERROR(INDEX($H$3:INDIRECT(\"T\"&COUNTIF($G$3:$G$100,\"<>\"&\"\")+2),ROUNDUP(ROW(A130)/COUNTIF($H$2:$AI$2,\"<>\"&\"\"),0),MOD(ROW(A130)-1,COUNTIF($H$2:$AI$2,\"<>\"&\"\"))+1),\"\")","v":"M TEL"}]
[{"$f":"IFERROR(INDEX($H$3:INDIRECT(\"T\"&COUNTIF($G$3:$G$100,\"<>\"&\"\")+2),ROUNDUP(ROW(A131)/COUNTIF($H$2:$AI$2,\"<>\"&\"\"),0),MOD(ROW(A131)-1,COUNTIF($H$2:$AI$2,\"<>\"&\"\"))+1),\"\")","v":"M VER"}]
[{"$f":"IFERROR(INDEX($H$3:INDIRECT(\"T\"&COUNTIF($G$3:$G$100,\"<>\"&\"\")+2),ROUNDUP(ROW(A132)/COUNTIF($H$2:$AI$2,\"<>\"&\"\"),0),MOD(ROW(A132)-1,COUNTIF($H$2:$AI$2,\"<>\"&\"\"))+1),\"\")","v":"M SOP"}]
[{"$f":"IFERROR(INDEX($H$3:INDIRECT(\"T\"&COUNTIF($G$3:$G$100,\"<>\"&\"\")+2),ROUNDUP(ROW(A133)/COUNTIF($H$2:$AI$2,\"<>\"&\"\"),0),MOD(ROW(A133)-1,COUNTIF($H$2:$AI$2,\"<>\"&\"\"))+1),\"\")","v":"N SLO"}]
[{"$f":"IFERROR(INDEX($H$3:INDIRECT(\"T\"&COUNTIF($G$3:$G$100,\"<>\"&\"\")+2),ROUNDUP(ROW(A134)/COUNTIF($H$2:$AI$2,\"<>\"&\"\"),0),MOD(ROW(A134)-1,COUNTIF($H$2:$AI$2,\"<>\"&\"\"))+1),\"\")","v":"N ITA"}]
[{"$f":"IFERROR(INDEX($H$3:INDIRECT(\"T\"&COUNTIF($G$3:$G$100,\"<>\"&\"\")+2),ROUNDUP(ROW(A135)/COUNTIF($H$2:$AI$2,\"<>\"&\"\"),0),MOD(ROW(A135)-1,COUNTIF($H$2:$AI$2,\"<>\"&\"\"))+1),\"\")","v":"N ANG"}]
[{"$f":"IFERROR(INDEX($H$3:INDIRECT(\"T\"&COUNTIF($G$3:$G$100,\"<>\"&\"\")+2),ROUNDUP(ROW(A136)/COUNTIF($H$2:$AI$2,\"<>\"&\"\"),0),MOD(ROW(A136)-1,COUNTIF($H$2:$AI$2,\"<>\"&\"\"))+1),\"\")","v":"N MAT"}]
[{"$f":"IFERROR(INDEX($H$3:INDIRECT(\"T\"&COUNTIF($G$3:$G$100,\"<>\"&\"\")+2),ROUNDUP(ROW(A137)/COUNTIF($H$2:$AI$2,\"<>\"&\"\"),0),MOD(ROW(A137)-1,COUNTIF($H$2:$AI$2,\"<>\"&\"\"))+1),\"\")","v":"N NAR"}]
[{"$f":"IFERROR(INDEX($H$3:INDIRECT(\"T\"&COUNTIF($G$3:$G$100,\"<>\"&\"\")+2),ROUNDUP(ROW(A138)/COUNTIF($H$2:$AI$2,\"<>\"&\"\"),0),MOD(ROW(A138)-1,COUNTIF($H$2:$AI$2,\"<>\"&\"\"))+1),\"\")","v":"N ZGO"}]
[{"$f":"IFERROR(INDEX($H$3:INDIRECT(\"T\"&COUNTIF($G$3:$G$100,\"<>\"&\"\")+2),ROUNDUP(ROW(A139)/COUNTIF($H$2:$AI$2,\"<>\"&\"\"),0),MOD(ROW(A139)-1,COUNTIF($H$2:$AI$2,\"<>\"&\"\"))+1),\"\")","v":"N GEO"}]
[{"$f":"IFERROR(INDEX($H$3:INDIRECT(\"T\"&COUNTIF($G$3:$G$100,\"<>\"&\"\")+2),ROUNDUP(ROW(A140)/COUNTIF($H$2:$AI$2,\"<>\"&\"\"),0),MOD(ROW(A140)-1,COUNTIF($H$2:$AI$2,\"<>\"&\"\"))+1),\"\")","v":"N LIK"}]
[{"$f":"IFERROR(INDEX($H$3:INDIRECT(\"T\"&COUNTIF($G$3:$G$100,\"<>\"&\"\")+2),ROUNDUP(ROW(A141)/COUNTIF($H$2:$AI$2,\"<>\"&\"\"),0),MOD(ROW(A141)-1,COUNTIF($H$2:$AI$2,\"<>\"&\"\"))+1),\"\")","v":"N GLA"}]
[{"$f":"IFERROR(INDEX($H$3:INDIRECT(\"T\"&COUNTIF($G$3:$G$100,\"<>\"&\"\")+2),ROUNDUP(ROW(A142)/COUNTIF($H$2:$AI$2,\"<>\"&\"\"),0),MOD(ROW(A142)-1,COUNTIF($H$2:$AI$2,\"<>\"&\"\"))+1),\"\")","v":"N TEL"}]
[{"$f":"IFERROR(INDEX($H$3:INDIRECT(\"T\"&COUNTIF($G$3:$G$100,\"<>\"&\"\")+2),ROUNDUP(ROW(A143)/COUNTIF($H$2:$AI$2,\"<>\"&\"\"),0),MOD(ROW(A143)-1,COUNTIF($H$2:$AI$2,\"<>\"&\"\"))+1),\"\")","v":"N VER"}]
[{"$f":"IFERROR(INDEX($H$3:INDIRECT(\"T\"&COUNTIF($G$3:$G$100,\"<>\"&\"\")+2),ROUNDUP(ROW(A144)/COUNTIF($H$2:$AI$2,\"<>\"&\"\"),0),MOD(ROW(A144)-1,COUNTIF($H$2:$AI$2,\"<>\"&\"\"))+1),\"\")","v":"N SOP"}]
[{"$f":"IFERROR(INDEX($H$3:INDIRECT(\"T\"&COUNTIF($G$3:$G$100,\"<>\"&\"\")+2),ROUNDUP(ROW(A145)/COUNTIF($H$2:$AI$2,\"<>\"&\"\"),0),MOD(ROW(A145)-1,COUNTIF($H$2:$AI$2,\"<>\"&\"\"))+1),\"\")","v":"O SLO"}]
[{"$f":"IFERROR(INDEX($H$3:INDIRECT(\"T\"&COUNTIF($G$3:$G$100,\"<>\"&\"\")+2),ROUNDUP(ROW(A146)/COUNTIF($H$2:$AI$2,\"<>\"&\"\"),0),MOD(ROW(A146)-1,COUNTIF($H$2:$AI$2,\"<>\"&\"\"))+1),\"\")","v":"O ITA"}]
[{"$f":"IFERROR(INDEX($H$3:INDIRECT(\"T\"&COUNTIF($G$3:$G$100,\"<>\"&\"\")+2),ROUNDUP(ROW(A147)/COUNTIF($H$2:$AI$2,\"<>\"&\"\"),0),MOD(ROW(A147)-1,COUNTIF($H$2:$AI$2,\"<>\"&\"\"))+1),\"\")","v":"O ANG"}]
[{"$f":"IFERROR(INDEX($H$3:INDIRECT(\"T\"&COUNTIF($G$3:$G$100,\"<>\"&\"\")+2),ROUNDUP(ROW(A148)/COUNTIF($H$2:$AI$2,\"<>\"&\"\"),0),MOD(ROW(A148)-1,COUNTIF($H$2:$AI$2,\"<>\"&\"\"))+1),\"\")","v":"O MAT"}]
[{"$f":"IFERROR(INDEX($H$3:INDIRECT(\"T\"&COUNTIF($G$3:$G$100,\"<>\"&\"\")+2),ROUNDUP(ROW(A149)/COUNTIF($H$2:$AI$2,\"<>\"&\"\"),0),MOD(ROW(A149)-1,COUNTIF($H$2:$AI$2,\"<>\"&\"\"))+1),\"\")","v":"O NAR"}]
[{"$f":"IFERROR(INDEX($H$3:INDIRECT(\"T\"&COUNTIF($G$3:$G$100,\"<>\"&\"\")+2),ROUNDUP(ROW(A150)/COUNTIF($H$2:$AI$2,\"<>\"&\"\"),0),MOD(ROW(A150)-1,COUNTIF($H$2:$AI$2,\"<>\"&\"\"))+1),\"\")","v":"O ZGO"}]
[{"$f":"IFERROR(INDEX($H$3:INDIRECT(\"T\"&COUNTIF($G$3:$G$100,\"<>\"&\"\")+2),ROUNDUP(ROW(A151)/COUNTIF($H$2:$AI$2,\"<>\"&\"\"),0),MOD(ROW(A151)-1,COUNTIF($H$2:$AI$2,\"<>\"&\"\"))+1),\"\")","v":"O GEO"}]
[{"$f":"IFERROR(INDEX($H$3:INDIRECT(\"T\"&COUNTIF($G$3:$G$100,\"<>\"&\"\")+2),ROUNDUP(ROW(A152)/COUNTIF($H$2:$AI$2,\"<>\"&\"\"),0),MOD(ROW(A152)-1,COUNTIF($H$2:$AI$2,\"<>\"&\"\"))+1),\"\")","v":"O LIK"}]
[{"$f":"IFERROR(INDEX($H$3:INDIRECT(\"T\"&COUNTIF($G$3:$G$100,\"<>\"&\"\")+2),ROUNDUP(ROW(A153)/COUNTIF($H$2:$AI$2,\"<>\"&\"\"),0),MOD(ROW(A153)-1,COUNTIF($H$2:$AI$2,\"<>\"&\"\"))+1),\"\")","v":"O GLA"}]
[{"$f":"IFERROR(INDEX($H$3:INDIRECT(\"T\"&COUNTIF($G$3:$G$100,\"<>\"&\"\")+2),ROUNDUP(ROW(A154)/COUNTIF($H$2:$AI$2,\"<>\"&\"\"),0),MOD(ROW(A154)-1,COUNTIF($H$2:$AI$2,\"<>\"&\"\"))+1),\"\")","v":"O TEL"}]
[{"$f":"IFERROR(INDEX($H$3:INDIRECT(\"T\"&COUNTIF($G$3:$G$100,\"<>\"&\"\")+2),ROUNDUP(ROW(A155)/COUNTIF($H$2:$AI$2,\"<>\"&\"\"),0),MOD(ROW(A155)-1,COUNTIF($H$2:$AI$2,\"<>\"&\"\"))+1),\"\")","v":"O VER"}]
[{"$f":"IFERROR(INDEX($H$3:INDIRECT(\"T\"&COUNTIF($G$3:$G$100,\"<>\"&\"\")+2),ROUNDUP(ROW(A156)/COUNTIF($H$2:$AI$2,\"<>\"&\"\"),0),MOD(ROW(A156)-1,COUNTIF($H$2:$AI$2,\"<>\"&\"\"))+1),\"\")","v":"O SOP"}]
[{"$f":"IFERROR(INDEX($H$3:INDIRECT(\"T\"&COUNTIF($G$3:$G$100,\"<>\"&\"\")+2),ROUNDUP(ROW(A157)/COUNTIF($H$2:$AI$2,\"<>\"&\"\"),0),MOD(ROW(A157)-1,COUNTIF($H$2:$AI$2,\"<>\"&\"\"))+1),\"\")","v":"P SLO"}]
[{"$f":"IFERROR(INDEX($H$3:INDIRECT(\"T\"&COUNTIF($G$3:$G$100,\"<>\"&\"\")+2),ROUNDUP(ROW(A158)/COUNTIF($H$2:$AI$2,\"<>\"&\"\"),0),MOD(ROW(A158)-1,COUNTIF($H$2:$AI$2,\"<>\"&\"\"))+1),\"\")","v":"P ITA"}]
[{"$f":"IFERROR(INDEX($H$3:INDIRECT(\"T\"&COUNTIF($G$3:$G$100,\"<>\"&\"\")+2),ROUNDUP(ROW(A159)/COUNTIF($H$2:$AI$2,\"<>\"&\"\"),0),MOD(ROW(A159)-1,COUNTIF($H$2:$AI$2,\"<>\"&\"\"))+1),\"\")","v":"P ANG"}]
[{"$f":"IFERROR(INDEX($H$3:INDIRECT(\"T\"&COUNTIF($G$3:$G$100,\"<>\"&\"\")+2),ROUNDUP(ROW(A160)/COUNTIF($H$2:$AI$2,\"<>\"&\"\"),0),MOD(ROW(A160)-1,COUNTIF($H$2:$AI$2,\"<>\"&\"\"))+1),\"\")","v":"P MAT"}]
[{"$f":"IFERROR(INDEX($H$3:INDIRECT(\"T\"&COUNTIF($G$3:$G$100,\"<>\"&\"\")+2),ROUNDUP(ROW(A161)/COUNTIF($H$2:$AI$2,\"<>\"&\"\"),0),MOD(ROW(A161)-1,COUNTIF($H$2:$AI$2,\"<>\"&\"\"))+1),\"\")","v":"P NAR"}]
[{"$f":"IFERROR(INDEX($H$3:INDIRECT(\"T\"&COUNTIF($G$3:$G$100,\"<>\"&\"\")+2),ROUNDUP(ROW(A162)/COUNTIF($H$2:$AI$2,\"<>\"&\"\"),0),MOD(ROW(A162)-1,COUNTIF($H$2:$AI$2,\"<>\"&\"\"))+1),\"\")","v":"P ZGO"}]
[{"$f":"IFERROR(INDEX($H$3:INDIRECT(\"T\"&COUNTIF($G$3:$G$100,\"<>\"&\"\")+2),ROUNDUP(ROW(A163)/COUNTIF($H$2:$AI$2,\"<>\"&\"\"),0),MOD(ROW(A163)-1,COUNTIF($H$2:$AI$2,\"<>\"&\"\"))+1),\"\")","v":"P GEO"}]
[{"$f":"IFERROR(INDEX($H$3:INDIRECT(\"T\"&COUNTIF($G$3:$G$100,\"<>\"&\"\")+2),ROUNDUP(ROW(A164)/COUNTIF($H$2:$AI$2,\"<>\"&\"\"),0),MOD(ROW(A164)-1,COUNTIF($H$2:$AI$2,\"<>\"&\"\"))+1),\"\")","v":"P LIK"}]
[{"$f":"IFERROR(INDEX($H$3:INDIRECT(\"T\"&COUNTIF($G$3:$G$100,\"<>\"&\"\")+2),ROUNDUP(ROW(A165)/COUNTIF($H$2:$AI$2,\"<>\"&\"\"),0),MOD(ROW(A165)-1,COUNTIF($H$2:$AI$2,\"<>\"&\"\"))+1),\"\")","v":"P GLA"}]
[{"$f":"IFERROR(INDEX($H$3:INDIRECT(\"T\"&COUNTIF($G$3:$G$100,\"<>\"&\"\")+2),ROUNDUP(ROW(A166)/COUNTIF($H$2:$AI$2,\"<>\"&\"\"),0),MOD(ROW(A166)-1,COUNTIF($H$2:$AI$2,\"<>\"&\"\"))+1),\"\")","v":"P TEL"}]
[{"$f":"IFERROR(INDEX($H$3:INDIRECT(\"T\"&COUNTIF($G$3:$G$100,\"<>\"&\"\")+2),ROUNDUP(ROW(A167)/COUNTIF($H$2:$AI$2,\"<>\"&\"\"),0),MOD(ROW(A167)-1,COUNTIF($H$2:$AI$2,\"<>\"&\"\"))+1),\"\")","v":"P VER"}]
[{"$f":"IFERROR(INDEX($H$3:INDIRECT(\"T\"&COUNTIF($G$3:$G$100,\"<>\"&\"\")+2),ROUNDUP(ROW(A168)/COUNTIF($H$2:$AI$2,\"<>\"&\"\"),0),MOD(ROW(A168)-1,COUNTIF($H$2:$AI$2,\"<>\"&\"\"))+1),\"\")","v":"P SOP"}]
[{"$f":"IFERROR(INDEX($H$3:INDIRECT(\"T\"&COUNTIF($G$3:$G$100,\"<>\"&\"\")+2),ROUNDUP(ROW(A169)/COUNTIF($H$2:$AI$2,\"<>\"&\"\"),0),MOD(ROW(A169)-1,COUNTIF($H$2:$AI$2,\"<>\"&\"\"))+1),\"\")","v":"Q SLO"}]
[{"$f":"IFERROR(INDEX($H$3:INDIRECT(\"T\"&COUNTIF($G$3:$G$100,\"<>\"&\"\")+2),ROUNDUP(ROW(A170)/COUNTIF($H$2:$AI$2,\"<>\"&\"\"),0),MOD(ROW(A170)-1,COUNTIF($H$2:$AI$2,\"<>\"&\"\"))+1),\"\")","v":"Q ITA"}]
[{"$f":"IFERROR(INDEX($H$3:INDIRECT(\"T\"&COUNTIF($G$3:$G$100,\"<>\"&\"\")+2),ROUNDUP(ROW(A171)/COUNTIF($H$2:$AI$2,\"<>\"&\"\"),0),MOD(ROW(A171)-1,COUNTIF($H$2:$AI$2,\"<>\"&\"\"))+1),\"\")","v":"Q ANG"}]
[{"$f":"IFERROR(INDEX($H$3:INDIRECT(\"T\"&COUNTIF($G$3:$G$100,\"<>\"&\"\")+2),ROUNDUP(ROW(A172)/COUNTIF($H$2:$AI$2,\"<>\"&\"\"),0),MOD(ROW(A172)-1,COUNTIF($H$2:$AI$2,\"<>\"&\"\"))+1),\"\")","v":"Q MAT"}]
[{"$f":"IFERROR(INDEX($H$3:INDIRECT(\"T\"&COUNTIF($G$3:$G$100,\"<>\"&\"\")+2),ROUNDUP(ROW(A173)/COUNTIF($H$2:$AI$2,\"<>\"&\"\"),0),MOD(ROW(A173)-1,COUNTIF($H$2:$AI$2,\"<>\"&\"\"))+1),\"\")","v":"Q NAR"}]
[{"$f":"IFERROR(INDEX($H$3:INDIRECT(\"T\"&COUNTIF($G$3:$G$100,\"<>\"&\"\")+2),ROUNDUP(ROW(A174)/COUNTIF($H$2:$AI$2,\"<>\"&\"\"),0),MOD(ROW(A174)-1,COUNTIF($H$2:$AI$2,\"<>\"&\"\"))+1),\"\")","v":"Q ZGO"}]
[{"$f":"IFERROR(INDEX($H$3:INDIRECT(\"T\"&COUNTIF($G$3:$G$100,\"<>\"&\"\")+2),ROUNDUP(ROW(A175)/COUNTIF($H$2:$AI$2,\"<>\"&\"\"),0),MOD(ROW(A175)-1,COUNTIF($H$2:$AI$2,\"<>\"&\"\"))+1),\"\")","v":"Q GEO"}]
[{"$f":"IFERROR(INDEX($H$3:INDIRECT(\"T\"&COUNTIF($G$3:$G$100,\"<>\"&\"\")+2),ROUNDUP(ROW(A176)/COUNTIF($H$2:$AI$2,\"<>\"&\"\"),0),MOD(ROW(A176)-1,COUNTIF($H$2:$AI$2,\"<>\"&\"\"))+1),\"\")","v":"Q LIK"}]
[{"$f":"IFERROR(INDEX($H$3:INDIRECT(\"T\"&COUNTIF($G$3:$G$100,\"<>\"&\"\")+2),ROUNDUP(ROW(A177)/COUNTIF($H$2:$AI$2,\"<>\"&\"\"),0),MOD(ROW(A177)-1,COUNTIF($H$2:$AI$2,\"<>\"&\"\"))+1),\"\")","v":"Q GLA"}]
[{"$f":"IFERROR(INDEX($H$3:INDIRECT(\"T\"&COUNTIF($G$3:$G$100,\"<>\"&\"\")+2),ROUNDUP(ROW(A178)/COUNTIF($H$2:$AI$2,\"<>\"&\"\"),0),MOD(ROW(A178)-1,COUNTIF($H$2:$AI$2,\"<>\"&\"\"))+1),\"\")","v":"Q TEL"}]
[{"$f":"IFERROR(INDEX($H$3:INDIRECT(\"T\"&COUNTIF($G$3:$G$100,\"<>\"&\"\")+2),ROUNDUP(ROW(A179)/COUNTIF($H$2:$AI$2,\"<>\"&\"\"),0),MOD(ROW(A179)-1,COUNTIF($H$2:$AI$2,\"<>\"&\"\"))+1),\"\")","v":"Q VER"}]
[{"$f":"IFERROR(INDEX($H$3:INDIRECT(\"T\"&COUNTIF($G$3:$G$100,\"<>\"&\"\")+2),ROUNDUP(ROW(A180)/COUNTIF($H$2:$AI$2,\"<>\"&\"\"),0),MOD(ROW(A180)-1,COUNTIF($H$2:$AI$2,\"<>\"&\"\"))+1),\"\")","v":"Q SOP"}]
[{"$f":"IFERROR(INDEX($H$3:INDIRECT(\"T\"&COUNTIF($G$3:$G$100,\"<>\"&\"\")+2),ROUNDUP(ROW(A181)/COUNTIF($H$2:$AI$2,\"<>\"&\"\"),0),MOD(ROW(A181)-1,COUNTIF($H$2:$AI$2,\"<>\"&\"\"))+1),\"\")","v":"R SLO"}]
[{"$f":"IFERROR(INDEX($H$3:INDIRECT(\"T\"&COUNTIF($G$3:$G$100,\"<>\"&\"\")+2),ROUNDUP(ROW(A182)/COUNTIF($H$2:$AI$2,\"<>\"&\"\"),0),MOD(ROW(A182)-1,COUNTIF($H$2:$AI$2,\"<>\"&\"\"))+1),\"\")","v":"R ITA"}]
[{"$f":"IFERROR(INDEX($H$3:INDIRECT(\"T\"&COUNTIF($G$3:$G$100,\"<>\"&\"\")+2),ROUNDUP(ROW(A183)/COUNTIF($H$2:$AI$2,\"<>\"&\"\"),0),MOD(ROW(A183)-1,COUNTIF($H$2:$AI$2,\"<>\"&\"\"))+1),\"\")","v":"R ANG"}]
[{"$f":"IFERROR(INDEX($H$3:INDIRECT(\"T\"&COUNTIF($G$3:$G$100,\"<>\"&\"\")+2),ROUNDUP(ROW(A184)/COUNTIF($H$2:$AI$2,\"<>\"&\"\"),0),MOD(ROW(A184)-1,COUNTIF($H$2:$AI$2,\"<>\"&\"\"))+1),\"\")","v":"R MAT"}]
[{"$f":"IFERROR(INDEX($H$3:INDIRECT(\"T\"&COUNTIF($G$3:$G$100,\"<>\"&\"\")+2),ROUNDUP(ROW(A185)/COUNTIF($H$2:$AI$2,\"<>\"&\"\"),0),MOD(ROW(A185)-1,COUNTIF($H$2:$AI$2,\"<>\"&\"\"))+1),\"\")","v":"R NAR"}]
[{"$f":"IFERROR(INDEX($H$3:INDIRECT(\"T\"&COUNTIF($G$3:$G$100,\"<>\"&\"\")+2),ROUNDUP(ROW(A186)/COUNTIF($H$2:$AI$2,\"<>\"&\"\"),0),MOD(ROW(A186)-1,COUNTIF($H$2:$AI$2,\"<>\"&\"\"))+1),\"\")","v":"R ZGO"}]
[{"$f":"IFERROR(INDEX($H$3:INDIRECT(\"T\"&COUNTIF($G$3:$G$100,\"<>\"&\"\")+2),ROUNDUP(ROW(A187)/COUNTIF($H$2:$AI$2,\"<>\"&\"\"),0),MOD(ROW(A187)-1,COUNTIF($H$2:$AI$2,\"<>\"&\"\"))+1),\"\")","v":"R GEO"}]
[{"$f":"IFERROR(INDEX($H$3:INDIRECT(\"T\"&COUNTIF($G$3:$G$100,\"<>\"&\"\")+2),ROUNDUP(ROW(A188)/COUNTIF($H$2:$AI$2,\"<>\"&\"\"),0),MOD(ROW(A188)-1,COUNTIF($H$2:$AI$2,\"<>\"&\"\"))+1),\"\")","v":"R LIK"}]
[{"$f":"IFERROR(INDEX($H$3:INDIRECT(\"T\"&COUNTIF($G$3:$G$100,\"<>\"&\"\")+2),ROUNDUP(ROW(A189)/COUNTIF($H$2:$AI$2,\"<>\"&\"\"),0),MOD(ROW(A189)-1,COUNTIF($H$2:$AI$2,\"<>\"&\"\"))+1),\"\")","v":"R GLA"}]
[{"$f":"IFERROR(INDEX($H$3:INDIRECT(\"T\"&COUNTIF($G$3:$G$100,\"<>\"&\"\")+2),ROUNDUP(ROW(A190)/COUNTIF($H$2:$AI$2,\"<>\"&\"\"),0),MOD(ROW(A190)-1,COUNTIF($H$2:$AI$2,\"<>\"&\"\"))+1),\"\")","v":"R TEL"}]
[{"$f":"IFERROR(INDEX($H$3:INDIRECT(\"T\"&COUNTIF($G$3:$G$100,\"<>\"&\"\")+2),ROUNDUP(ROW(A191)/COUNTIF($H$2:$AI$2,\"<>\"&\"\"),0),MOD(ROW(A191)-1,COUNTIF($H$2:$AI$2,\"<>\"&\"\"))+1),\"\")","v":"R VER"}]
[{"$f":"IFERROR(INDEX($H$3:INDIRECT(\"T\"&COUNTIF($G$3:$G$100,\"<>\"&\"\")+2),ROUNDUP(ROW(A192)/COUNTIF($H$2:$AI$2,\"<>\"&\"\"),0),MOD(ROW(A192)-1,COUNTIF($H$2:$AI$2,\"<>\"&\"\"))+1),\"\")","v":"R SOP"}]
[{"$f":"IFERROR(INDEX($H$3:INDIRECT(\"T\"&COUNTIF($G$3:$G$100,\"<>\"&\"\")+2),ROUNDUP(ROW(A193)/COUNTIF($H$2:$AI$2,\"<>\"&\"\"),0),MOD(ROW(A193)-1,COUNTIF($H$2:$AI$2,\"<>\"&\"\"))+1),\"\")","v":"S SLO"}]
[{"$f":"IFERROR(INDEX($H$3:INDIRECT(\"T\"&COUNTIF($G$3:$G$100,\"<>\"&\"\")+2),ROUNDUP(ROW(A194)/COUNTIF($H$2:$AI$2,\"<>\"&\"\"),0),MOD(ROW(A194)-1,COUNTIF($H$2:$AI$2,\"<>\"&\"\"))+1),\"\")","v":"S ITA"}]
[{"$f":"IFERROR(INDEX($H$3:INDIRECT(\"T\"&COUNTIF($G$3:$G$100,\"<>\"&\"\")+2),ROUNDUP(ROW(A195)/COUNTIF($H$2:$AI$2,\"<>\"&\"\"),0),MOD(ROW(A195)-1,COUNTIF($H$2:$AI$2,\"<>\"&\"\"))+1),\"\")","v":"S ANG"}]
[{"$f":"IFERROR(INDEX($H$3:INDIRECT(\"T\"&COUNTIF($G$3:$G$100,\"<>\"&\"\")+2),ROUNDUP(ROW(A196)/COUNTIF($H$2:$AI$2,\"<>\"&\"\"),0),MOD(ROW(A196)-1,COUNTIF($H$2:$AI$2,\"<>\"&\"\"))+1),\"\")","v":"S MAT"}]
[{"$f":"IFERROR(INDEX($H$3:INDIRECT(\"T\"&COUNTIF($G$3:$G$100,\"<>\"&\"\")+2),ROUNDUP(ROW(A197)/COUNTIF($H$2:$AI$2,\"<>\"&\"\"),0),MOD(ROW(A197)-1,COUNTIF($H$2:$AI$2,\"<>\"&\"\"))+1),\"\")","v":"S NAR"}]
[{"$f":"IFERROR(INDEX($H$3:INDIRECT(\"T\"&COUNTIF($G$3:$G$100,\"<>\"&\"\")+2),ROUNDUP(ROW(A198)/COUNTIF($H$2:$AI$2,\"<>\"&\"\"),0),MOD(ROW(A198)-1,COUNTIF($H$2:$AI$2,\"<>\"&\"\"))+1),\"\")","v":"S ZGO"}]
[{"$f":"IFERROR(INDEX($H$3:INDIRECT(\"T\"&COUNTIF($G$3:$G$100,\"<>\"&\"\")+2),ROUNDUP(ROW(A199)/COUNTIF($H$2:$AI$2,\"<>\"&\"\"),0),MOD(ROW(A199)-1,COUNTIF($H$2:$AI$2,\"<>\"&\"\"))+1),\"\")","v":"S GEO"}]
[{"$f":"IFERROR(INDEX($H$3:INDIRECT(\"T\"&COUNTIF($G$3:$G$100,\"<>\"&\"\")+2),ROUNDUP(ROW(A200)/COUNTIF($H$2:$AI$2,\"<>\"&\"\"),0),MOD(ROW(A200)-1,COUNTIF($H$2:$AI$2,\"<>\"&\"\"))+1),\"\")","v":"S LIK"}]
[{"$f":"IFERROR(INDEX($H$3:INDIRECT(\"T\"&COUNTIF($G$3:$G$100,\"<>\"&\"\")+2),ROUNDUP(ROW(A201)/COUNTIF($H$2:$AI$2,\"<>\"&\"\"),0),MOD(ROW(A201)-1,COUNTIF($H$2:$AI$2,\"<>\"&\"\"))+1),\"\")","v":"S GLA"}]
[{"$f":"IFERROR(INDEX($H$3:INDIRECT(\"T\"&COUNTIF($G$3:$G$100,\"<>\"&\"\")+2),ROUNDUP(ROW(A202)/COUNTIF($H$2:$AI$2,\"<>\"&\"\"),0),MOD(ROW(A202)-1,COUNTIF($H$2:$AI$2,\"<>\"&\"\"))+1),\"\")","v":"S TEL"}]
[{"$f":"IFERROR(INDEX($H$3:INDIRECT(\"T\"&COUNTIF($G$3:$G$100,\"<>\"&\"\")+2),ROUNDUP(ROW(A203)/COUNTIF($H$2:$AI$2,\"<>\"&\"\"),0),MOD(ROW(A203)-1,COUNTIF($H$2:$AI$2,\"<>\"&\"\"))+1),\"\")","v":"S VER"}]
[{"$f":"IFERROR(INDEX($H$3:INDIRECT(\"T\"&COUNTIF($G$3:$G$100,\"<>\"&\"\")+2),ROUNDUP(ROW(A204)/COUNTIF($H$2:$AI$2,\"<>\"&\"\"),0),MOD(ROW(A204)-1,COUNTIF($H$2:$AI$2,\"<>\"&\"\"))+1),\"\")","v":"S SOP"}]
[{"$f":"IFERROR(INDEX($H$3:INDIRECT(\"T\"&COUNTIF($G$3:$G$100,\"<>\"&\"\")+2),ROUNDUP(ROW(A205)/COUNTIF($H$2:$AI$2,\"<>\"&\"\"),0),MOD(ROW(A205)-1,COUNTIF($H$2:$AI$2,\"<>\"&\"\"))+1),\"\")","v":"T SLO"}]
[{"$f":"IFERROR(INDEX($H$3:INDIRECT(\"T\"&COUNTIF($G$3:$G$100,\"<>\"&\"\")+2),ROUNDUP(ROW(A206)/COUNTIF($H$2:$AI$2,\"<>\"&\"\"),0),MOD(ROW(A206)-1,COUNTIF($H$2:$AI$2,\"<>\"&\"\"))+1),\"\")","v":"T ITA"}]
[{"$f":"IFERROR(INDEX($H$3:INDIRECT(\"T\"&COUNTIF($G$3:$G$100,\"<>\"&\"\")+2),ROUNDUP(ROW(A207)/COUNTIF($H$2:$AI$2,\"<>\"&\"\"),0),MOD(ROW(A207)-1,COUNTIF($H$2:$AI$2,\"<>\"&\"\"))+1),\"\")","v":"T ANG"}]
[{"$f":"IFERROR(INDEX($H$3:INDIRECT(\"T\"&COUNTIF($G$3:$G$100,\"<>\"&\"\")+2),ROUNDUP(ROW(A208)/COUNTIF($H$2:$AI$2,\"<>\"&\"\"),0),MOD(ROW(A208)-1,COUNTIF($H$2:$AI$2,\"<>\"&\"\"))+1),\"\")","v":"T MAT"}]
[{"$f":"IFERROR(INDEX($H$3:INDIRECT(\"T\"&COUNTIF($G$3:$G$100,\"<>\"&\"\")+2),ROUNDUP(ROW(A209)/COUNTIF($H$2:$AI$2,\"<>\"&\"\"),0),MOD(ROW(A209)-1,COUNTIF($H$2:$AI$2,\"<>\"&\"\"))+1),\"\")","v":"T NAR"}]
[{"$f":"IFERROR(INDEX($H$3:INDIRECT(\"T\"&COUNTIF($G$3:$G$100,\"<>\"&\"\")+2),ROUNDUP(ROW(A210)/COUNTIF($H$2:$AI$2,\"<>\"&\"\"),0),MOD(ROW(A210)-1,COUNTIF($H$2:$AI$2,\"<>\"&\"\"))+1),\"\")","v":"T ZGO"}]
[{"$f":"IFERROR(INDEX($H$3:INDIRECT(\"T\"&COUNTIF($G$3:$G$100,\"<>\"&\"\")+2),ROUNDUP(ROW(A211)/COUNTIF($H$2:$AI$2,\"<>\"&\"\"),0),MOD(ROW(A211)-1,COUNTIF($H$2:$AI$2,\"<>\"&\"\"))+1),\"\")","v":"T GEO"}]
[{"$f":"IFERROR(INDEX($H$3:INDIRECT(\"T\"&COUNTIF($G$3:$G$100,\"<>\"&\"\")+2),ROUNDUP(ROW(A212)/COUNTIF($H$2:$AI$2,\"<>\"&\"\"),0),MOD(ROW(A212)-1,COUNTIF($H$2:$AI$2,\"<>\"&\"\"))+1),\"\")","v":"T LIK"}]
[{"$f":"IFERROR(INDEX($H$3:INDIRECT(\"T\"&COUNTIF($G$3:$G$100,\"<>\"&\"\")+2),ROUNDUP(ROW(A213)/COUNTIF($H$2:$AI$2,\"<>\"&\"\"),0),MOD(ROW(A213)-1,COUNTIF($H$2:$AI$2,\"<>\"&\"\"))+1),\"\")","v":"T GLA"}]
[{"$f":"IFERROR(INDEX($H$3:INDIRECT(\"T\"&COUNTIF($G$3:$G$100,\"<>\"&\"\")+2),ROUNDUP(ROW(A214)/COUNTIF($H$2:$AI$2,\"<>\"&\"\"),0),MOD(ROW(A214)-1,COUNTIF($H$2:$AI$2,\"<>\"&\"\"))+1),\"\")","v":"T TEL"}]
[{"$f":"IFERROR(INDEX($H$3:INDIRECT(\"T\"&COUNTIF($G$3:$G$100,\"<>\"&\"\")+2),ROUNDUP(ROW(A215)/COUNTIF($H$2:$AI$2,\"<>\"&\"\"),0),MOD(ROW(A215)-1,COUNTIF($H$2:$AI$2,\"<>\"&\"\"))+1),\"\")","v":"T VER"}]
[{"$f":"IFERROR(INDEX($H$3:INDIRECT(\"T\"&COUNTIF($G$3:$G$100,\"<>\"&\"\")+2),ROUNDUP(ROW(A216)/COUNTIF($H$2:$AI$2,\"<>\"&\"\"),0),MOD(ROW(A216)-1,COUNTIF($H$2:$AI$2,\"<>\"&\"\"))+1),\"\")","v":"T SOP"}]
[{"$f":"IFERROR(INDEX($H$3:INDIRECT(\"T\"&COUNTIF($G$3:$G$100,\"<>\"&\"\")+2),ROUNDUP(ROW(A217)/COUNTIF($H$2:$AI$2,\"<>\"&\"\"),0),MOD(ROW(A217)-1,COUNTIF($H$2:$AI$2,\"<>\"&\"\"))+1),\"\")","v":"U SLO"}]
[{"$f":"IFERROR(INDEX($H$3:INDIRECT(\"T\"&COUNTIF($G$3:$G$100,\"<>\"&\"\")+2),ROUNDUP(ROW(A218)/COUNTIF($H$2:$AI$2,\"<>\"&\"\"),0),MOD(ROW(A218)-1,COUNTIF($H$2:$AI$2,\"<>\"&\"\"))+1),\"\")","v":"U ITA"}]
[{"$f":"IFERROR(INDEX($H$3:INDIRECT(\"T\"&COUNTIF($G$3:$G$100,\"<>\"&\"\")+2),ROUNDUP(ROW(A219)/COUNTIF($H$2:$AI$2,\"<>\"&\"\"),0),MOD(ROW(A219)-1,COUNTIF($H$2:$AI$2,\"<>\"&\"\"))+1),\"\")","v":"U ANG"}]
[{"$f":"IFERROR(INDEX($H$3:INDIRECT(\"T\"&COUNTIF($G$3:$G$100,\"<>\"&\"\")+2),ROUNDUP(ROW(A220)/COUNTIF($H$2:$AI$2,\"<>\"&\"\"),0),MOD(ROW(A220)-1,COUNTIF($H$2:$AI$2,\"<>\"&\"\"))+1),\"\")","v":"U MAT"}]
[{"$f":"IFERROR(INDEX($H$3:INDIRECT(\"T\"&COUNTIF($G$3:$G$100,\"<>\"&\"\")+2),ROUNDUP(ROW(A221)/COUNTIF($H$2:$AI$2,\"<>\"&\"\"),0),MOD(ROW(A221)-1,COUNTIF($H$2:$AI$2,\"<>\"&\"\"))+1),\"\")","v":"U NAR"}]
[{"$f":"IFERROR(INDEX($H$3:INDIRECT(\"T\"&COUNTIF($G$3:$G$100,\"<>\"&\"\")+2),ROUNDUP(ROW(A222)/COUNTIF($H$2:$AI$2,\"<>\"&\"\"),0),MOD(ROW(A222)-1,COUNTIF($H$2:$AI$2,\"<>\"&\"\"))+1),\"\")","v":"U ZGO"}]
[{"$f":"IFERROR(INDEX($H$3:INDIRECT(\"T\"&COUNTIF($G$3:$G$100,\"<>\"&\"\")+2),ROUNDUP(ROW(A223)/COUNTIF($H$2:$AI$2,\"<>\"&\"\"),0),MOD(ROW(A223)-1,COUNTIF($H$2:$AI$2,\"<>\"&\"\"))+1),\"\")","v":"U GEO"}]
[{"$f":"IFERROR(INDEX($H$3:INDIRECT(\"T\"&COUNTIF($G$3:$G$100,\"<>\"&\"\")+2),ROUNDUP(ROW(A224)/COUNTIF($H$2:$AI$2,\"<>\"&\"\"),0),MOD(ROW(A224)-1,COUNTIF($H$2:$AI$2,\"<>\"&\"\"))+1),\"\")","v":"U LIK"}]
[{"$f":"IFERROR(INDEX($H$3:INDIRECT(\"T\"&COUNTIF($G$3:$G$100,\"<>\"&\"\")+2),ROUNDUP(ROW(A225)/COUNTIF($H$2:$AI$2,\"<>\"&\"\"),0),MOD(ROW(A225)-1,COUNTIF($H$2:$AI$2,\"<>\"&\"\"))+1),\"\")","v":"U GLA"}]
[{"$f":"IFERROR(INDEX($H$3:INDIRECT(\"T\"&COUNTIF($G$3:$G$100,\"<>\"&\"\")+2),ROUNDUP(ROW(A226)/COUNTIF($H$2:$AI$2,\"<>\"&\"\"),0),MOD(ROW(A226)-1,COUNTIF($H$2:$AI$2,\"<>\"&\"\"))+1),\"\")","v":"U TEL"}]
[{"$f":"IFERROR(INDEX($H$3:INDIRECT(\"T\"&COUNTIF($G$3:$G$100,\"<>\"&\"\")+2),ROUNDUP(ROW(A227)/COUNTIF($H$2:$AI$2,\"<>\"&\"\"),0),MOD(ROW(A227)-1,COUNTIF($H$2:$AI$2,\"<>\"&\"\"))+1),\"\")","v":"U VER"}]
[{"$f":"IFERROR(INDEX($H$3:INDIRECT(\"T\"&COUNTIF($G$3:$G$100,\"<>\"&\"\")+2),ROUNDUP(ROW(A228)/COUNTIF($H$2:$AI$2,\"<>\"&\"\"),0),MOD(ROW(A228)-1,COUNTIF($H$2:$AI$2,\"<>\"&\"\"))+1),\"\")","v":"U SOP"}]
[{"$f":"IFERROR(INDEX($H$3:INDIRECT(\"T\"&COUNTIF($G$3:$G$100,\"<>\"&\"\")+2),ROUNDUP(ROW(A229)/COUNTIF($H$2:$AI$2,\"<>\"&\"\"),0),MOD(ROW(A229)-1,COUNTIF($H$2:$AI$2,\"<>\"&\"\"))+1),\"\")","v":"V SLO"}]
[{"$f":"IFERROR(INDEX($H$3:INDIRECT(\"T\"&COUNTIF($G$3:$G$100,\"<>\"&\"\")+2),ROUNDUP(ROW(A230)/COUNTIF($H$2:$AI$2,\"<>\"&\"\"),0),MOD(ROW(A230)-1,COUNTIF($H$2:$AI$2,\"<>\"&\"\"))+1),\"\")","v":"V ITA"}]
[{"$f":"IFERROR(INDEX($H$3:INDIRECT(\"T\"&COUNTIF($G$3:$G$100,\"<>\"&\"\")+2),ROUNDUP(ROW(A231)/COUNTIF($H$2:$AI$2,\"<>\"&\"\"),0),MOD(ROW(A231)-1,COUNTIF($H$2:$AI$2,\"<>\"&\"\"))+1),\"\")","v":"V ANG"}]
[{"$f":"IFERROR(INDEX($H$3:INDIRECT(\"T\"&COUNTIF($G$3:$G$100,\"<>\"&\"\")+2),ROUNDUP(ROW(A232)/COUNTIF($H$2:$AI$2,\"<>\"&\"\"),0),MOD(ROW(A232)-1,COUNTIF($H$2:$AI$2,\"<>\"&\"\"))+1),\"\")","v":"V MAT"}]
[{"$f":"IFERROR(INDEX($H$3:INDIRECT(\"T\"&COUNTIF($G$3:$G$100,\"<>\"&\"\")+2),ROUNDUP(ROW(A233)/COUNTIF($H$2:$AI$2,\"<>\"&\"\"),0),MOD(ROW(A233)-1,COUNTIF($H$2:$AI$2,\"<>\"&\"\"))+1),\"\")","v":"V NAR"}]
[{"$f":"IFERROR(INDEX($H$3:INDIRECT(\"T\"&COUNTIF($G$3:$G$100,\"<>\"&\"\")+2),ROUNDUP(ROW(A234)/COUNTIF($H$2:$AI$2,\"<>\"&\"\"),0),MOD(ROW(A234)-1,COUNTIF($H$2:$AI$2,\"<>\"&\"\"))+1),\"\")","v":"V ZGO"}]
[{"$f":"IFERROR(INDEX($H$3:INDIRECT(\"T\"&COUNTIF($G$3:$G$100,\"<>\"&\"\")+2),ROUNDUP(ROW(A235)/COUNTIF($H$2:$AI$2,\"<>\"&\"\"),0),MOD(ROW(A235)-1,COUNTIF($H$2:$AI$2,\"<>\"&\"\"))+1),\"\")","v":"V GEO"}]
[{"$f":"IFERROR(INDEX($H$3:INDIRECT(\"T\"&COUNTIF($G$3:$G$100,\"<>\"&\"\")+2),ROUNDUP(ROW(A236)/COUNTIF($H$2:$AI$2,\"<>\"&\"\"),0),MOD(ROW(A236)-1,COUNTIF($H$2:$AI$2,\"<>\"&\"\"))+1),\"\")","v":"V LIK"}]
[{"$f":"IFERROR(INDEX($H$3:INDIRECT(\"T\"&COUNTIF($G$3:$G$100,\"<>\"&\"\")+2),ROUNDUP(ROW(A237)/COUNTIF($H$2:$AI$2,\"<>\"&\"\"),0),MOD(ROW(A237)-1,COUNTIF($H$2:$AI$2,\"<>\"&\"\"))+1),\"\")","v":"V GLA"}]
[{"$f":"IFERROR(INDEX($H$3:INDIRECT(\"T\"&COUNTIF($G$3:$G$100,\"<>\"&\"\")+2),ROUNDUP(ROW(A238)/COUNTIF($H$2:$AI$2,\"<>\"&\"\"),0),MOD(ROW(A238)-1,COUNTIF($H$2:$AI$2,\"<>\"&\"\"))+1),\"\")","v":"V TEL"}]
[{"$f":"IFERROR(INDEX($H$3:INDIRECT(\"T\"&COUNTIF($G$3:$G$100,\"<>\"&\"\")+2),ROUNDUP(ROW(A239)/COUNTIF($H$2:$AI$2,\"<>\"&\"\"),0),MOD(ROW(A239)-1,COUNTIF($H$2:$AI$2,\"<>\"&\"\"))+1),\"\")","v":"V VER"}]
[{"$f":"IFERROR(INDEX($H$3:INDIRECT(\"T\"&COUNTIF($G$3:$G$100,\"<>\"&\"\")+2),ROUNDUP(ROW(A240)/COUNTIF($H$2:$AI$2,\"<>\"&\"\"),0),MOD(ROW(A240)-1,COUNTIF($H$2:$AI$2,\"<>\"&\"\"))+1),\"\")","v":"V SOP"}]
[{"$f":"IFERROR(INDEX($H$3:INDIRECT(\"T\"&COUNTIF($G$3:$G$100,\"<>\"&\"\")+2),ROUNDUP(ROW(A241)/COUNTIF($H$2:$AI$2,\"<>\"&\"\"),0),MOD(ROW(A241)-1,COUNTIF($H$2:$AI$2,\"<>\"&\"\"))+1),\"\")","v":"X SLO"}]
[{"$f":"IFERROR(INDEX($H$3:INDIRECT(\"T\"&COUNTIF($G$3:$G$100,\"<>\"&\"\")+2),ROUNDUP(ROW(A242)/COUNTIF($H$2:$AI$2,\"<>\"&\"\"),0),MOD(ROW(A242)-1,COUNTIF($H$2:$AI$2,\"<>\"&\"\"))+1),\"\")","v":"X ITA"}]
[{"$f":"IFERROR(INDEX($H$3:INDIRECT(\"T\"&COUNTIF($G$3:$G$100,\"<>\"&\"\")+2),ROUNDUP(ROW(A243)/COUNTIF($H$2:$AI$2,\"<>\"&\"\"),0),MOD(ROW(A243)-1,COUNTIF($H$2:$AI$2,\"<>\"&\"\"))+1),\"\")","v":"X ANG"}]
[{"$f":"IFERROR(INDEX($H$3:INDIRECT(\"T\"&COUNTIF($G$3:$G$100,\"<>\"&\"\")+2),ROUNDUP(ROW(A244)/COUNTIF($H$2:$AI$2,\"<>\"&\"\"),0),MOD(ROW(A244)-1,COUNTIF($H$2:$AI$2,\"<>\"&\"\"))+1),\"\")","v":"X MAT"}]
[{"$f":"IFERROR(INDEX($H$3:INDIRECT(\"T\"&COUNTIF($G$3:$G$100,\"<>\"&\"\")+2),ROUNDUP(ROW(A245)/COUNTIF($H$2:$AI$2,\"<>\"&\"\"),0),MOD(ROW(A245)-1,COUNTIF($H$2:$AI$2,\"<>\"&\"\"))+1),\"\")","v":"X NAR"}]
[{"$f":"IFERROR(INDEX($H$3:INDIRECT(\"T\"&COUNTIF($G$3:$G$100,\"<>\"&\"\")+2),ROUNDUP(ROW(A246)/COUNTIF($H$2:$AI$2,\"<>\"&\"\"),0),MOD(ROW(A246)-1,COUNTIF($H$2:$AI$2,\"<>\"&\"\"))+1),\"\")","v":"X ZGO"}]
[{"$f":"IFERROR(INDEX($H$3:INDIRECT(\"T\"&COUNTIF($G$3:$G$100,\"<>\"&\"\")+2),ROUNDUP(ROW(A247)/COUNTIF($H$2:$AI$2,\"<>\"&\"\"),0),MOD(ROW(A247)-1,COUNTIF($H$2:$AI$2,\"<>\"&\"\"))+1),\"\")","v":"X GEO"}]
[{"$f":"IFERROR(INDEX($H$3:INDIRECT(\"T\"&COUNTIF($G$3:$G$100,\"<>\"&\"\")+2),ROUNDUP(ROW(A248)/COUNTIF($H$2:$AI$2,\"<>\"&\"\"),0),MOD(ROW(A248)-1,COUNTIF($H$2:$AI$2,\"<>\"&\"\"))+1),\"\")","v":"X LIK"}]
[{"$f":"IFERROR(INDEX($H$3:INDIRECT(\"T\"&COUNTIF($G$3:$G$100,\"<>\"&\"\")+2),ROUNDUP(ROW(A249)/COUNTIF($H$2:$AI$2,\"<>\"&\"\"),0),MOD(ROW(A249)-1,COUNTIF($H$2:$AI$2,\"<>\"&\"\"))+1),\"\")","v":"X GLA"}]
[{"$f":"IFERROR(INDEX($H$3:INDIRECT(\"T\"&COUNTIF($G$3:$G$100,\"<>\"&\"\")+2),ROUNDUP(ROW(A250)/COUNTIF($H$2:$AI$2,\"<>\"&\"\"),0),MOD(ROW(A250)-1,COUNTIF($H$2:$AI$2,\"<>\"&\"\"))+1),\"\")","v":"X TEL"}]
[{"$f":"IFERROR(INDEX($H$3:INDIRECT(\"T\"&COUNTIF($G$3:$G$100,\"<>\"&\"\")+2),ROUNDUP(ROW(A251)/COUNTIF($H$2:$AI$2,\"<>\"&\"\"),0),MOD(ROW(A251)-1,COUNTIF($H$2:$AI$2,\"<>\"&\"\"))+1),\"\")","v":"X VER"}]
[{"$f":"IFERROR(INDEX($H$3:INDIRECT(\"T\"&COUNTIF($G$3:$G$100,\"<>\"&\"\")+2),ROUNDUP(ROW(A252)/COUNTIF($H$2:$AI$2,\"<>\"&\"\"),0),MOD(ROW(A252)-1,COUNTIF($H$2:$AI$2,\"<>\"&\"\"))+1),\"\")","v":"X SOP"}]
[{"$f":"IFERROR(INDEX($H$3:INDIRECT(\"T\"&COUNTIF($G$3:$G$100,\"<>\"&\"\")+2),ROUNDUP(ROW(A253)/COUNTIF($H$2:$AI$2,\"<>\"&\"\"),0),MOD(ROW(A253)-1,COUNTIF($H$2:$AI$2,\"<>\"&\"\"))+1),\"\")","v":"Y SLO"}]
[{"$f":"IFERROR(INDEX($H$3:INDIRECT(\"T\"&COUNTIF($G$3:$G$100,\"<>\"&\"\")+2),ROUNDUP(ROW(A254)/COUNTIF($H$2:$AI$2,\"<>\"&\"\"),0),MOD(ROW(A254)-1,COUNTIF($H$2:$AI$2,\"<>\"&\"\"))+1),\"\")","v":"Y ITA"}]
[{"$f":"IFERROR(INDEX($H$3:INDIRECT(\"T\"&COUNTIF($G$3:$G$100,\"<>\"&\"\")+2),ROUNDUP(ROW(A255)/COUNTIF($H$2:$AI$2,\"<>\"&\"\"),0),MOD(ROW(A255)-1,COUNTIF($H$2:$AI$2,\"<>\"&\"\"))+1),\"\")","v":"Y ANG"}]
[{"$f":"IFERROR(INDEX($H$3:INDIRECT(\"T\"&COUNTIF($G$3:$G$100,\"<>\"&\"\")+2),ROUNDUP(ROW(A256)/COUNTIF($H$2:$AI$2,\"<>\"&\"\"),0),MOD(ROW(A256)-1,COUNTIF($H$2:$AI$2,\"<>\"&\"\"))+1),\"\")","v":"Y MAT"}]
[{"$f":"IFERROR(INDEX($H$3:INDIRECT(\"T\"&COUNTIF($G$3:$G$100,\"<>\"&\"\")+2),ROUNDUP(ROW(A257)/COUNTIF($H$2:$AI$2,\"<>\"&\"\"),0),MOD(ROW(A257)-1,COUNTIF($H$2:$AI$2,\"<>\"&\"\"))+1),\"\")","v":"Y NAR"}]
[{"$f":"IFERROR(INDEX($H$3:INDIRECT(\"T\"&COUNTIF($G$3:$G$100,\"<>\"&\"\")+2),ROUNDUP(ROW(A258)/COUNTIF($H$2:$AI$2,\"<>\"&\"\"),0),MOD(ROW(A258)-1,COUNTIF($H$2:$AI$2,\"<>\"&\"\"))+1),\"\")","v":"Y ZGO"}]
[{"$f":"IFERROR(INDEX($H$3:INDIRECT(\"T\"&COUNTIF($G$3:$G$100,\"<>\"&\"\")+2),ROUNDUP(ROW(A259)/COUNTIF($H$2:$AI$2,\"<>\"&\"\"),0),MOD(ROW(A259)-1,COUNTIF($H$2:$AI$2,\"<>\"&\"\"))+1),\"\")","v":"Y GEO"}]
[{"$f":"IFERROR(INDEX($H$3:INDIRECT(\"T\"&COUNTIF($G$3:$G$100,\"<>\"&\"\")+2),ROUNDUP(ROW(A260)/COUNTIF($H$2:$AI$2,\"<>\"&\"\"),0),MOD(ROW(A260)-1,COUNTIF($H$2:$AI$2,\"<>\"&\"\"))+1),\"\")","v":"Y LIK"}]
[{"$f":"IFERROR(INDEX($H$3:INDIRECT(\"T\"&COUNTIF($G$3:$G$100,\"<>\"&\"\")+2),ROUNDUP(ROW(A261)/COUNTIF($H$2:$AI$2,\"<>\"&\"\"),0),MOD(ROW(A261)-1,COUNTIF($H$2:$AI$2,\"<>\"&\"\"))+1),\"\")","v":"Y GLA"}]
[{"$f":"IFERROR(INDEX($H$3:INDIRECT(\"T\"&COUNTIF($G$3:$G$100,\"<>\"&\"\")+2),ROUNDUP(ROW(A262)/COUNTIF($H$2:$AI$2,\"<>\"&\"\"),0),MOD(ROW(A262)-1,COUNTIF($H$2:$AI$2,\"<>\"&\"\"))+1),\"\")","v":"Y TEL"}]
[{"$f":"IFERROR(INDEX($H$3:INDIRECT(\"T\"&COUNTIF($G$3:$G$100,\"<>\"&\"\")+2),ROUNDUP(ROW(A263)/COUNTIF($H$2:$AI$2,\"<>\"&\"\"),0),MOD(ROW(A263)-1,COUNTIF($H$2:$AI$2,\"<>\"&\"\"))+1),\"\")","v":"Y VER"}]
[{"$f":"IFERROR(INDEX($H$3:INDIRECT(\"T\"&COUNTIF($G$3:$G$100,\"<>\"&\"\")+2),ROUNDUP(ROW(A264)/COUNTIF($H$2:$AI$2,\"<>\"&\"\"),0),MOD(ROW(A264)-1,COUNTIF($H$2:$AI$2,\"<>\"&\"\"))+1),\"\")","v":"Y SOP"}]
[{"$f":"IFERROR(INDEX($H$3:INDIRECT(\"T\"&COUNTIF($G$3:$G$100,\"<>\"&\"\")+2),ROUNDUP(ROW(A265)/COUNTIF($H$2:$AI$2,\"<>\"&\"\"),0),MOD(ROW(A265)-1,COUNTIF($H$2:$AI$2,\"<>\"&\"\"))+1),\"\")","v":"Z SLO"}]
[{"$f":"IFERROR(INDEX($H$3:INDIRECT(\"T\"&COUNTIF($G$3:$G$100,\"<>\"&\"\")+2),ROUNDUP(ROW(A266)/COUNTIF($H$2:$AI$2,\"<>\"&\"\"),0),MOD(ROW(A266)-1,COUNTIF($H$2:$AI$2,\"<>\"&\"\"))+1),\"\")","v":"Z ITA"}]
[{"$f":"IFERROR(INDEX($H$3:INDIRECT(\"T\"&COUNTIF($G$3:$G$100,\"<>\"&\"\")+2),ROUNDUP(ROW(A267)/COUNTIF($H$2:$AI$2,\"<>\"&\"\"),0),MOD(ROW(A267)-1,COUNTIF($H$2:$AI$2,\"<>\"&\"\"))+1),\"\")","v":"Z ANG"}]
[{"$f":"IFERROR(INDEX($H$3:INDIRECT(\"T\"&COUNTIF($G$3:$G$100,\"<>\"&\"\")+2),ROUNDUP(ROW(A268)/COUNTIF($H$2:$AI$2,\"<>\"&\"\"),0),MOD(ROW(A268)-1,COUNTIF($H$2:$AI$2,\"<>\"&\"\"))+1),\"\")","v":"Z MAT"}]
[{"$f":"IFERROR(INDEX($H$3:INDIRECT(\"T\"&COUNTIF($G$3:$G$100,\"<>\"&\"\")+2),ROUNDUP(ROW(A269)/COUNTIF($H$2:$AI$2,\"<>\"&\"\"),0),MOD(ROW(A269)-1,COUNTIF($H$2:$AI$2,\"<>\"&\"\"))+1),\"\")","v":"Z NAR"}]
[{"$f":"IFERROR(INDEX($H$3:INDIRECT(\"T\"&COUNTIF($G$3:$G$100,\"<>\"&\"\")+2),ROUNDUP(ROW(A270)/COUNTIF($H$2:$AI$2,\"<>\"&\"\"),0),MOD(ROW(A270)-1,COUNTIF($H$2:$AI$2,\"<>\"&\"\"))+1),\"\")","v":"Z ZGO"}]
[{"$f":"IFERROR(INDEX($H$3:INDIRECT(\"T\"&COUNTIF($G$3:$G$100,\"<>\"&\"\")+2),ROUNDUP(ROW(A271)/COUNTIF($H$2:$AI$2,\"<>\"&\"\"),0),MOD(ROW(A271)-1,COUNTIF($H$2:$AI$2,\"<>\"&\"\"))+1),\"\")","v":"Z GEO"}]
[{"$f":"IFERROR(INDEX($H$3:INDIRECT(\"T\"&COUNTIF($G$3:$G$100,\"<>\"&\"\")+2),ROUNDUP(ROW(A272)/COUNTIF($H$2:$AI$2,\"<>\"&\"\"),0),MOD(ROW(A272)-1,COUNTIF($H$2:$AI$2,\"<>\"&\"\"))+1),\"\")","v":"Z LIK"}]
[{"$f":"IFERROR(INDEX($H$3:INDIRECT(\"T\"&COUNTIF($G$3:$G$100,\"<>\"&\"\")+2),ROUNDUP(ROW(A273)/COUNTIF($H$2:$AI$2,\"<>\"&\"\"),0),MOD(ROW(A273)-1,COUNTIF($H$2:$AI$2,\"<>\"&\"\"))+1),\"\")","v":"Z GLA"}]
[{"$f":"IFERROR(INDEX($H$3:INDIRECT(\"T\"&COUNTIF($G$3:$G$100,\"<>\"&\"\")+2),ROUNDUP(ROW(A274)/COUNTIF($H$2:$AI$2,\"<>\"&\"\"),0),MOD(ROW(A274)-1,COUNTIF($H$2:$AI$2,\"<>\"&\"\"))+1),\"\")","v":"Z TEL"}]
[{"$f":"IFERROR(INDEX($H$3:INDIRECT(\"T\"&COUNTIF($G$3:$G$100,\"<>\"&\"\")+2),ROUNDUP(ROW(A275)/COUNTIF($H$2:$AI$2,\"<>\"&\"\"),0),MOD(ROW(A275)-1,COUNTIF($H$2:$AI$2,\"<>\"&\"\"))+1),\"\")","v":"Z VER"}]
[{"$f":"IFERROR(INDEX($H$3:INDIRECT(\"T\"&COUNTIF($G$3:$G$100,\"<>\"&\"\")+2),ROUNDUP(ROW(A276)/COUNTIF($H$2:$AI$2,\"<>\"&\"\"),0),MOD(ROW(A276)-1,COUNTIF($H$2:$AI$2,\"<>\"&\"\"))+1),\"\")","v":"Z SOP"}]
[{"$f":"IFERROR(INDEX($H$3:INDIRECT(\"T\"&COUNTIF($G$3:$G$100,\"<>\"&\"\")+2),ROUNDUP(ROW(A277)/COUNTIF($H$2:$AI$2,\"<>\"&\"\"),0),MOD(ROW(A277)-1,COUNTIF($H$2:$AI$2,\"<>\"&\"\"))+1),\"\")","v":""}]
[{"$f":"IFERROR(INDEX($H$3:INDIRECT(\"T\"&COUNTIF($G$3:$G$100,\"<>\"&\"\")+2),ROUNDUP(ROW(A278)/COUNTIF($H$2:$AI$2,\"<>\"&\"\"),0),MOD(ROW(A278)-1,COUNTIF($H$2:$AI$2,\"<>\"&\"\"))+1),\"\")","v":""}]
[{"$f":"IFERROR(INDEX($H$3:INDIRECT(\"T\"&COUNTIF($G$3:$G$100,\"<>\"&\"\")+2),ROUNDUP(ROW(A279)/COUNTIF($H$2:$AI$2,\"<>\"&\"\"),0),MOD(ROW(A279)-1,COUNTIF($H$2:$AI$2,\"<>\"&\"\"))+1),\"\")","v":""}]
[{"$f":"IFERROR(INDEX($H$3:INDIRECT(\"T\"&COUNTIF($G$3:$G$100,\"<>\"&\"\")+2),ROUNDUP(ROW(A280)/COUNTIF($H$2:$AI$2,\"<>\"&\"\"),0),MOD(ROW(A280)-1,COUNTIF($H$2:$AI$2,\"<>\"&\"\"))+1),\"\")","v":""}]
[{"$f":"IFERROR(INDEX($H$3:INDIRECT(\"T\"&COUNTIF($G$3:$G$100,\"<>\"&\"\")+2),ROUNDUP(ROW(A281)/COUNTIF($H$2:$AI$2,\"<>\"&\"\"),0),MOD(ROW(A281)-1,COUNTIF($H$2:$AI$2,\"<>\"&\"\"))+1),\"\")","v":""}]
[{"$f":"IFERROR(INDEX($H$3:INDIRECT(\"T\"&COUNTIF($G$3:$G$100,\"<>\"&\"\")+2),ROUNDUP(ROW(A282)/COUNTIF($H$2:$AI$2,\"<>\"&\"\"),0),MOD(ROW(A282)-1,COUNTIF($H$2:$AI$2,\"<>\"&\"\"))+1),\"\")","v":""}]
[{"$f":"IFERROR(INDEX($H$3:INDIRECT(\"T\"&COUNTIF($G$3:$G$100,\"<>\"&\"\")+2),ROUNDUP(ROW(A283)/COUNTIF($H$2:$AI$2,\"<>\"&\"\"),0),MOD(ROW(A283)-1,COUNTIF($H$2:$AI$2,\"<>\"&\"\"))+1),\"\")","v":""}]
[{"$f":"IFERROR(INDEX($H$3:INDIRECT(\"T\"&COUNTIF($G$3:$G$100,\"<>\"&\"\")+2),ROUNDUP(ROW(A284)/COUNTIF($H$2:$AI$2,\"<>\"&\"\"),0),MOD(ROW(A284)-1,COUNTIF($H$2:$AI$2,\"<>\"&\"\"))+1),\"\")","v":""}]
[{"$f":"IFERROR(INDEX($H$3:INDIRECT(\"T\"&COUNTIF($G$3:$G$100,\"<>\"&\"\")+2),ROUNDUP(ROW(A285)/COUNTIF($H$2:$AI$2,\"<>\"&\"\"),0),MOD(ROW(A285)-1,COUNTIF($H$2:$AI$2,\"<>\"&\"\"))+1),\"\")","v":""}]
[{"$f":"IFERROR(INDEX($H$3:INDIRECT(\"T\"&COUNTIF($G$3:$G$100,\"<>\"&\"\")+2),ROUNDUP(ROW(A286)/COUNTIF($H$2:$AI$2,\"<>\"&\"\"),0),MOD(ROW(A286)-1,COUNTIF($H$2:$AI$2,\"<>\"&\"\"))+1),\"\")","v":""}]
[{"$f":"IFERROR(INDEX($H$3:INDIRECT(\"T\"&COUNTIF($G$3:$G$100,\"<>\"&\"\")+2),ROUNDUP(ROW(A287)/COUNTIF($H$2:$AI$2,\"<>\"&\"\"),0),MOD(ROW(A287)-1,COUNTIF($H$2:$AI$2,\"<>\"&\"\"))+1),\"\")","v":""}]
[{"$f":"IFERROR(INDEX($H$3:INDIRECT(\"T\"&COUNTIF($G$3:$G$100,\"<>\"&\"\")+2),ROUNDUP(ROW(A288)/COUNTIF($H$2:$AI$2,\"<>\"&\"\"),0),MOD(ROW(A288)-1,COUNTIF($H$2:$AI$2,\"<>\"&\"\"))+1),\"\")","v":""}]
[{"$f":"IFERROR(INDEX($H$3:INDIRECT(\"T\"&COUNTIF($G$3:$G$100,\"<>\"&\"\")+2),ROUNDUP(ROW(A289)/COUNTIF($H$2:$AI$2,\"<>\"&\"\"),0),MOD(ROW(A289)-1,COUNTIF($H$2:$AI$2,\"<>\"&\"\"))+1),\"\")","v":""}]
[{"$f":"IFERROR(INDEX($H$3:INDIRECT(\"T\"&COUNTIF($G$3:$G$100,\"<>\"&\"\")+2),ROUNDUP(ROW(A290)/COUNTIF($H$2:$AI$2,\"<>\"&\"\"),0),MOD(ROW(A290)-1,COUNTIF($H$2:$AI$2,\"<>\"&\"\"))+1),\"\")","v":""}]
[{"$f":"IFERROR(INDEX($H$3:INDIRECT(\"T\"&COUNTIF($G$3:$G$100,\"<>\"&\"\")+2),ROUNDUP(ROW(A291)/COUNTIF($H$2:$AI$2,\"<>\"&\"\"),0),MOD(ROW(A291)-1,COUNTIF($H$2:$AI$2,\"<>\"&\"\"))+1),\"\")","v":""}]
[{"$f":"IFERROR(INDEX($H$3:INDIRECT(\"T\"&COUNTIF($G$3:$G$100,\"<>\"&\"\")+2),ROUNDUP(ROW(A292)/COUNTIF($H$2:$AI$2,\"<>\"&\"\"),0),MOD(ROW(A292)-1,COUNTIF($H$2:$AI$2,\"<>\"&\"\"))+1),\"\")","v":""}]
[{"$f":"IFERROR(INDEX($H$3:INDIRECT(\"T\"&COUNTIF($G$3:$G$100,\"<>\"&\"\")+2),ROUNDUP(ROW(A293)/COUNTIF($H$2:$AI$2,\"<>\"&\"\"),0),MOD(ROW(A293)-1,COUNTIF($H$2:$AI$2,\"<>\"&\"\"))+1),\"\")","v":""}]
[{"$f":"IFERROR(INDEX($H$3:INDIRECT(\"T\"&COUNTIF($G$3:$G$100,\"<>\"&\"\")+2),ROUNDUP(ROW(A294)/COUNTIF($H$2:$AI$2,\"<>\"&\"\"),0),MOD(ROW(A294)-1,COUNTIF($H$2:$AI$2,\"<>\"&\"\"))+1),\"\")","v":""}]
[{"$f":"IFERROR(INDEX($H$3:INDIRECT(\"T\"&COUNTIF($G$3:$G$100,\"<>\"&\"\")+2),ROUNDUP(ROW(A295)/COUNTIF($H$2:$AI$2,\"<>\"&\"\"),0),MOD(ROW(A295)-1,COUNTIF($H$2:$AI$2,\"<>\"&\"\"))+1),\"\")","v":""}]
[{"$f":"IFERROR(INDEX($H$3:INDIRECT(\"T\"&COUNTIF($G$3:$G$100,\"<>\"&\"\")+2),ROUNDUP(ROW(A296)/COUNTIF($H$2:$AI$2,\"<>\"&\"\"),0),MOD(ROW(A296)-1,COUNTIF($H$2:$AI$2,\"<>\"&\"\"))+1),\"\")","v":""}]
[{"$f":"IFERROR(INDEX($H$3:INDIRECT(\"T\"&COUNTIF($G$3:$G$100,\"<>\"&\"\")+2),ROUNDUP(ROW(A297)/COUNTIF($H$2:$AI$2,\"<>\"&\"\"),0),MOD(ROW(A297)-1,COUNTIF($H$2:$AI$2,\"<>\"&\"\"))+1),\"\")","v":""}]
[{"$f":"IFERROR(INDEX($H$3:INDIRECT(\"T\"&COUNTIF($G$3:$G$100,\"<>\"&\"\")+2),ROUNDUP(ROW(A298)/COUNTIF($H$2:$AI$2,\"<>\"&\"\"),0),MOD(ROW(A298)-1,COUNTIF($H$2:$AI$2,\"<>\"&\"\"))+1),\"\")","v":""}]
[{"$f":"IFERROR(INDEX($H$3:INDIRECT(\"T\"&COUNTIF($G$3:$G$100,\"<>\"&\"\")+2),ROUNDUP(ROW(A299)/COUNTIF($H$2:$AI$2,\"<>\"&\"\"),0),MOD(ROW(A299)-1,COUNTIF($H$2:$AI$2,\"<>\"&\"\"))+1),\"\")","v":""}]
[{"$f":"IFERROR(INDEX($H$3:INDIRECT(\"T\"&COUNTIF($G$3:$G$100,\"<>\"&\"\")+2),ROUNDUP(ROW(A300)/COUNTIF($H$2:$AI$2,\"<>\"&\"\"),0),MOD(ROW(A300)-1,COUNTIF($H$2:$AI$2,\"<>\"&\"\"))+1),\"\")","v":""}]
[{"$f":"IFERROR(INDEX($H$3:INDIRECT(\"T\"&COUNTIF($G$3:$G$100,\"<>\"&\"\")+2),ROUNDUP(ROW(A301)/COUNTIF($H$2:$AI$2,\"<>\"&\"\"),0),MOD(ROW(A301)-1,COUNTIF($H$2:$AI$2,\"<>\"&\"\"))+1),\"\")","v":""}]
[{"$f":"IFERROR(INDEX($H$3:INDIRECT(\"T\"&COUNTIF($G$3:$G$100,\"<>\"&\"\")+2),ROUNDUP(ROW(A302)/COUNTIF($H$2:$AI$2,\"<>\"&\"\"),0),MOD(ROW(A302)-1,COUNTIF($H$2:$AI$2,\"<>\"&\"\"))+1),\"\")","v":""}]
[{"$f":"IFERROR(INDEX($H$3:INDIRECT(\"T\"&COUNTIF($G$3:$G$100,\"<>\"&\"\")+2),ROUNDUP(ROW(A303)/COUNTIF($H$2:$AI$2,\"<>\"&\"\"),0),MOD(ROW(A303)-1,COUNTIF($H$2:$AI$2,\"<>\"&\"\"))+1),\"\")","v":""}]
[{"$f":"IFERROR(INDEX($H$3:INDIRECT(\"T\"&COUNTIF($G$3:$G$100,\"<>\"&\"\")+2),ROUNDUP(ROW(A304)/COUNTIF($H$2:$AI$2,\"<>\"&\"\"),0),MOD(ROW(A304)-1,COUNTIF($H$2:$AI$2,\"<>\"&\"\"))+1),\"\")","v":""}]
[{"$f":"IFERROR(INDEX($H$3:INDIRECT(\"T\"&COUNTIF($G$3:$G$100,\"<>\"&\"\")+2),ROUNDUP(ROW(A305)/COUNTIF($H$2:$AI$2,\"<>\"&\"\"),0),MOD(ROW(A305)-1,COUNTIF($H$2:$AI$2,\"<>\"&\"\"))+1),\"\")","v":""}]
[{"$f":"IFERROR(INDEX($H$3:INDIRECT(\"T\"&COUNTIF($G$3:$G$100,\"<>\"&\"\")+2),ROUNDUP(ROW(A306)/COUNTIF($H$2:$AI$2,\"<>\"&\"\"),0),MOD(ROW(A306)-1,COUNTIF($H$2:$AI$2,\"<>\"&\"\"))+1),\"\")","v":""}]
[{"$f":"IFERROR(INDEX($H$3:INDIRECT(\"T\"&COUNTIF($G$3:$G$100,\"<>\"&\"\")+2),ROUNDUP(ROW(A307)/COUNTIF($H$2:$AI$2,\"<>\"&\"\"),0),MOD(ROW(A307)-1,COUNTIF($H$2:$AI$2,\"<>\"&\"\"))+1),\"\")","v":""}]
[{"$f":"IFERROR(INDEX($H$3:INDIRECT(\"T\"&COUNTIF($G$3:$G$100,\"<>\"&\"\")+2),ROUNDUP(ROW(A308)/COUNTIF($H$2:$AI$2,\"<>\"&\"\"),0),MOD(ROW(A308)-1,COUNTIF($H$2:$AI$2,\"<>\"&\"\"))+1),\"\")","v":""}]
[{"$f":"IFERROR(INDEX($H$3:INDIRECT(\"T\"&COUNTIF($G$3:$G$100,\"<>\"&\"\")+2),ROUNDUP(ROW(A309)/COUNTIF($H$2:$AI$2,\"<>\"&\"\"),0),MOD(ROW(A309)-1,COUNTIF($H$2:$AI$2,\"<>\"&\"\"))+1),\"\")","v":""}]
[{"$f":"IFERROR(INDEX($H$3:INDIRECT(\"T\"&COUNTIF($G$3:$G$100,\"<>\"&\"\")+2),ROUNDUP(ROW(A310)/COUNTIF($H$2:$AI$2,\"<>\"&\"\"),0),MOD(ROW(A310)-1,COUNTIF($H$2:$AI$2,\"<>\"&\"\"))+1),\"\")","v":""}]
[{"$f":"IFERROR(INDEX($H$3:INDIRECT(\"T\"&COUNTIF($G$3:$G$100,\"<>\"&\"\")+2),ROUNDUP(ROW(A311)/COUNTIF($H$2:$AI$2,\"<>\"&\"\"),0),MOD(ROW(A311)-1,COUNTIF($H$2:$AI$2,\"<>\"&\"\"))+1),\"\")","v":""}]
[{"$f":"IFERROR(INDEX($H$3:INDIRECT(\"T\"&COUNTIF($G$3:$G$100,\"<>\"&\"\")+2),ROUNDUP(ROW(A312)/COUNTIF($H$2:$AI$2,\"<>\"&\"\"),0),MOD(ROW(A312)-1,COUNTIF($H$2:$AI$2,\"<>\"&\"\"))+1),\"\")","v":""}]
[{"$f":"IFERROR(INDEX($H$3:INDIRECT(\"T\"&COUNTIF($G$3:$G$100,\"<>\"&\"\")+2),ROUNDUP(ROW(A313)/COUNTIF($H$2:$AI$2,\"<>\"&\"\"),0),MOD(ROW(A313)-1,COUNTIF($H$2:$AI$2,\"<>\"&\"\"))+1),\"\")","v":""}]
[{"$f":"IFERROR(INDEX($H$3:INDIRECT(\"T\"&COUNTIF($G$3:$G$100,\"<>\"&\"\")+2),ROUNDUP(ROW(A314)/COUNTIF($H$2:$AI$2,\"<>\"&\"\"),0),MOD(ROW(A314)-1,COUNTIF($H$2:$AI$2,\"<>\"&\"\"))+1),\"\")","v":""}]
[{"$f":"IFERROR(INDEX($H$3:INDIRECT(\"T\"&COUNTIF($G$3:$G$100,\"<>\"&\"\")+2),ROUNDUP(ROW(A315)/COUNTIF($H$2:$AI$2,\"<>\"&\"\"),0),MOD(ROW(A315)-1,COUNTIF($H$2:$AI$2,\"<>\"&\"\"))+1),\"\")","v":""}]
[{"$f":"IFERROR(INDEX($H$3:INDIRECT(\"T\"&COUNTIF($G$3:$G$100,\"<>\"&\"\")+2),ROUNDUP(ROW(A316)/COUNTIF($H$2:$AI$2,\"<>\"&\"\"),0),MOD(ROW(A316)-1,COUNTIF($H$2:$AI$2,\"<>\"&\"\"))+1),\"\")","v":""}]
[{"$f":"IFERROR(INDEX($H$3:INDIRECT(\"T\"&COUNTIF($G$3:$G$100,\"<>\"&\"\")+2),ROUNDUP(ROW(A317)/COUNTIF($H$2:$AI$2,\"<>\"&\"\"),0),MOD(ROW(A317)-1,COUNTIF($H$2:$AI$2,\"<>\"&\"\"))+1),\"\")","v":""}]
[{"$f":"IFERROR(INDEX($H$3:INDIRECT(\"T\"&COUNTIF($G$3:$G$100,\"<>\"&\"\")+2),ROUNDUP(ROW(A318)/COUNTIF($H$2:$AI$2,\"<>\"&\"\"),0),MOD(ROW(A318)-1,COUNTIF($H$2:$AI$2,\"<>\"&\"\"))+1),\"\")","v":""}]
[{"$f":"IFERROR(INDEX($H$3:INDIRECT(\"T\"&COUNTIF($G$3:$G$100,\"<>\"&\"\")+2),ROUNDUP(ROW(A319)/COUNTIF($H$2:$AI$2,\"<>\"&\"\"),0),MOD(ROW(A319)-1,COUNTIF($H$2:$AI$2,\"<>\"&\"\"))+1),\"\")","v":""}]
[{"$f":"IFERROR(INDEX($H$3:INDIRECT(\"T\"&COUNTIF($G$3:$G$100,\"<>\"&\"\")+2),ROUNDUP(ROW(A320)/COUNTIF($H$2:$AI$2,\"<>\"&\"\"),0),MOD(ROW(A320)-1,COUNTIF($H$2:$AI$2,\"<>\"&\"\"))+1),\"\")","v":""}]
[{"$f":"IFERROR(INDEX($H$3:INDIRECT(\"T\"&COUNTIF($G$3:$G$100,\"<>\"&\"\")+2),ROUNDUP(ROW(A321)/COUNTIF($H$2:$AI$2,\"<>\"&\"\"),0),MOD(ROW(A321)-1,COUNTIF($H$2:$AI$2,\"<>\"&\"\"))+1),\"\")","v":""}]
[{"$f":"IFERROR(INDEX($H$3:INDIRECT(\"T\"&COUNTIF($G$3:$G$100,\"<>\"&\"\")+2),ROUNDUP(ROW(A322)/COUNTIF($H$2:$AI$2,\"<>\"&\"\"),0),MOD(ROW(A322)-1,COUNTIF($H$2:$AI$2,\"<>\"&\"\"))+1),\"\")","v":""}]
[{"$f":"IFERROR(INDEX($H$3:INDIRECT(\"T\"&COUNTIF($G$3:$G$100,\"<>\"&\"\")+2),ROUNDUP(ROW(A323)/COUNTIF($H$2:$AI$2,\"<>\"&\"\"),0),MOD(ROW(A323)-1,COUNTIF($H$2:$AI$2,\"<>\"&\"\"))+1),\"\")","v":""}]
[{"$f":"IFERROR(INDEX($H$3:INDIRECT(\"T\"&COUNTIF($G$3:$G$100,\"<>\"&\"\")+2),ROUNDUP(ROW(A324)/COUNTIF($H$2:$AI$2,\"<>\"&\"\"),0),MOD(ROW(A324)-1,COUNTIF($H$2:$AI$2,\"<>\"&\"\"))+1),\"\")","v":""}]
[{"$f":"IFERROR(INDEX($H$3:INDIRECT(\"T\"&COUNTIF($G$3:$G$100,\"<>\"&\"\")+2),ROUNDUP(ROW(A325)/COUNTIF($H$2:$AI$2,\"<>\"&\"\"),0),MOD(ROW(A325)-1,COUNTIF($H$2:$AI$2,\"<>\"&\"\"))+1),\"\")","v":""}]
[{"$f":"IFERROR(INDEX($H$3:INDIRECT(\"T\"&COUNTIF($G$3:$G$100,\"<>\"&\"\")+2),ROUNDUP(ROW(A326)/COUNTIF($H$2:$AI$2,\"<>\"&\"\"),0),MOD(ROW(A326)-1,COUNTIF($H$2:$AI$2,\"<>\"&\"\"))+1),\"\")","v":""}]
[{"$f":"IFERROR(INDEX($H$3:INDIRECT(\"T\"&COUNTIF($G$3:$G$100,\"<>\"&\"\")+2),ROUNDUP(ROW(A327)/COUNTIF($H$2:$AI$2,\"<>\"&\"\"),0),MOD(ROW(A327)-1,COUNTIF($H$2:$AI$2,\"<>\"&\"\"))+1),\"\")","v":""}]
[{"$f":"IFERROR(INDEX($H$3:INDIRECT(\"T\"&COUNTIF($G$3:$G$100,\"<>\"&\"\")+2),ROUNDUP(ROW(A328)/COUNTIF($H$2:$AI$2,\"<>\"&\"\"),0),MOD(ROW(A328)-1,COUNTIF($H$2:$AI$2,\"<>\"&\"\"))+1),\"\")","v":""}]
[{"$f":"IFERROR(INDEX($H$3:INDIRECT(\"T\"&COUNTIF($G$3:$G$100,\"<>\"&\"\")+2),ROUNDUP(ROW(A329)/COUNTIF($H$2:$AI$2,\"<>\"&\"\"),0),MOD(ROW(A329)-1,COUNTIF($H$2:$AI$2,\"<>\"&\"\"))+1),\"\")","v":""}]
[{"$f":"IFERROR(INDEX($H$3:INDIRECT(\"T\"&COUNTIF($G$3:$G$100,\"<>\"&\"\")+2),ROUNDUP(ROW(A330)/COUNTIF($H$2:$AI$2,\"<>\"&\"\"),0),MOD(ROW(A330)-1,COUNTIF($H$2:$AI$2,\"<>\"&\"\"))+1),\"\")","v":""}]
[{"$f":"IFERROR(INDEX($H$3:INDIRECT(\"T\"&COUNTIF($G$3:$G$100,\"<>\"&\"\")+2),ROUNDUP(ROW(A331)/COUNTIF($H$2:$AI$2,\"<>\"&\"\"),0),MOD(ROW(A331)-1,COUNTIF($H$2:$AI$2,\"<>\"&\"\"))+1),\"\")","v":""}]
[{"$f":"IFERROR(INDEX($H$3:INDIRECT(\"T\"&COUNTIF($G$3:$G$100,\"<>\"&\"\")+2),ROUNDUP(ROW(A332)/COUNTIF($H$2:$AI$2,\"<>\"&\"\"),0),MOD(ROW(A332)-1,COUNTIF($H$2:$AI$2,\"<>\"&\"\"))+1),\"\")","v":""}]
[{"$f":"IFERROR(INDEX($H$3:INDIRECT(\"T\"&COUNTIF($G$3:$G$100,\"<>\"&\"\")+2),ROUNDUP(ROW(A333)/COUNTIF($H$2:$AI$2,\"<>\"&\"\"),0),MOD(ROW(A333)-1,COUNTIF($H$2:$AI$2,\"<>\"&\"\"))+1),\"\")","v":""}]
[{"$f":"IFERROR(INDEX($H$3:INDIRECT(\"T\"&COUNTIF($G$3:$G$100,\"<>\"&\"\")+2),ROUNDUP(ROW(A334)/COUNTIF($H$2:$AI$2,\"<>\"&\"\"),0),MOD(ROW(A334)-1,COUNTIF($H$2:$AI$2,\"<>\"&\"\"))+1),\"\")","v":""}]
[{"$f":"IFERROR(INDEX($H$3:INDIRECT(\"T\"&COUNTIF($G$3:$G$100,\"<>\"&\"\")+2),ROUNDUP(ROW(A335)/COUNTIF($H$2:$AI$2,\"<>\"&\"\"),0),MOD(ROW(A335)-1,COUNTIF($H$2:$AI$2,\"<>\"&\"\"))+1),\"\")","v":""}]
[{"$f":"IFERROR(INDEX($H$3:INDIRECT(\"T\"&COUNTIF($G$3:$G$100,\"<>\"&\"\")+2),ROUNDUP(ROW(A336)/COUNTIF($H$2:$AI$2,\"<>\"&\"\"),0),MOD(ROW(A336)-1,COUNTIF($H$2:$AI$2,\"<>\"&\"\"))+1),\"\")","v":""}]
[{"$f":"IFERROR(INDEX($H$3:INDIRECT(\"T\"&COUNTIF($G$3:$G$100,\"<>\"&\"\")+2),ROUNDUP(ROW(A337)/COUNTIF($H$2:$AI$2,\"<>\"&\"\"),0),MOD(ROW(A337)-1,COUNTIF($H$2:$AI$2,\"<>\"&\"\"))+1),\"\")","v":""}]
[{"$f":"IFERROR(INDEX($H$3:INDIRECT(\"T\"&COUNTIF($G$3:$G$100,\"<>\"&\"\")+2),ROUNDUP(ROW(A338)/COUNTIF($H$2:$AI$2,\"<>\"&\"\"),0),MOD(ROW(A338)-1,COUNTIF($H$2:$AI$2,\"<>\"&\"\"))+1),\"\")","v":""}]
[{"$f":"IFERROR(INDEX($H$3:INDIRECT(\"T\"&COUNTIF($G$3:$G$100,\"<>\"&\"\")+2),ROUNDUP(ROW(A339)/COUNTIF($H$2:$AI$2,\"<>\"&\"\"),0),MOD(ROW(A339)-1,COUNTIF($H$2:$AI$2,\"<>\"&\"\"))+1),\"\")","v":""}]
[{"$f":"IFERROR(INDEX($H$3:INDIRECT(\"T\"&COUNTIF($G$3:$G$100,\"<>\"&\"\")+2),ROUNDUP(ROW(A340)/COUNTIF($H$2:$AI$2,\"<>\"&\"\"),0),MOD(ROW(A340)-1,COUNTIF($H$2:$AI$2,\"<>\"&\"\"))+1),\"\")","v":""}]
[{"$f":"IFERROR(INDEX($H$3:INDIRECT(\"T\"&COUNTIF($G$3:$G$100,\"<>\"&\"\")+2),ROUNDUP(ROW(A341)/COUNTIF($H$2:$AI$2,\"<>\"&\"\"),0),MOD(ROW(A341)-1,COUNTIF($H$2:$AI$2,\"<>\"&\"\"))+1),\"\")","v":""}]
[{"$f":"IFERROR(INDEX($H$3:INDIRECT(\"T\"&COUNTIF($G$3:$G$100,\"<>\"&\"\")+2),ROUNDUP(ROW(A342)/COUNTIF($H$2:$AI$2,\"<>\"&\"\"),0),MOD(ROW(A342)-1,COUNTIF($H$2:$AI$2,\"<>\"&\"\"))+1),\"\")","v":""}]
[{"$f":"IFERROR(INDEX($H$3:INDIRECT(\"T\"&COUNTIF($G$3:$G$100,\"<>\"&\"\")+2),ROUNDUP(ROW(A343)/COUNTIF($H$2:$AI$2,\"<>\"&\"\"),0),MOD(ROW(A343)-1,COUNTIF($H$2:$AI$2,\"<>\"&\"\"))+1),\"\")","v":""}]
[{"$f":"IFERROR(INDEX($H$3:INDIRECT(\"T\"&COUNTIF($G$3:$G$100,\"<>\"&\"\")+2),ROUNDUP(ROW(A344)/COUNTIF($H$2:$AI$2,\"<>\"&\"\"),0),MOD(ROW(A344)-1,COUNTIF($H$2:$AI$2,\"<>\"&\"\"))+1),\"\")","v":""}]
[{"$f":"IFERROR(INDEX($H$3:INDIRECT(\"T\"&COUNTIF($G$3:$G$100,\"<>\"&\"\")+2),ROUNDUP(ROW(A345)/COUNTIF($H$2:$AI$2,\"<>\"&\"\"),0),MOD(ROW(A345)-1,COUNTIF($H$2:$AI$2,\"<>\"&\"\"))+1),\"\")","v":""}]
[{"$f":"IFERROR(INDEX($H$3:INDIRECT(\"T\"&COUNTIF($G$3:$G$100,\"<>\"&\"\")+2),ROUNDUP(ROW(A346)/COUNTIF($H$2:$AI$2,\"<>\"&\"\"),0),MOD(ROW(A346)-1,COUNTIF($H$2:$AI$2,\"<>\"&\"\"))+1),\"\")","v":""}]
[{"$f":"IFERROR(INDEX($H$3:INDIRECT(\"T\"&COUNTIF($G$3:$G$100,\"<>\"&\"\")+2),ROUNDUP(ROW(A347)/COUNTIF($H$2:$AI$2,\"<>\"&\"\"),0),MOD(ROW(A347)-1,COUNTIF($H$2:$AI$2,\"<>\"&\"\"))+1),\"\")","v":""}]
[{"$f":"IFERROR(INDEX($H$3:INDIRECT(\"T\"&COUNTIF($G$3:$G$100,\"<>\"&\"\")+2),ROUNDUP(ROW(A348)/COUNTIF($H$2:$AI$2,\"<>\"&\"\"),0),MOD(ROW(A348)-1,COUNTIF($H$2:$AI$2,\"<>\"&\"\"))+1),\"\")","v":""}]
[{"$f":"IFERROR(INDEX($H$3:INDIRECT(\"T\"&COUNTIF($G$3:$G$100,\"<>\"&\"\")+2),ROUNDUP(ROW(A349)/COUNTIF($H$2:$AI$2,\"<>\"&\"\"),0),MOD(ROW(A349)-1,COUNTIF($H$2:$AI$2,\"<>\"&\"\"))+1),\"\")","v":""}]
[{"$f":"IFERROR(INDEX($H$3:INDIRECT(\"T\"&COUNTIF($G$3:$G$100,\"<>\"&\"\")+2),ROUNDUP(ROW(A350)/COUNTIF($H$2:$AI$2,\"<>\"&\"\"),0),MOD(ROW(A350)-1,COUNTIF($H$2:$AI$2,\"<>\"&\"\"))+1),\"\")","v":""}]
[{"$f":"IFERROR(INDEX($H$3:INDIRECT(\"T\"&COUNTIF($G$3:$G$100,\"<>\"&\"\")+2),ROUNDUP(ROW(A351)/COUNTIF($H$2:$AI$2,\"<>\"&\"\"),0),MOD(ROW(A351)-1,COUNTIF($H$2:$AI$2,\"<>\"&\"\"))+1),\"\")","v":""}]
[{"$f":"IFERROR(INDEX($H$3:INDIRECT(\"T\"&COUNTIF($G$3:$G$100,\"<>\"&\"\")+2),ROUNDUP(ROW(A352)/COUNTIF($H$2:$AI$2,\"<>\"&\"\"),0),MOD(ROW(A352)-1,COUNTIF($H$2:$AI$2,\"<>\"&\"\"))+1),\"\")","v":""}]
[{"$f":"IFERROR(INDEX($H$3:INDIRECT(\"T\"&COUNTIF($G$3:$G$100,\"<>\"&\"\")+2),ROUNDUP(ROW(A353)/COUNTIF($H$2:$AI$2,\"<>\"&\"\"),0),MOD(ROW(A353)-1,COUNTIF($H$2:$AI$2,\"<>\"&\"\"))+1),\"\")","v":""}]
[{"$f":"IFERROR(INDEX($H$3:INDIRECT(\"T\"&COUNTIF($G$3:$G$100,\"<>\"&\"\")+2),ROUNDUP(ROW(A354)/COUNTIF($H$2:$AI$2,\"<>\"&\"\"),0),MOD(ROW(A354)-1,COUNTIF($H$2:$AI$2,\"<>\"&\"\"))+1),\"\")","v":""}]
[{"$f":"IFERROR(INDEX($H$3:INDIRECT(\"T\"&COUNTIF($G$3:$G$100,\"<>\"&\"\")+2),ROUNDUP(ROW(A355)/COUNTIF($H$2:$AI$2,\"<>\"&\"\"),0),MOD(ROW(A355)-1,COUNTIF($H$2:$AI$2,\"<>\"&\"\"))+1),\"\")","v":""}]
[{"$f":"IFERROR(INDEX($H$3:INDIRECT(\"T\"&COUNTIF($G$3:$G$100,\"<>\"&\"\")+2),ROUNDUP(ROW(A356)/COUNTIF($H$2:$AI$2,\"<>\"&\"\"),0),MOD(ROW(A356)-1,COUNTIF($H$2:$AI$2,\"<>\"&\"\"))+1),\"\")","v":""}]
[{"$f":"IFERROR(INDEX($H$3:INDIRECT(\"T\"&COUNTIF($G$3:$G$100,\"<>\"&\"\")+2),ROUNDUP(ROW(A357)/COUNTIF($H$2:$AI$2,\"<>\"&\"\"),0),MOD(ROW(A357)-1,COUNTIF($H$2:$AI$2,\"<>\"&\"\"))+1),\"\")","v":""}]
[{"$f":"IFERROR(INDEX($H$3:INDIRECT(\"T\"&COUNTIF($G$3:$G$100,\"<>\"&\"\")+2),ROUNDUP(ROW(A358)/COUNTIF($H$2:$AI$2,\"<>\"&\"\"),0),MOD(ROW(A358)-1,COUNTIF($H$2:$AI$2,\"<>\"&\"\"))+1),\"\")","v":""}]
[{"$f":"IFERROR(INDEX($H$3:INDIRECT(\"T\"&COUNTIF($G$3:$G$100,\"<>\"&\"\")+2),ROUNDUP(ROW(A359)/COUNTIF($H$2:$AI$2,\"<>\"&\"\"),0),MOD(ROW(A359)-1,COUNTIF($H$2:$AI$2,\"<>\"&\"\"))+1),\"\")","v":""}]
[{"$f":"IFERROR(INDEX($H$3:INDIRECT(\"T\"&COUNTIF($G$3:$G$100,\"<>\"&\"\")+2),ROUNDUP(ROW(A360)/COUNTIF($H$2:$AI$2,\"<>\"&\"\"),0),MOD(ROW(A360)-1,COUNTIF($H$2:$AI$2,\"<>\"&\"\"))+1),\"\")","v":""}]
[{"$f":"IFERROR(INDEX($H$3:INDIRECT(\"T\"&COUNTIF($G$3:$G$100,\"<>\"&\"\")+2),ROUNDUP(ROW(A361)/COUNTIF($H$2:$AI$2,\"<>\"&\"\"),0),MOD(ROW(A361)-1,COUNTIF($H$2:$AI$2,\"<>\"&\"\"))+1),\"\")","v":""}]
[{"$f":"IFERROR(INDEX($H$3:INDIRECT(\"T\"&COUNTIF($G$3:$G$100,\"<>\"&\"\")+2),ROUNDUP(ROW(A362)/COUNTIF($H$2:$AI$2,\"<>\"&\"\"),0),MOD(ROW(A362)-1,COUNTIF($H$2:$AI$2,\"<>\"&\"\"))+1),\"\")","v":""}]
[{"$f":"IFERROR(INDEX($H$3:INDIRECT(\"T\"&COUNTIF($G$3:$G$100,\"<>\"&\"\")+2),ROUNDUP(ROW(A363)/COUNTIF($H$2:$AI$2,\"<>\"&\"\"),0),MOD(ROW(A363)-1,COUNTIF($H$2:$AI$2,\"<>\"&\"\"))+1),\"\")","v":""}]
[{"$f":"IFERROR(INDEX($H$3:INDIRECT(\"T\"&COUNTIF($G$3:$G$100,\"<>\"&\"\")+2),ROUNDUP(ROW(A364)/COUNTIF($H$2:$AI$2,\"<>\"&\"\"),0),MOD(ROW(A364)-1,COUNTIF($H$2:$AI$2,\"<>\"&\"\"))+1),\"\")","v":""}]
[{"$f":"IFERROR(INDEX($H$3:INDIRECT(\"T\"&COUNTIF($G$3:$G$100,\"<>\"&\"\")+2),ROUNDUP(ROW(A365)/COUNTIF($H$2:$AI$2,\"<>\"&\"\"),0),MOD(ROW(A365)-1,COUNTIF($H$2:$AI$2,\"<>\"&\"\"))+1),\"\")","v":""}]
[{"$f":"IFERROR(INDEX($H$3:INDIRECT(\"T\"&COUNTIF($G$3:$G$100,\"<>\"&\"\")+2),ROUNDUP(ROW(A366)/COUNTIF($H$2:$AI$2,\"<>\"&\"\"),0),MOD(ROW(A366)-1,COUNTIF($H$2:$AI$2,\"<>\"&\"\"))+1),\"\")","v":""}]
[{"$f":"IFERROR(INDEX($H$3:INDIRECT(\"T\"&COUNTIF($G$3:$G$100,\"<>\"&\"\")+2),ROUNDUP(ROW(A367)/COUNTIF($H$2:$AI$2,\"<>\"&\"\"),0),MOD(ROW(A367)-1,COUNTIF($H$2:$AI$2,\"<>\"&\"\"))+1),\"\")","v":""}]
[{"$f":"IFERROR(INDEX($H$3:INDIRECT(\"T\"&COUNTIF($G$3:$G$100,\"<>\"&\"\")+2),ROUNDUP(ROW(A368)/COUNTIF($H$2:$AI$2,\"<>\"&\"\"),0),MOD(ROW(A368)-1,COUNTIF($H$2:$AI$2,\"<>\"&\"\"))+1),\"\")","v":""}]
[{"$f":"IFERROR(INDEX($H$3:INDIRECT(\"T\"&COUNTIF($G$3:$G$100,\"<>\"&\"\")+2),ROUNDUP(ROW(A369)/COUNTIF($H$2:$AI$2,\"<>\"&\"\"),0),MOD(ROW(A369)-1,COUNTIF($H$2:$AI$2,\"<>\"&\"\"))+1),\"\")","v":""}]
[{"$f":"IFERROR(INDEX($H$3:INDIRECT(\"T\"&COUNTIF($G$3:$G$100,\"<>\"&\"\")+2),ROUNDUP(ROW(A370)/COUNTIF($H$2:$AI$2,\"<>\"&\"\"),0),MOD(ROW(A370)-1,COUNTIF($H$2:$AI$2,\"<>\"&\"\"))+1),\"\")","v":""}]
[{"$f":"IFERROR(INDEX($H$3:INDIRECT(\"T\"&COUNTIF($G$3:$G$100,\"<>\"&\"\")+2),ROUNDUP(ROW(A371)/COUNTIF($H$2:$AI$2,\"<>\"&\"\"),0),MOD(ROW(A371)-1,COUNTIF($H$2:$AI$2,\"<>\"&\"\"))+1),\"\")","v":""}]
[{"$f":"IFERROR(INDEX($H$3:INDIRECT(\"T\"&COUNTIF($G$3:$G$100,\"<>\"&\"\")+2),ROUNDUP(ROW(A372)/COUNTIF($H$2:$AI$2,\"<>\"&\"\"),0),MOD(ROW(A372)-1,COUNTIF($H$2:$AI$2,\"<>\"&\"\"))+1),\"\")","v":""}]
[{"$f":"IFERROR(INDEX($H$3:INDIRECT(\"T\"&COUNTIF($G$3:$G$100,\"<>\"&\"\")+2),ROUNDUP(ROW(A373)/COUNTIF($H$2:$AI$2,\"<>\"&\"\"),0),MOD(ROW(A373)-1,COUNTIF($H$2:$AI$2,\"<>\"&\"\"))+1),\"\")","v":""}]
[{"$f":"IFERROR(INDEX($H$3:INDIRECT(\"T\"&COUNTIF($G$3:$G$100,\"<>\"&\"\")+2),ROUNDUP(ROW(A374)/COUNTIF($H$2:$AI$2,\"<>\"&\"\"),0),MOD(ROW(A374)-1,COUNTIF($H$2:$AI$2,\"<>\"&\"\"))+1),\"\")","v":""}]
[{"$f":"IFERROR(INDEX($H$3:INDIRECT(\"T\"&COUNTIF($G$3:$G$100,\"<>\"&\"\")+2),ROUNDUP(ROW(A375)/COUNTIF($H$2:$AI$2,\"<>\"&\"\"),0),MOD(ROW(A375)-1,COUNTIF($H$2:$AI$2,\"<>\"&\"\"))+1),\"\")","v":""}]
[{"$f":"IFERROR(INDEX($H$3:INDIRECT(\"T\"&COUNTIF($G$3:$G$100,\"<>\"&\"\")+2),ROUNDUP(ROW(A376)/COUNTIF($H$2:$AI$2,\"<>\"&\"\"),0),MOD(ROW(A376)-1,COUNTIF($H$2:$AI$2,\"<>\"&\"\"))+1),\"\")","v":""}]
[{"$f":"IFERROR(INDEX($H$3:INDIRECT(\"T\"&COUNTIF($G$3:$G$100,\"<>\"&\"\")+2),ROUNDUP(ROW(A377)/COUNTIF($H$2:$AI$2,\"<>\"&\"\"),0),MOD(ROW(A377)-1,COUNTIF($H$2:$AI$2,\"<>\"&\"\"))+1),\"\")","v":""}]
[{"$f":"IFERROR(INDEX($H$3:INDIRECT(\"T\"&COUNTIF($G$3:$G$100,\"<>\"&\"\")+2),ROUNDUP(ROW(A378)/COUNTIF($H$2:$AI$2,\"<>\"&\"\"),0),MOD(ROW(A378)-1,COUNTIF($H$2:$AI$2,\"<>\"&\"\"))+1),\"\")","v":""}]
[{"$f":"IFERROR(INDEX($H$3:INDIRECT(\"T\"&COUNTIF($G$3:$G$100,\"<>\"&\"\")+2),ROUNDUP(ROW(A379)/COUNTIF($H$2:$AI$2,\"<>\"&\"\"),0),MOD(ROW(A379)-1,COUNTIF($H$2:$AI$2,\"<>\"&\"\"))+1),\"\")","v":""}]
[{"$f":"IFERROR(INDEX($H$3:INDIRECT(\"T\"&COUNTIF($G$3:$G$100,\"<>\"&\"\")+2),ROUNDUP(ROW(A380)/COUNTIF($H$2:$AI$2,\"<>\"&\"\"),0),MOD(ROW(A380)-1,COUNTIF($H$2:$AI$2,\"<>\"&\"\"))+1),\"\")","v":""}]
[{"$f":"IFERROR(INDEX($H$3:INDIRECT(\"T\"&COUNTIF($G$3:$G$100,\"<>\"&\"\")+2),ROUNDUP(ROW(A381)/COUNTIF($H$2:$AI$2,\"<>\"&\"\"),0),MOD(ROW(A381)-1,COUNTIF($H$2:$AI$2,\"<>\"&\"\"))+1),\"\")","v":""}]
[{"$f":"IFERROR(INDEX($H$3:INDIRECT(\"T\"&COUNTIF($G$3:$G$100,\"<>\"&\"\")+2),ROUNDUP(ROW(A382)/COUNTIF($H$2:$AI$2,\"<>\"&\"\"),0),MOD(ROW(A382)-1,COUNTIF($H$2:$AI$2,\"<>\"&\"\"))+1),\"\")","v":""}]
[{"$f":"IFERROR(INDEX($H$3:INDIRECT(\"T\"&COUNTIF($G$3:$G$100,\"<>\"&\"\")+2),ROUNDUP(ROW(A383)/COUNTIF($H$2:$AI$2,\"<>\"&\"\"),0),MOD(ROW(A383)-1,COUNTIF($H$2:$AI$2,\"<>\"&\"\"))+1),\"\")","v":""}]
[{"$f":"IFERROR(INDEX($H$3:INDIRECT(\"T\"&COUNTIF($G$3:$G$100,\"<>\"&\"\")+2),ROUNDUP(ROW(A384)/COUNTIF($H$2:$AI$2,\"<>\"&\"\"),0),MOD(ROW(A384)-1,COUNTIF($H$2:$AI$2,\"<>\"&\"\"))+1),\"\")","v":""}]
[{"$f":"IFERROR(INDEX($H$3:INDIRECT(\"T\"&COUNTIF($G$3:$G$100,\"<>\"&\"\")+2),ROUNDUP(ROW(A385)/COUNTIF($H$2:$AI$2,\"<>\"&\"\"),0),MOD(ROW(A385)-1,COUNTIF($H$2:$AI$2,\"<>\"&\"\"))+1),\"\")","v":""}]
[{"$f":"IFERROR(INDEX($H$3:INDIRECT(\"T\"&COUNTIF($G$3:$G$100,\"<>\"&\"\")+2),ROUNDUP(ROW(A386)/COUNTIF($H$2:$AI$2,\"<>\"&\"\"),0),MOD(ROW(A386)-1,COUNTIF($H$2:$AI$2,\"<>\"&\"\"))+1),\"\")","v":""}]
[{"$f":"IFERROR(INDEX($H$3:INDIRECT(\"T\"&COUNTIF($G$3:$G$100,\"<>\"&\"\")+2),ROUNDUP(ROW(A387)/COUNTIF($H$2:$AI$2,\"<>\"&\"\"),0),MOD(ROW(A387)-1,COUNTIF($H$2:$AI$2,\"<>\"&\"\"))+1),\"\")","v":""}]
[{"$f":"IFERROR(INDEX($H$3:INDIRECT(\"T\"&COUNTIF($G$3:$G$100,\"<>\"&\"\")+2),ROUNDUP(ROW(A388)/COUNTIF($H$2:$AI$2,\"<>\"&\"\"),0),MOD(ROW(A388)-1,COUNTIF($H$2:$AI$2,\"<>\"&\"\"))+1),\"\")","v":""}]
[{"$f":"IFERROR(INDEX($H$3:INDIRECT(\"T\"&COUNTIF($G$3:$G$100,\"<>\"&\"\")+2),ROUNDUP(ROW(A389)/COUNTIF($H$2:$AI$2,\"<>\"&\"\"),0),MOD(ROW(A389)-1,COUNTIF($H$2:$AI$2,\"<>\"&\"\"))+1),\"\")","v":""}]
[{"$f":"IFERROR(INDEX($H$3:INDIRECT(\"T\"&COUNTIF($G$3:$G$100,\"<>\"&\"\")+2),ROUNDUP(ROW(A390)/COUNTIF($H$2:$AI$2,\"<>\"&\"\"),0),MOD(ROW(A390)-1,COUNTIF($H$2:$AI$2,\"<>\"&\"\"))+1),\"\")","v":""}]
[{"$f":"IFERROR(INDEX($H$3:INDIRECT(\"T\"&COUNTIF($G$3:$G$100,\"<>\"&\"\")+2),ROUNDUP(ROW(A391)/COUNTIF($H$2:$AI$2,\"<>\"&\"\"),0),MOD(ROW(A391)-1,COUNTIF($H$2:$AI$2,\"<>\"&\"\"))+1),\"\")","v":""}]
[{"$f":"IFERROR(INDEX($H$3:INDIRECT(\"T\"&COUNTIF($G$3:$G$100,\"<>\"&\"\")+2),ROUNDUP(ROW(A392)/COUNTIF($H$2:$AI$2,\"<>\"&\"\"),0),MOD(ROW(A392)-1,COUNTIF($H$2:$AI$2,\"<>\"&\"\"))+1),\"\")","v":""}]
[{"$f":"IFERROR(INDEX($H$3:INDIRECT(\"T\"&COUNTIF($G$3:$G$100,\"<>\"&\"\")+2),ROUNDUP(ROW(A393)/COUNTIF($H$2:$AI$2,\"<>\"&\"\"),0),MOD(ROW(A393)-1,COUNTIF($H$2:$AI$2,\"<>\"&\"\"))+1),\"\")","v":""}]
[{"$f":"IFERROR(INDEX($H$3:INDIRECT(\"T\"&COUNTIF($G$3:$G$100,\"<>\"&\"\")+2),ROUNDUP(ROW(A394)/COUNTIF($H$2:$AI$2,\"<>\"&\"\"),0),MOD(ROW(A394)-1,COUNTIF($H$2:$AI$2,\"<>\"&\"\"))+1),\"\")","v":""}]
[{"$f":"IFERROR(INDEX($H$3:INDIRECT(\"T\"&COUNTIF($G$3:$G$100,\"<>\"&\"\")+2),ROUNDUP(ROW(A395)/COUNTIF($H$2:$AI$2,\"<>\"&\"\"),0),MOD(ROW(A395)-1,COUNTIF($H$2:$AI$2,\"<>\"&\"\"))+1),\"\")","v":""}]
[{"$f":"IFERROR(INDEX($H$3:INDIRECT(\"T\"&COUNTIF($G$3:$G$100,\"<>\"&\"\")+2),ROUNDUP(ROW(A396)/COUNTIF($H$2:$AI$2,\"<>\"&\"\"),0),MOD(ROW(A396)-1,COUNTIF($H$2:$AI$2,\"<>\"&\"\"))+1),\"\")","v":""}]
[{"$f":"IFERROR(INDEX($H$3:INDIRECT(\"T\"&COUNTIF($G$3:$G$100,\"<>\"&\"\")+2),ROUNDUP(ROW(A397)/COUNTIF($H$2:$AI$2,\"<>\"&\"\"),0),MOD(ROW(A397)-1,COUNTIF($H$2:$AI$2,\"<>\"&\"\"))+1),\"\")","v":""}]
[{"$f":"IFERROR(INDEX($H$3:INDIRECT(\"T\"&COUNTIF($G$3:$G$100,\"<>\"&\"\")+2),ROUNDUP(ROW(A398)/COUNTIF($H$2:$AI$2,\"<>\"&\"\"),0),MOD(ROW(A398)-1,COUNTIF($H$2:$AI$2,\"<>\"&\"\"))+1),\"\")","v":""}]
[{"$f":"IFERROR(INDEX($H$3:INDIRECT(\"T\"&COUNTIF($G$3:$G$100,\"<>\"&\"\")+2),ROUNDUP(ROW(A399)/COUNTIF($H$2:$AI$2,\"<>\"&\"\"),0),MOD(ROW(A399)-1,COUNTIF($H$2:$AI$2,\"<>\"&\"\"))+1),\"\")","v":""}]
[{"$f":"IFERROR(INDEX($H$3:INDIRECT(\"T\"&COUNTIF($G$3:$G$100,\"<>\"&\"\")+2),ROUNDUP(ROW(A400)/COUNTIF($H$2:$AI$2,\"<>\"&\"\"),0),MOD(ROW(A400)-1,COUNTIF($H$2:$AI$2,\"<>\"&\"\"))+1),\"\")","v":""}]
[{"$f":"IFERROR(INDEX($H$3:INDIRECT(\"T\"&COUNTIF($G$3:$G$100,\"<>\"&\"\")+2),ROUNDUP(ROW(A401)/COUNTIF($H$2:$AI$2,\"<>\"&\"\"),0),MOD(ROW(A401)-1,COUNTIF($H$2:$AI$2,\"<>\"&\"\"))+1),\"\")","v":""}]
[{"$f":"IFERROR(INDEX($H$3:INDIRECT(\"T\"&COUNTIF($G$3:$G$100,\"<>\"&\"\")+2),ROUNDUP(ROW(A402)/COUNTIF($H$2:$AI$2,\"<>\"&\"\"),0),MOD(ROW(A402)-1,COUNTIF($H$2:$AI$2,\"<>\"&\"\"))+1),\"\")","v":""}]
[{"$f":"IFERROR(INDEX($H$3:INDIRECT(\"T\"&COUNTIF($G$3:$G$100,\"<>\"&\"\")+2),ROUNDUP(ROW(A403)/COUNTIF($H$2:$AI$2,\"<>\"&\"\"),0),MOD(ROW(A403)-1,COUNTIF($H$2:$AI$2,\"<>\"&\"\"))+1),\"\")","v":""}]
[{"$f":"IFERROR(INDEX($H$3:INDIRECT(\"T\"&COUNTIF($G$3:$G$100,\"<>\"&\"\")+2),ROUNDUP(ROW(A404)/COUNTIF($H$2:$AI$2,\"<>\"&\"\"),0),MOD(ROW(A404)-1,COUNTIF($H$2:$AI$2,\"<>\"&\"\"))+1),\"\")","v":""}]
[{"$f":"IFERROR(INDEX($H$3:INDIRECT(\"T\"&COUNTIF($G$3:$G$100,\"<>\"&\"\")+2),ROUNDUP(ROW(A405)/COUNTIF($H$2:$AI$2,\"<>\"&\"\"),0),MOD(ROW(A405)-1,COUNTIF($H$2:$AI$2,\"<>\"&\"\"))+1),\"\")","v":""}]
[{"$f":"IFERROR(INDEX($H$3:INDIRECT(\"T\"&COUNTIF($G$3:$G$100,\"<>\"&\"\")+2),ROUNDUP(ROW(A406)/COUNTIF($H$2:$AI$2,\"<>\"&\"\"),0),MOD(ROW(A406)-1,COUNTIF($H$2:$AI$2,\"<>\"&\"\"))+1),\"\")","v":""}]
[{"$f":"IFERROR(INDEX($H$3:INDIRECT(\"T\"&COUNTIF($G$3:$G$100,\"<>\"&\"\")+2),ROUNDUP(ROW(A407)/COUNTIF($H$2:$AI$2,\"<>\"&\"\"),0),MOD(ROW(A407)-1,COUNTIF($H$2:$AI$2,\"<>\"&\"\"))+1),\"\")","v":""}]
[{"$f":"IFERROR(INDEX($H$3:INDIRECT(\"T\"&COUNTIF($G$3:$G$100,\"<>\"&\"\")+2),ROUNDUP(ROW(A408)/COUNTIF($H$2:$AI$2,\"<>\"&\"\"),0),MOD(ROW(A408)-1,COUNTIF($H$2:$AI$2,\"<>\"&\"\"))+1),\"\")","v":""}]
[{"$f":"IFERROR(INDEX($H$3:INDIRECT(\"T\"&COUNTIF($G$3:$G$100,\"<>\"&\"\")+2),ROUNDUP(ROW(A409)/COUNTIF($H$2:$AI$2,\"<>\"&\"\"),0),MOD(ROW(A409)-1,COUNTIF($H$2:$AI$2,\"<>\"&\"\"))+1),\"\")","v":""}]
[{"$f":"IFERROR(INDEX($H$3:INDIRECT(\"T\"&COUNTIF($G$3:$G$100,\"<>\"&\"\")+2),ROUNDUP(ROW(A410)/COUNTIF($H$2:$AI$2,\"<>\"&\"\"),0),MOD(ROW(A410)-1,COUNTIF($H$2:$AI$2,\"<>\"&\"\"))+1),\"\")","v":""}]
[{"$f":"IFERROR(INDEX($H$3:INDIRECT(\"T\"&COUNTIF($G$3:$G$100,\"<>\"&\"\")+2),ROUNDUP(ROW(A411)/COUNTIF($H$2:$AI$2,\"<>\"&\"\"),0),MOD(ROW(A411)-1,COUNTIF($H$2:$AI$2,\"<>\"&\"\"))+1),\"\")","v":""}]
[{"$f":"IFERROR(INDEX($H$3:INDIRECT(\"T\"&COUNTIF($G$3:$G$100,\"<>\"&\"\")+2),ROUNDUP(ROW(A412)/COUNTIF($H$2:$AI$2,\"<>\"&\"\"),0),MOD(ROW(A412)-1,COUNTIF($H$2:$AI$2,\"<>\"&\"\"))+1),\"\")","v":""}]
[{"$f":"IFERROR(INDEX($H$3:INDIRECT(\"T\"&COUNTIF($G$3:$G$100,\"<>\"&\"\")+2),ROUNDUP(ROW(A413)/COUNTIF($H$2:$AI$2,\"<>\"&\"\"),0),MOD(ROW(A413)-1,COUNTIF($H$2:$AI$2,\"<>\"&\"\"))+1),\"\")","v":""}]
[{"$f":"IFERROR(INDEX($H$3:INDIRECT(\"T\"&COUNTIF($G$3:$G$100,\"<>\"&\"\")+2),ROUNDUP(ROW(A414)/COUNTIF($H$2:$AI$2,\"<>\"&\"\"),0),MOD(ROW(A414)-1,COUNTIF($H$2:$AI$2,\"<>\"&\"\"))+1),\"\")","v":""}]
[{"$f":"IFERROR(INDEX($H$3:INDIRECT(\"T\"&COUNTIF($G$3:$G$100,\"<>\"&\"\")+2),ROUNDUP(ROW(A415)/COUNTIF($H$2:$AI$2,\"<>\"&\"\"),0),MOD(ROW(A415)-1,COUNTIF($H$2:$AI$2,\"<>\"&\"\"))+1),\"\")","v":""}]
[{"$f":"IFERROR(INDEX($H$3:INDIRECT(\"T\"&COUNTIF($G$3:$G$100,\"<>\"&\"\")+2),ROUNDUP(ROW(A416)/COUNTIF($H$2:$AI$2,\"<>\"&\"\"),0),MOD(ROW(A416)-1,COUNTIF($H$2:$AI$2,\"<>\"&\"\"))+1),\"\")","v":""}]
[{"$f":"IFERROR(INDEX($H$3:INDIRECT(\"T\"&COUNTIF($G$3:$G$100,\"<>\"&\"\")+2),ROUNDUP(ROW(A417)/COUNTIF($H$2:$AI$2,\"<>\"&\"\"),0),MOD(ROW(A417)-1,COUNTIF($H$2:$AI$2,\"<>\"&\"\"))+1),\"\")","v":""}]
[{"$f":"IFERROR(INDEX($H$3:INDIRECT(\"T\"&COUNTIF($G$3:$G$100,\"<>\"&\"\")+2),ROUNDUP(ROW(A418)/COUNTIF($H$2:$AI$2,\"<>\"&\"\"),0),MOD(ROW(A418)-1,COUNTIF($H$2:$AI$2,\"<>\"&\"\"))+1),\"\")","v":""}]
[{"$f":"IFERROR(INDEX($H$3:INDIRECT(\"T\"&COUNTIF($G$3:$G$100,\"<>\"&\"\")+2),ROUNDUP(ROW(A419)/COUNTIF($H$2:$AI$2,\"<>\"&\"\"),0),MOD(ROW(A419)-1,COUNTIF($H$2:$AI$2,\"<>\"&\"\"))+1),\"\")","v":""}]
[{"$f":"IFERROR(INDEX($H$3:INDIRECT(\"T\"&COUNTIF($G$3:$G$100,\"<>\"&\"\")+2),ROUNDUP(ROW(A420)/COUNTIF($H$2:$AI$2,\"<>\"&\"\"),0),MOD(ROW(A420)-1,COUNTIF($H$2:$AI$2,\"<>\"&\"\"))+1),\"\")","v":""}]
[{"$f":"IFERROR(INDEX($H$3:INDIRECT(\"T\"&COUNTIF($G$3:$G$100,\"<>\"&\"\")+2),ROUNDUP(ROW(A421)/COUNTIF($H$2:$AI$2,\"<>\"&\"\"),0),MOD(ROW(A421)-1,COUNTIF($H$2:$AI$2,\"<>\"&\"\"))+1),\"\")","v":""}]
[{"$f":"IFERROR(INDEX($H$3:INDIRECT(\"T\"&COUNTIF($G$3:$G$100,\"<>\"&\"\")+2),ROUNDUP(ROW(A422)/COUNTIF($H$2:$AI$2,\"<>\"&\"\"),0),MOD(ROW(A422)-1,COUNTIF($H$2:$AI$2,\"<>\"&\"\"))+1),\"\")","v":""}]
[{"$f":"IFERROR(INDEX($H$3:INDIRECT(\"T\"&COUNTIF($G$3:$G$100,\"<>\"&\"\")+2),ROUNDUP(ROW(A423)/COUNTIF($H$2:$AI$2,\"<>\"&\"\"),0),MOD(ROW(A423)-1,COUNTIF($H$2:$AI$2,\"<>\"&\"\"))+1),\"\")","v":""}]
[{"$f":"IFERROR(INDEX($H$3:INDIRECT(\"T\"&COUNTIF($G$3:$G$100,\"<>\"&\"\")+2),ROUNDUP(ROW(A424)/COUNTIF($H$2:$AI$2,\"<>\"&\"\"),0),MOD(ROW(A424)-1,COUNTIF($H$2:$AI$2,\"<>\"&\"\"))+1),\"\")","v":""}]
[{"$f":"IFERROR(INDEX($H$3:INDIRECT(\"T\"&COUNTIF($G$3:$G$100,\"<>\"&\"\")+2),ROUNDUP(ROW(A425)/COUNTIF($H$2:$AI$2,\"<>\"&\"\"),0),MOD(ROW(A425)-1,COUNTIF($H$2:$AI$2,\"<>\"&\"\"))+1),\"\")","v":""}]
[{"$f":"IFERROR(INDEX($H$3:INDIRECT(\"T\"&COUNTIF($G$3:$G$100,\"<>\"&\"\")+2),ROUNDUP(ROW(A426)/COUNTIF($H$2:$AI$2,\"<>\"&\"\"),0),MOD(ROW(A426)-1,COUNTIF($H$2:$AI$2,\"<>\"&\"\"))+1),\"\")","v":""}]
[{"$f":"IFERROR(INDEX($H$3:INDIRECT(\"T\"&COUNTIF($G$3:$G$100,\"<>\"&\"\")+2),ROUNDUP(ROW(A427)/COUNTIF($H$2:$AI$2,\"<>\"&\"\"),0),MOD(ROW(A427)-1,COUNTIF($H$2:$AI$2,\"<>\"&\"\"))+1),\"\")","v":""}]
[{"$f":"IFERROR(INDEX($H$3:INDIRECT(\"T\"&COUNTIF($G$3:$G$100,\"<>\"&\"\")+2),ROUNDUP(ROW(A428)/COUNTIF($H$2:$AI$2,\"<>\"&\"\"),0),MOD(ROW(A428)-1,COUNTIF($H$2:$AI$2,\"<>\"&\"\"))+1),\"\")","v":""}]
[{"$f":"IFERROR(INDEX($H$3:INDIRECT(\"T\"&COUNTIF($G$3:$G$100,\"<>\"&\"\")+2),ROUNDUP(ROW(A429)/COUNTIF($H$2:$AI$2,\"<>\"&\"\"),0),MOD(ROW(A429)-1,COUNTIF($H$2:$AI$2,\"<>\"&\"\"))+1),\"\")","v":""}]
[{"$f":"IFERROR(INDEX($H$3:INDIRECT(\"T\"&COUNTIF($G$3:$G$100,\"<>\"&\"\")+2),ROUNDUP(ROW(A430)/COUNTIF($H$2:$AI$2,\"<>\"&\"\"),0),MOD(ROW(A430)-1,COUNTIF($H$2:$AI$2,\"<>\"&\"\"))+1),\"\")","v":""}]
[{"$f":"IFERROR(INDEX($H$3:INDIRECT(\"T\"&COUNTIF($G$3:$G$100,\"<>\"&\"\")+2),ROUNDUP(ROW(A431)/COUNTIF($H$2:$AI$2,\"<>\"&\"\"),0),MOD(ROW(A431)-1,COUNTIF($H$2:$AI$2,\"<>\"&\"\"))+1),\"\")","v":""}]
[{"$f":"IFERROR(INDEX($H$3:INDIRECT(\"T\"&COUNTIF($G$3:$G$100,\"<>\"&\"\")+2),ROUNDUP(ROW(A432)/COUNTIF($H$2:$AI$2,\"<>\"&\"\"),0),MOD(ROW(A432)-1,COUNTIF($H$2:$AI$2,\"<>\"&\"\"))+1),\"\")","v":""}]
[{"$f":"IFERROR(INDEX($H$3:INDIRECT(\"T\"&COUNTIF($G$3:$G$100,\"<>\"&\"\")+2),ROUNDUP(ROW(A433)/COUNTIF($H$2:$AI$2,\"<>\"&\"\"),0),MOD(ROW(A433)-1,COUNTIF($H$2:$AI$2,\"<>\"&\"\"))+1),\"\")","v":""}]
[{"$f":"IFERROR(INDEX($H$3:INDIRECT(\"T\"&COUNTIF($G$3:$G$100,\"<>\"&\"\")+2),ROUNDUP(ROW(A434)/COUNTIF($H$2:$AI$2,\"<>\"&\"\"),0),MOD(ROW(A434)-1,COUNTIF($H$2:$AI$2,\"<>\"&\"\"))+1),\"\")","v":""}]
[{"$f":"IFERROR(INDEX($H$3:INDIRECT(\"T\"&COUNTIF($G$3:$G$100,\"<>\"&\"\")+2),ROUNDUP(ROW(A435)/COUNTIF($H$2:$AI$2,\"<>\"&\"\"),0),MOD(ROW(A435)-1,COUNTIF($H$2:$AI$2,\"<>\"&\"\"))+1),\"\")","v":""}]
[{"$f":"IFERROR(INDEX($H$3:INDIRECT(\"T\"&COUNTIF($G$3:$G$100,\"<>\"&\"\")+2),ROUNDUP(ROW(A436)/COUNTIF($H$2:$AI$2,\"<>\"&\"\"),0),MOD(ROW(A436)-1,COUNTIF($H$2:$AI$2,\"<>\"&\"\"))+1),\"\")","v":""}]
[{"$f":"IFERROR(INDEX($H$3:INDIRECT(\"T\"&COUNTIF($G$3:$G$100,\"<>\"&\"\")+2),ROUNDUP(ROW(A437)/COUNTIF($H$2:$AI$2,\"<>\"&\"\"),0),MOD(ROW(A437)-1,COUNTIF($H$2:$AI$2,\"<>\"&\"\"))+1),\"\")","v":""}]
[{"$f":"IFERROR(INDEX($H$3:INDIRECT(\"T\"&COUNTIF($G$3:$G$100,\"<>\"&\"\")+2),ROUNDUP(ROW(A438)/COUNTIF($H$2:$AI$2,\"<>\"&\"\"),0),MOD(ROW(A438)-1,COUNTIF($H$2:$AI$2,\"<>\"&\"\"))+1),\"\")","v":""}]
[{"$f":"IFERROR(INDEX($H$3:INDIRECT(\"T\"&COUNTIF($G$3:$G$100,\"<>\"&\"\")+2),ROUNDUP(ROW(A439)/COUNTIF($H$2:$AI$2,\"<>\"&\"\"),0),MOD(ROW(A439)-1,COUNTIF($H$2:$AI$2,\"<>\"&\"\"))+1),\"\")","v":""}]
[{"$f":"IFERROR(INDEX($H$3:INDIRECT(\"T\"&COUNTIF($G$3:$G$100,\"<>\"&\"\")+2),ROUNDUP(ROW(A440)/COUNTIF($H$2:$AI$2,\"<>\"&\"\"),0),MOD(ROW(A440)-1,COUNTIF($H$2:$AI$2,\"<>\"&\"\"))+1),\"\")","v":""}]
[{"$f":"IFERROR(INDEX($H$3:INDIRECT(\"T\"&COUNTIF($G$3:$G$100,\"<>\"&\"\")+2),ROUNDUP(ROW(A441)/COUNTIF($H$2:$AI$2,\"<>\"&\"\"),0),MOD(ROW(A441)-1,COUNTIF($H$2:$AI$2,\"<>\"&\"\"))+1),\"\")","v":""}]
[{"$f":"IFERROR(INDEX($H$3:INDIRECT(\"T\"&COUNTIF($G$3:$G$100,\"<>\"&\"\")+2),ROUNDUP(ROW(A442)/COUNTIF($H$2:$AI$2,\"<>\"&\"\"),0),MOD(ROW(A442)-1,COUNTIF($H$2:$AI$2,\"<>\"&\"\"))+1),\"\")","v":""}]
[{"$f":"IFERROR(INDEX($H$3:INDIRECT(\"T\"&COUNTIF($G$3:$G$100,\"<>\"&\"\")+2),ROUNDUP(ROW(A443)/COUNTIF($H$2:$AI$2,\"<>\"&\"\"),0),MOD(ROW(A443)-1,COUNTIF($H$2:$AI$2,\"<>\"&\"\"))+1),\"\")","v":""}]
[{"$f":"IFERROR(INDEX($H$3:INDIRECT(\"T\"&COUNTIF($G$3:$G$100,\"<>\"&\"\")+2),ROUNDUP(ROW(A444)/COUNTIF($H$2:$AI$2,\"<>\"&\"\"),0),MOD(ROW(A444)-1,COUNTIF($H$2:$AI$2,\"<>\"&\"\"))+1),\"\")","v":""}]
[{"$f":"IFERROR(INDEX($H$3:INDIRECT(\"T\"&COUNTIF($G$3:$G$100,\"<>\"&\"\")+2),ROUNDUP(ROW(A445)/COUNTIF($H$2:$AI$2,\"<>\"&\"\"),0),MOD(ROW(A445)-1,COUNTIF($H$2:$AI$2,\"<>\"&\"\"))+1),\"\")","v":""}]
[{"$f":"IFERROR(INDEX($H$3:INDIRECT(\"T\"&COUNTIF($G$3:$G$100,\"<>\"&\"\")+2),ROUNDUP(ROW(A446)/COUNTIF($H$2:$AI$2,\"<>\"&\"\"),0),MOD(ROW(A446)-1,COUNTIF($H$2:$AI$2,\"<>\"&\"\"))+1),\"\")","v":""}]
[{"$f":"IFERROR(INDEX($H$3:INDIRECT(\"T\"&COUNTIF($G$3:$G$100,\"<>\"&\"\")+2),ROUNDUP(ROW(A447)/COUNTIF($H$2:$AI$2,\"<>\"&\"\"),0),MOD(ROW(A447)-1,COUNTIF($H$2:$AI$2,\"<>\"&\"\"))+1),\"\")","v":""}]
[{"$f":"IFERROR(INDEX($H$3:INDIRECT(\"T\"&COUNTIF($G$3:$G$100,\"<>\"&\"\")+2),ROUNDUP(ROW(A448)/COUNTIF($H$2:$AI$2,\"<>\"&\"\"),0),MOD(ROW(A448)-1,COUNTIF($H$2:$AI$2,\"<>\"&\"\"))+1),\"\")","v":""}]
[{"$f":"IFERROR(INDEX($H$3:INDIRECT(\"T\"&COUNTIF($G$3:$G$100,\"<>\"&\"\")+2),ROUNDUP(ROW(A449)/COUNTIF($H$2:$AI$2,\"<>\"&\"\"),0),MOD(ROW(A449)-1,COUNTIF($H$2:$AI$2,\"<>\"&\"\"))+1),\"\")","v":""}]
[{"$f":"IFERROR(INDEX($H$3:INDIRECT(\"T\"&COUNTIF($G$3:$G$100,\"<>\"&\"\")+2),ROUNDUP(ROW(A450)/COUNTIF($H$2:$AI$2,\"<>\"&\"\"),0),MOD(ROW(A450)-1,COUNTIF($H$2:$AI$2,\"<>\"&\"\"))+1),\"\")","v":""}]
[{"$f":"IFERROR(INDEX($H$3:INDIRECT(\"T\"&COUNTIF($G$3:$G$100,\"<>\"&\"\")+2),ROUNDUP(ROW(A451)/COUNTIF($H$2:$AI$2,\"<>\"&\"\"),0),MOD(ROW(A451)-1,COUNTIF($H$2:$AI$2,\"<>\"&\"\"))+1),\"\")","v":""}]
[{"$f":"IFERROR(INDEX($H$3:INDIRECT(\"T\"&COUNTIF($G$3:$G$100,\"<>\"&\"\")+2),ROUNDUP(ROW(A452)/COUNTIF($H$2:$AI$2,\"<>\"&\"\"),0),MOD(ROW(A452)-1,COUNTIF($H$2:$AI$2,\"<>\"&\"\"))+1),\"\")","v":""}]
[{"$f":"IFERROR(INDEX($H$3:INDIRECT(\"T\"&COUNTIF($G$3:$G$100,\"<>\"&\"\")+2),ROUNDUP(ROW(A453)/COUNTIF($H$2:$AI$2,\"<>\"&\"\"),0),MOD(ROW(A453)-1,COUNTIF($H$2:$AI$2,\"<>\"&\"\"))+1),\"\")","v":""}]
[{"$f":"IFERROR(INDEX($H$3:INDIRECT(\"T\"&COUNTIF($G$3:$G$100,\"<>\"&\"\")+2),ROUNDUP(ROW(A454)/COUNTIF($H$2:$AI$2,\"<>\"&\"\"),0),MOD(ROW(A454)-1,COUNTIF($H$2:$AI$2,\"<>\"&\"\"))+1),\"\")","v":""}]
[{"$f":"IFERROR(INDEX($H$3:INDIRECT(\"T\"&COUNTIF($G$3:$G$100,\"<>\"&\"\")+2),ROUNDUP(ROW(A455)/COUNTIF($H$2:$AI$2,\"<>\"&\"\"),0),MOD(ROW(A455)-1,COUNTIF($H$2:$AI$2,\"<>\"&\"\"))+1),\"\")","v":""}]
[{"$f":"IFERROR(INDEX($H$3:INDIRECT(\"T\"&COUNTIF($G$3:$G$100,\"<>\"&\"\")+2),ROUNDUP(ROW(A456)/COUNTIF($H$2:$AI$2,\"<>\"&\"\"),0),MOD(ROW(A456)-1,COUNTIF($H$2:$AI$2,\"<>\"&\"\"))+1),\"\")","v":""}]
[{"$f":"IFERROR(INDEX($H$3:INDIRECT(\"T\"&COUNTIF($G$3:$G$100,\"<>\"&\"\")+2),ROUNDUP(ROW(A457)/COUNTIF($H$2:$AI$2,\"<>\"&\"\"),0),MOD(ROW(A457)-1,COUNTIF($H$2:$AI$2,\"<>\"&\"\"))+1),\"\")","v":""}]
[{"$f":"IFERROR(INDEX($H$3:INDIRECT(\"T\"&COUNTIF($G$3:$G$100,\"<>\"&\"\")+2),ROUNDUP(ROW(A458)/COUNTIF($H$2:$AI$2,\"<>\"&\"\"),0),MOD(ROW(A458)-1,COUNTIF($H$2:$AI$2,\"<>\"&\"\"))+1),\"\")","v":""}]
[{"$f":"IFERROR(INDEX($H$3:INDIRECT(\"T\"&COUNTIF($G$3:$G$100,\"<>\"&\"\")+2),ROUNDUP(ROW(A459)/COUNTIF($H$2:$AI$2,\"<>\"&\"\"),0),MOD(ROW(A459)-1,COUNTIF($H$2:$AI$2,\"<>\"&\"\"))+1),\"\")","v":""}]
[{"$f":"IFERROR(INDEX($H$3:INDIRECT(\"T\"&COUNTIF($G$3:$G$100,\"<>\"&\"\")+2),ROUNDUP(ROW(A460)/COUNTIF($H$2:$AI$2,\"<>\"&\"\"),0),MOD(ROW(A460)-1,COUNTIF($H$2:$AI$2,\"<>\"&\"\"))+1),\"\")","v":""}]
[{"$f":"IFERROR(INDEX($H$3:INDIRECT(\"T\"&COUNTIF($G$3:$G$100,\"<>\"&\"\")+2),ROUNDUP(ROW(A461)/COUNTIF($H$2:$AI$2,\"<>\"&\"\"),0),MOD(ROW(A461)-1,COUNTIF($H$2:$AI$2,\"<>\"&\"\"))+1),\"\")","v":""}]
[{"$f":"IFERROR(INDEX($H$3:INDIRECT(\"T\"&COUNTIF($G$3:$G$100,\"<>\"&\"\")+2),ROUNDUP(ROW(A462)/COUNTIF($H$2:$AI$2,\"<>\"&\"\"),0),MOD(ROW(A462)-1,COUNTIF($H$2:$AI$2,\"<>\"&\"\"))+1),\"\")","v":""}]
[{"$f":"IFERROR(INDEX($H$3:INDIRECT(\"T\"&COUNTIF($G$3:$G$100,\"<>\"&\"\")+2),ROUNDUP(ROW(A463)/COUNTIF($H$2:$AI$2,\"<>\"&\"\"),0),MOD(ROW(A463)-1,COUNTIF($H$2:$AI$2,\"<>\"&\"\"))+1),\"\")","v":""}]
[{"$f":"IFERROR(INDEX($H$3:INDIRECT(\"T\"&COUNTIF($G$3:$G$100,\"<>\"&\"\")+2),ROUNDUP(ROW(A464)/COUNTIF($H$2:$AI$2,\"<>\"&\"\"),0),MOD(ROW(A464)-1,COUNTIF($H$2:$AI$2,\"<>\"&\"\"))+1),\"\")","v":""}]
[{"$f":"IFERROR(INDEX($H$3:INDIRECT(\"T\"&COUNTIF($G$3:$G$100,\"<>\"&\"\")+2),ROUNDUP(ROW(A465)/COUNTIF($H$2:$AI$2,\"<>\"&\"\"),0),MOD(ROW(A465)-1,COUNTIF($H$2:$AI$2,\"<>\"&\"\"))+1),\"\")","v":""}]
[{"$f":"IFERROR(INDEX($H$3:INDIRECT(\"T\"&COUNTIF($G$3:$G$100,\"<>\"&\"\")+2),ROUNDUP(ROW(A466)/COUNTIF($H$2:$AI$2,\"<>\"&\"\"),0),MOD(ROW(A466)-1,COUNTIF($H$2:$AI$2,\"<>\"&\"\"))+1),\"\")","v":""}]
[{"$f":"IFERROR(INDEX($H$3:INDIRECT(\"T\"&COUNTIF($G$3:$G$100,\"<>\"&\"\")+2),ROUNDUP(ROW(A467)/COUNTIF($H$2:$AI$2,\"<>\"&\"\"),0),MOD(ROW(A467)-1,COUNTIF($H$2:$AI$2,\"<>\"&\"\"))+1),\"\")","v":""}]
[{"$f":"IFERROR(INDEX($H$3:INDIRECT(\"T\"&COUNTIF($G$3:$G$100,\"<>\"&\"\")+2),ROUNDUP(ROW(A468)/COUNTIF($H$2:$AI$2,\"<>\"&\"\"),0),MOD(ROW(A468)-1,COUNTIF($H$2:$AI$2,\"<>\"&\"\"))+1),\"\")","v":""}]
[{"$f":"IFERROR(INDEX($H$3:INDIRECT(\"T\"&COUNTIF($G$3:$G$100,\"<>\"&\"\")+2),ROUNDUP(ROW(A469)/COUNTIF($H$2:$AI$2,\"<>\"&\"\"),0),MOD(ROW(A469)-1,COUNTIF($H$2:$AI$2,\"<>\"&\"\"))+1),\"\")","v":""}]
[{"$f":"IFERROR(INDEX($H$3:INDIRECT(\"T\"&COUNTIF($G$3:$G$100,\"<>\"&\"\")+2),ROUNDUP(ROW(A470)/COUNTIF($H$2:$AI$2,\"<>\"&\"\"),0),MOD(ROW(A470)-1,COUNTIF($H$2:$AI$2,\"<>\"&\"\"))+1),\"\")","v":""}]

{"sheet":"ANNO","index":3,"n_rows":56,"n_cols":63,"rows_kept":56,"cut":false,"hidden":false,"merged":[]}
[null,null,null,null,null,6,7,8,9,10,11,12,13,14,15,16,17,18,19,20,21,22,23,24,25,26,27,28,29,30,31,32,33,34,35,36,37,38,39,40,41,42,43,44,45,46,47,48,49,50,51,52,53,54,55,56,57,58,59,60,61,62,63]
[]
["ANNO","SETTIMANA","DA","A",null,"A","B","C","D","E","F","G","H","I","L","M","N","O","P","Q","R","S","T","U","V","X","Y","Z"]
[]
[2019,{"$f":"_xlfn.ISOWEEKNUM(C5)","v":2},{"$f":"DATE($A$5,1,1)+CHOOSE(WEEKDAY(DATE($A$5,1,1),2),0,6,5,4,3,2,1)","v":"2019-01-07"},{"$f":"C5+4","v":"2019-01-11"}]
[null,{"$f":"_xlfn.ISOWEEKNUM(C6)","v":3},{"$f":"C5+7","v":"2019-01-14"},{"$f":"C6+4","v":"2019-01-18"}]
[null,4,{"$f":"C6+7","v":"2019-01-21"},"2019-01-25"]
[null,5,"2019-01-28","2019-02-01"]
[null,6,"2019-02-04","2019-02-08"]
[null,7,"2019-02-11","2019-02-15"]
[null,8,"2019-02-18","2019-02-22"]
[null,9,"2019-02-25","2019-03-01"]
[null,10,"2019-03-04","2019-03-08"]
[null,11,"2019-03-11","2019-03-15"]
[null,12,"2019-03-18","2019-03-22"]
[null,13,"2019-03-25","2019-03-29"]
[null,14,"2019-04-01","2019-04-05"]
[null,15,"2019-04-08","2019-04-12"]
[null,16,"2019-04-15","2019-04-19"]
[null,17,"2019-04-22","2019-04-26"]
[null,18,"2019-04-29","2019-05-03"]
[null,19,"2019-05-06","2019-05-10"]
[null,20,"2019-05-13","2019-05-17"]
[null,21,"2019-05-20","2019-05-24"]
[null,22,"2019-05-27","2019-05-31"]
[null,23,"2019-06-03","2019-06-07"]
[null,24,"2019-06-10","2019-06-14"]
[null,25,"2019-06-17","2019-06-21"]
[null,26,"2019-06-24","2019-06-28"]
[null,27,"2019-07-01","2019-07-05"]
[null,28,"2019-07-08","2019-07-12"]
[null,29,"2019-07-15","2019-07-19"]
[null,30,"2019-07-22","2019-07-26"]
[null,31,"2019-07-29","2019-08-02"]
[null,32,"2019-08-05","2019-08-09"]
[null,33,"2019-08-12","2019-08-16"]
[null,34,"2019-08-19","2019-08-23"]
[null,35,"2019-08-26","2019-08-30"]
[null,36,"2019-09-02","2019-09-06"]
[null,37,"2019-09-09","2019-09-13"]
[null,38,"2019-09-16","2019-09-20"]
[null,39,"2019-09-23","2019-09-27"]
[null,40,"2019-09-30","2019-10-04"]
[null,41,"2019-10-07","2019-10-11"]
[null,42,"2019-10-14","2019-10-18"]
[null,43,"2019-10-21","2019-10-25"]
[null,44,"2019-10-28","2019-11-01"]
[null,45,"2019-11-04","2019-11-08"]
[null,46,"2019-11-11","2019-11-15"]
[null,47,"2019-11-18","2019-11-22"]
[null,48,"2019-11-25","2019-11-29"]
[null,49,"2019-12-02","2019-12-06"]
[null,50,"2019-12-09","2019-12-13"]
[null,51,"2019-12-16","2019-12-20"]
[null,52,"2019-12-23","2019-12-27"]
[null,1,"2019-12-30","2020-01-03"]